Workbook

Sheet Control de cambios ITT-T-CA-32-
A1: TIPO DE DOCUMENTO | B1: MÉTODO DE IDENTIFICACIÓN DE LOS CAMBIOS Y ESTADO DE REVISIÓN DE LOS MISMOS.
A2: Procedimiento | B2: Los cambios se solicitan por medio de un oficio dirigido al RD, el cual debe incluir; justificación y anexa la copia del documento señalando en él con tinta roja el cambio sugerido. Una vez aprobado el cambio por las mismas personas que autorizaron y revisaron el documento, cuando proceda, según las políticas establecidas en el Procedimiento para el Control de Documentos. (ITT-T-CA-32-PR-01), se asigna su nuevo número de revisión. Los cambios se identifican en la sección “Control de cambios” en cada documento.
A3: Anexo
A4: Registro
A5: Formato s/proced.
A6: Formato Electrónico
A7: Instructivo de trabajo
A8: Instructivos de laboratorios*
A9: Catálogos y manuales
A10: Otros documentos

Sheet Codificación
A1: Unidad Responsable | B1: Clave | C1: Aplica | D1: Clave | E1: Proceso Estratégico | F1: Clave | G1: Consecutivo subproceso | H1: + | I1: Tipo de documento | J1: Clave | K1: Consecutivo
A2: Instituto Tecnológico de Tepic | B2: ITT | C2: Institución | D2: T | E2: Planeación | F2: PL | G2: 01 a 0n | I2: Procedimiento | J2: PR | K2: 01 a 0n
C3: Institución | D3: T | E3: Administración de los Recursos | F3: AD | I3: Anexo | J3: AN
C4: Licenciatura | D4: L | E4: Académico | F4: AC | I4: Registro | J4: RG
C5: Posgrado | D5: P | I5: Formato s/proced. | J5: FO
C6: Licenciatura | D6: L | E6: Vinculación | F6: VI | I6: Formato Electrónico | J6: FE
C7: Posgrado | D7: P | I7: Instructivo de trabajo | J7: IT
C8: Licenciatura | D8: L | E8: Certificación Académica y Titulación | F8: CT | I8: Instructivos de laboratorios* | J8: DT
C9: Posgrado | D9: P | I9: Catálogos y manuales | J9: Nombre Propio
C10: Institución | D10: T | E10: Calidad | F10: CA | I10: Otros documentos | J10: Nombre propio

Sheet Configuración
A1: Unidad | B1: Proceso | C1: Ámbito | D1: Documento | E1: Nombre | F1: Número
A2: ITT | B2: PL | C2: T | D2: PR | E2: Procedimiento | F2: SP
B3: AC | C3: L | D3: AN | E3: Anexo | F3: 1
B4: CT | C4: P | D4: RG | E4: Registro | F4: 2
B5: VI | D5: FO | E5: Formato s/proced. | F5: 3
B6: AD | D6: FE | E6: Formato Electrónico | F6: 4
B7: CA | D7: IT | E7: Instructivo de trabajo | F7: 5
D8: DT | E8: Instructivos de laboratorios* | F8: 6
F9: 7
F10: 8
F11: 9
F12: 10
F13: 11
F14: 12
F15: 13
F16: 14
F17: 15
F18: 16
F19: 17
F20: 18
... F42: 40

Sheet Copia de Asignación de códigos 
A1: Unidad Responsable | B1: Clave | C1: Ámbito de aplicación | D1: Clave | E1: Proceso Estratégico | F1: Clave | G1: Tipo de documento | H1: Clave | I1: Consecutivo
A2: Instituto Tecnológico de Tepic | B2: ITT | C2: Institución | D2: T | E2: Planeación | F2: PL | G2: PROCEDIMIENTO | H2: PR | I2: 01 a 0n
C3: Licenciatura | D3: L | E3: Académico | F3: AC | G3: ANEXOS | H3: AN
C4: Posgrado | D4: P | G4: REGISTRO | H4: RG
E5: Certificación Académica y Titulación | F5: CT | G5: Formato s/proced. | H5: FO
G6: Formato Electrónico | H6: FE
E7: Vinculación | F7: VI | G7: Instructivo de trabajo | H7: IT
E8: Administración de los Recursos | F8: AD | G8: Instructivos de laboratorios* | H8: DT
E9: Calidad | F9: CA
G11: Catálogos y manuales | H11: Nombre Propio
G12: Otros documentos | H12: Nombre propio

Sheet Asignación de códigos 2026 ITT-
A1: Proceso Estratégico | B1: Responsable del proceso | C1: Subproceso | D1: Responsable del subproceso | E1: Nombre de documento | F1: Unidad | G1: Ámbito | H1: P. est. | I1: No. Subpro | J1: Documento | K1: No. Cons | L1: Clave documental | M1: Código-nombre de documento | N1: Revisión | O1: Fecha de revisión | P1: Link de archivo DOC | Q1: PDF: “Toda copia en PAPEL es un Documento No Controlado a excepción del original”
A2: Proceso de Planeación | B2: M.C. Israel Arjona Vizcaíno | C2: PROGRAMACIÓN Y PRESUPUESTACIÓN DE ACTIVIDADES | D2: Arq. Rommel Rodríguez Garay | E2: PROGRAMACIÓN Y PRESUPUESTACIÓN DE ACTIVIDADES | F2: ='Configuración'!$A$2 -> ITT | G2: T | H2: PL | I2: 1 | J2: PR | K2: 1 | L2: =CONCATENATE(F2,"-",G2,"-",H2,"-",TEXT(I2,"0#"),"-",J2,"-",TEXT(K2,"0#")) -> ITT-T-PL-01-PR-01 | M2: =L2&"-"&E2 -> ITT-T-PL-01-PR-01-PROGRAMACIÓN Y PRESUPUESTACIÓN DE ACTIVIDADES | N2: 2 | O2: 46090 | P2: https://docs.google.com/document/d/1faRvWXdWVKvszMDEdjavg_ST1pwD0yn3GgaU6Pn9PA0/edit?usp=drive_link | Q2: https://drive.google.com/file/d/1udIS2fuQwk1-71hdm-3U1xLcunezGZnb/view?usp=drive_link
E3: MATRIZ DE ANÁLISIS DE RIESGO | F3: ='Configuración'!$A$2 -> ITT | G3: T | H3: PL | I3: =IF(C3="",I2,I2+1) -> 1 | J3: AN | K3: 1 | L3: =CONCATENATE(F3,"-",G3,"-",H3,"-",TEXT(I3,"0#"),"-",J3,"-",TEXT(K3,"0#")) -> ITT-T-PL-01-AN-01 | M3: =L3&"-"&E3 -> ITT-T-PL-01-AN-01-MATRIZ DE ANÁLISIS DE RIESGO | N3: 2 | O3: 46093 | P3: https://docs.google.com/spreadsheets/d/1drSiCzHr7MoWX_7Hja_pr60iIcEIKvj3/edit?usp=drive_link&ouid=112467577828699602815&rtpof=true&sd=true | Q3: https://docs.google.com/spreadsheets/d/1drSiCzHr7MoWX_7Hja_pr60iIcEIKvj3/edit?usp=drive_link&ouid=112467577828699602815&rtpof=true&sd=true
A4: Proceso de Administración de Recursos | B4: Lic. Daniel Alejandro García Banda | C4: RECLUTAMIENTO, SELECCIÓN Y CONTRATACIÓN DE PERSONAL | D4: Ing. Adriana Yarim González Ramos | E4: RECLUTAMIENTO, SELECCIÓN Y CONTRATACIÓN DE PERSONAL | F4: ='Configuración'!$A$2 -> ITT | G4: T | H4: AD | I4: =IF(C4="",I3,I3+1) -> 2 | J4: PR | K4: 1 | L4: =CONCATENATE(F4,"-",G4,"-",H4,"-",TEXT(I4,"0#"),"-",J4,"-",TEXT(K4,"0#")) -> ITT-T-AD-02-PR-01 | M4: =L4&"-"&E4 -> ITT-T-AD-02-PR-01-RECLUTAMIENTO, SELECCIÓN Y CONTRATACIÓN DE PERSONAL | N4: 0 | O4: 46093 | P4: https://docs.google.com/document/d/1GasJiSvHnqcLbGjehjpBw_4kJ--Tp3ptciqYRlETWVo/edit?usp=drive_link | Q4: https://drive.google.com/file/d/1wrLFZ24ONf6_KBOS6dD1NQ_K-vhoG7rL/view?usp=drive_link
E5: MATRIZ DE ANÁLISIS DE RIESGO | F5: ='Configuración'!$A$2 -> ITT | G5: T | H5: AD | I5: =IF(C5="",I4,I4+1) -> 2 | J5: AN | K5: 1 | L5: =CONCATENATE(F5,"-",G5,"-",H5,"-",TEXT(I5,"0#"),"-",J5,"-",TEXT(K5,"0#")) -> ITT-T-AD-02-AN-01 | M5: =L5&"-"&E5 -> ITT-T-AD-02-AN-01-MATRIZ DE ANÁLISIS DE RIESGO | N5: 0 | O5: 46107 | P5: https://docs.google.com/spreadsheets/d/1mJ6Xb8MWNmJtfVWAVwlcLFlUq2mWtR3P/edit?usp=drive_link&ouid=112467577828699602815&rtpof=true&sd=true | Q5: https://docs.google.com/spreadsheets/d/1mJ6Xb8MWNmJtfVWAVwlcLFlUq2mWtR3P/edit?usp=drive_link&ouid=112467577828699602815&rtpof=true&sd=true
E6: CONVOCATORIA | F6: ='Configuración'!$A$2 -> ITT | G6: T | H6: AD | I6: =IF(C6="",I5,I5+1) -> 2 | J6: RG | K6: 1 | L6: =CONCATENATE(F6,"-",G6,"-",H6,"-",TEXT(I6,"0#"),"-",J6,"-",TEXT(K6,"0#")) -> ITT-T-AD-02-RG-01 | M6: =L6&"-"&E6 -> ITT-T-AD-02-RG-01-CONVOCATORIA | N6: 0 | O6: 46125 | P6: https://docs.google.com/document/d/1YhiZ3TfzL6NTr0FBp9huWw1lWFXSwv914zt2_ejHRI8/edit?usp=drive_link | Q6: https://drive.google.com/file/d/1OcmWkYlsmG6KPml0ScpNv8ibDyMMsyFt/view?usp=drive_link
E7: REGISTRO DE SOLICITANTES | F7: ='Configuración'!$A$2 -> ITT | G7: T | H7: AD | I7: =IF(C7="",I6,I6+1) -> 2 | J7: RG | K7: 2 | L7: =CONCATENATE(F7,"-",G7,"-",H7,"-",TEXT(I7,"0#"),"-",J7,"-",TEXT(K7,"0#")) -> ITT-T-AD-02-RG-02 | M7: =L7&"-"&E7 -> ITT-T-AD-02-RG-02-REGISTRO DE SOLICITANTES | N7: 1 | O7: 46125 | P7: https://docs.google.com/document/d/1GYCl13zgVmGqqhLdodduQanW-j2zkhO3BtMTRKwAa_o/edit?usp=drive_link | Q7: https://drive.google.com/file/d/1IC_QG_KMnzznuvYhG3mfPNKp2Uqtbk68/view?usp=drive_link
E8: ACTA DE RESULTADOS DE EXAMEN DE OPOSICIÓN | F8: ='Configuración'!$A$2 -> ITT | G8: T | H8: AD | I8: =IF(C8="",I7,I7+1) -> 2 | J8: RG | K8: 3 | L8: =CONCATENATE(F8,"-",G8,"-",H8,"-",TEXT(I8,"0#"),"-",J8,"-",TEXT(K8,"0#")) -> ITT-T-AD-02-RG-03 | M8: =L8&"-"&E8 -> ITT-T-AD-02-RG-03-ACTA DE RESULTADOS DE EXAMEN DE OPOSICIÓN | N8: 0 | O8: 46125 | P8: https://docs.google.com/document/d/1JmLIrV-2XpyUQwJZvqLVbtaWyJkoXipDAXyTsVsI_kA/edit?usp=sharing | Q8: https://drive.google.com/file/d/116nO2rU0xCPX5cOfj420Q_O8_RYyUQv-/view?usp=drive_link
E9: DICTAMEN | F9: ='Configuración'!$A$2 -> ITT | G9: T | H9: AD | I9: =IF(C9="",I8,I8+1) -> 2 | J9: RG | K9: 4 | L9: =CONCATENATE(F9,"-",G9,"-",H9,"-",TEXT(I9,"0#"),"-",J9,"-",TEXT(K9,"0#")) -> ITT-T-AD-02-RG-04 | M9: =L9&"-"&E9 -> ITT-T-AD-02-RG-04-DICTAMEN | N9: 0 | O9: 46125 | P9: https://docs.google.com/document/d/17YQ2PP1Hzn1QimkyLTKR9n8IQgrO9YP9z8Bkrv_EXLg/edit?usp=drive_link | Q9: https://drive.google.com/file/d/1IGYkRbJw1-JtqZy7CctMh-Gg7Fl9BlXM/view?usp=drive_link
A10: Proceso de Administración de Recursos | B10: Lic. Daniel Alejandro García Banda | C10: CAPACITACIÓN DE PERSONAL DOCENTE | D10: Dra. Nydia Teresa Luna Vázquez | E10: CAPACITACIÓN DE PERSONAL DOCENTE | F10: ='Configuración'!$A$2 -> ITT | G10: T | H10: AD | I10: =IF(C10="",I9,I9+1) -> 3 | J10: PR | K10: 1 | L10: =CONCATENATE(F10,"-",G10,"-",H10,"-",TEXT(I10,"0#"),"-",J10,"-",TEXT(K10,"0#")) -> ITT-T-AD-03-PR-01 | M10: =L10&"-"&E10 -> ITT-T-AD-03-PR-01-CAPACITACIÓN DE PERSONAL DOCENTE | N10: 1 | O10: 46097 | P10: https://docs.google.com/document/d/1FSeXx0p4V4uYNzUrh5akBBPb8ekTHt6L9xfsvgX-vO8/edit?usp=drive_link | Q10: https://drive.google.com/file/d/1HNCzQj9Cgh4Q_mLjwCIi3KtYCT9AJP_c/view?usp=drive_link
E11: MATRIZ DE ANÁLISIS DE RIESGO | F11: ='Configuración'!$A$2 -> ITT | G11: T | H11: AD | I11: =IF(C11="",I10,I10+1) -> 3 | J11: AN | K11: 1 | L11: =CONCATENATE(F11,"-",G11,"-",H11,"-",TEXT(I11,"0#"),"-",J11,"-",TEXT(K11,"0#")) -> ITT-T-AD-03-AN-01 | M11: =L11&"-"&E11 -> ITT-T-AD-03-AN-01-MATRIZ DE ANÁLISIS DE RIESGO | N11: 0 | O11: 46096 | P11: https://docs.google.com/spreadsheets/d/1I028he5QvrwvJIvnIREGsOxDfDGkg5b3/edit?usp=drive_link&ouid=112467577828699602815&rtpof=true&sd=true | Q11: https://docs.google.com/spreadsheets/d/1I028he5QvrwvJIvnIREGsOxDfDGkg5b3/edit?usp=drive_link&ouid=112467577828699602815&rtpof=true&sd=true
E12: DIAGNÓSTICO Y CONCENTRADO DE NECESIDADES DE FORMACIÓN Y ACTUALIZACIÓN DOCENTE Y PROFESIONAL | F12: ='Configuración'!$A$2 -> ITT | G12: T | H12: AD | I12: =IF(C12="",I11,I11+1) -> 3 | J12: RG | K12: 1 | L12: =CONCATENATE(F12,"-",G12,"-",H12,"-",TEXT(I12,"0#"),"-",J12,"-",TEXT(K12,"0#")) -> ITT-T-AD-03-RG-01 | M12: =L12&"-"&E12 -> ITT-T-AD-03-RG-01-DIAGNÓSTICO Y CONCENTRADO DE NECESIDADES DE FORMACIÓN Y ACTUALIZACIÓN DOCENTE Y PROFESIONAL | N12: 1 | O12: 46125 | P12: https://docs.google.com/document/d/1OW1ZrdXWzh3rs1xA1qLBCzHB23kVA-Xl_DPE6N8T0LM/edit?usp=sharing | Q12: https://drive.google.com/file/d/1xLP7WaQV4Q3iGjgTqJk2p8SwS3MK33qb/view?usp=drive_link
E13: PROGRAMA INSTITUCIONAL DE FORMACIÓN Y ACTUALIZACIÓN DOCENTE Y PROFESIONAL | F13: ='Configuración'!$A$2 -> ITT | G13: T | H13: AD | I13: =IF(C13="",I12,I12+1) -> 3 | J13: RG | K13: 2 | L13: =CONCATENATE(F13,"-",G13,"-",H13,"-",TEXT(I13,"0#"),"-",J13,"-",TEXT(K13,"0#")) -> ITT-T-AD-03-RG-02 | M13: =L13&"-"&E13 -> ITT-T-AD-03-RG-02-PROGRAMA INSTITUCIONAL DE FORMACIÓN Y ACTUALIZACIÓN DOCENTE Y PROFESIONAL | N13: 1 | O13: 46125 | P13: https://docs.google.com/document/d/1DoJ4tgvkvgPAn6dSd0islC29AJAyXKnNbH0fgQMQXzA/edit?usp=sharing | Q13: https://drive.google.com/file/d/1JC8ur_T48QM-rFZyJAN4vlO36nP5crEj/view?usp=drive_link
E14: LISTA DE ASISTENCIA | F14: ='Configuración'!$A$2 -> ITT | G14: T | H14: AD | I14: =IF(C14="",I13,I13+1) -> 3 | J14: RG | K14: 3 | L14: =CONCATENATE(F14,"-",G14,"-",H14,"-",TEXT(I14,"0#"),"-",J14,"-",TEXT(K14,"0#")) -> ITT-T-AD-03-RG-03 | M14: =L14&"-"&E14 -> ITT-T-AD-03-RG-03-LISTA DE ASISTENCIA | N14: 1 | O14: 46125 | P14: https://docs.google.com/document/d/1wXKpCzXUskL-gaDDI3Y_LnG6uEd59PB8ew7kj5123t0/edit?usp=sharing | Q14: https://drive.google.com/file/d/1D6lHbvE4hv96HrTi19bWjxbE7_f31z8m/view?usp=drive_link
E15: CÉDULA DE INSCRIPCIÓN | F15: ='Configuración'!$A$2 -> ITT | G15: T | H15: AD | I15: =IF(C15="",I14,I14+1) -> 3 | J15: RG | K15: 4 | L15: =CONCATENATE(F15,"-",G15,"-",H15,"-",TEXT(I15,"0#"),"-",J15,"-",TEXT(K15,"0#")) -> ITT-T-AD-03-RG-04 | M15: =L15&"-"&E15 -> ITT-T-AD-03-RG-04-CÉDULA DE INSCRIPCIÓN | N15: 1 | O15: 46125 | P15: https://docs.google.com/document/d/1I7eCJYIFHThHjBYK2AcpBjR3YkvdWqABbiNfpSKwGho/edit?usp=sharing | Q15: https://drive.google.com/file/d/10Ryfar05TytNE8GdgmHF0fFgs_hZmjPJ/view?usp=drive_link
E16: LISTA DE ACREDITACIÓN | F16: ='Configuración'!$A$2 -> ITT | G16: T | H16: AD | I16: =IF(C16="",I15,I15+1) -> 3 | J16: RG | K16: 5 | L16: =CONCATENATE(F16,"-",G16,"-",H16,"-",TEXT(I16,"0#"),"-",J16,"-",TEXT(K16,"0#")) -> ITT-T-AD-03-RG-05 | M16: =L16&"-"&E16 -> ITT-T-AD-03-RG-05-LISTA DE ACREDITACIÓN | N16: 1 | O16: 46125 | P16: https://docs.google.com/document/d/1zQGvkx4QZ0wvkPHFOSDaEBPDTBwD0SuoKrUR9TyFPTw/edit?usp=sharing | Q16: https://drive.google.com/file/d/1ZFk0b9TnruPhI9ZIXWmdOZ9IbQuH9vaJ/view?usp=drive_link
E17: ENCUESTA DE SATISFACCIÓN PARA PARTICIPANTES INSCRITOS | F17: ='Configuración'!$A$2 -> ITT | G17: T | H17: AD | I17: =IF(C17="",I16,I16+1) -> 3 | J17: RG | K17: 6 | L17: =CONCATENATE(F17,"-",G17,"-",H17,"-",TEXT(I17,"0#"),"-",J17,"-",TEXT(K17,"0#")) -> ITT-T-AD-03-RG-06 | M17: =L17&"-"&E17 -> ITT-T-AD-03-RG-06-ENCUESTA DE SATISFACCIÓN PARA PARTICIPANTES INSCRITOS | N17: 1 | O17: 46125 | P17: https://docs.google.com/document/d/1M0Y2B8S01-XQC6M_M3V8cQQxioyf_tw3tw4yjLG-Zec/edit?usp=sharing | Q17: https://drive.google.com/file/d/1iCiBu_YoBnyXwxViaZVJLox6pTaiBrD5/view?usp=drive_link
E18: ENCUESTA DE EFICACIA CAPACITACIÓN DOCENTE AL JEFE ACADÉMICO | F18: ='Configuración'!$A$2 -> ITT | G18: T | H18: AD | I18: =IF(C18="",I17,I17+1) -> 3 | J18: RG | K18: 7 | L18: =CONCATENATE(F18,"-",G18,"-",H18,"-",TEXT(I18,"0#"),"-",J18,"-",TEXT(K18,"0#")) -> ITT-T-AD-03-RG-07 | M18: =L18&"-"&E18 -> ITT-T-AD-03-RG-07-ENCUESTA DE EFICACIA CAPACITACIÓN DOCENTE AL JEFE ACADÉMICO | N18: 0 | O18: 46125 | P18: https://docs.google.com/document/d/1socOlLWDuVkUaq4dHOlHrswBc4WkHHPWYZc7SGlLFKM/edit?usp=sharing | Q18: https://drive.google.com/file/d/140c2rSRQL4sm3bEOxoqtEzbf1OwOxAJ0/view?usp=drive_link
E19: ENCUESTA DE EFICACIA CAPACITACIÓN DOCENTE AL PARTICIPANTE | F19: ='Configuración'!$A$2 -> ITT | G19: T | H19: AD | I19: =IF(C19="",I18,I18+1) -> 3 | J19: RG | K19: 8 | L19: =CONCATENATE(F19,"-",G19,"-",H19,"-",TEXT(I19,"0#"),"-",J19,"-",TEXT(K19,"0#")) -> ITT-T-AD-03-RG-08 | M19: =L19&"-"&E19 -> ITT-T-AD-03-RG-08-ENCUESTA DE EFICACIA CAPACITACIÓN DOCENTE AL PARTICIPANTE | N19: 0 | O19: 46125 | P19: https://docs.google.com/document/d/1iLbSXRl19pbilmjfdwNcGmjgshZkDd35jeuHbmNDlgo/edit?usp=sharing | Q19: https://drive.google.com/file/d/1p3olay7cGEeauxMrA9pSUrY6u9wNHEbl/view?usp=drive_link
A20: Proceso de Administración de Recursos | B20: Lic. Daniel Alejandro García Banda | C20: MANTENIMIENTO DE INFRAESTRUCTURA | D20: Dr. Salvador Salas Carlock | E20: MANTENIMIENTO DE INFRAESTRUCTURA | F20: ='Configuración'!$A$2 -> ITT | G20: T | H20: AD | I20: =IF(C20="",I19,I19+1) -> 4 | J20: PR | K20: 1 | L20: =CONCATENATE(F20,"-",G20,"-",H20,"-",TEXT(I20,"0#"),"-",J20,"-",TEXT(K20,"0#")) -> ITT-T-AD-04-PR-01 | M20: =L20&"-"&E20 -> ITT-T-AD-04-PR-01-MANTENIMIENTO DE INFRAESTRUCTURA | N20: 1 | O20: 46093 | P20: https://docs.google.com/document/d/1omMFdvjEqXiJtGeWTCx1_UlbQMJ9Ph16IQ3CWmuYRuw/edit?usp=drive_link | Q20: https://drive.google.com/file/d/1akhL3j8yXi5KFUq2OKq8VX6GAVcp6tzO/view?usp=drive_link
E21: MATRIZ DE ANÁLISIS DE RIESGO | F21: ='Configuración'!$A$2 -> ITT | G21: T | H21: AD | I21: =IF(C21="",I20,I20+1) -> 4 | J21: AN | K21: 1 | L21: =CONCATENATE(F21,"-",G21,"-",H21,"-",TEXT(I21,"0#"),"-",J21,"-",TEXT(K21,"0#")) -> ITT-T-AD-04-AN-01 | M21: =L21&"-"&E21 -> ITT-T-AD-04-AN-01-MATRIZ DE ANÁLISIS DE RIESGO | N21: 0 | O21: 46094 | P21: https://docs.google.com/spreadsheets/d/1VFNyeIp9GRX8Bxk5UyWDSjy8P3O2DIqY/edit?usp=drive_link&ouid=112467577828699602815&rtpof=true&sd=true | Q21: https://docs.google.com/spreadsheets/d/1VFNyeIp9GRX8Bxk5UyWDSjy8P3O2DIqY/edit?usp=drive_link&ouid=112467577828699602815&rtpof=true&sd=true
E22: LISTA DE VERIFICACIÓN | F22: ='Configuración'!$A$2 -> ITT | G22: T | H22: AD | I22: =IF(C22="",I21,I21+1) -> 4 | J22: RG | K22: 1 | L22: =CONCATENATE(F22,"-",G22,"-",H22,"-",TEXT(I22,"0#"),"-",J22,"-",TEXT(K22,"0#")) -> ITT-T-AD-04-RG-01 | M22: =L22&"-"&E22 -> ITT-T-AD-04-RG-01-LISTA DE VERIFICACIÓN | N22: 2 | O22: 46125 | P22: https://docs.google.com/document/d/1CAiCTpjFRIvfslfaMV0nK1DJL_rToPkOxUrmjJR-noc/edit?usp=sharing | Q22: https://drive.google.com/file/d/1h_vhmlIf76OyKMAuatX_536WQ4GB3Dvt/view?usp=drive_link
E23: SOLICITUD DE MANTENIMIENTO CORRECTIVO | F23: ='Configuración'!$A$2 -> ITT | G23: T | H23: AD | I23: =IF(C23="",I22,I22+1) -> 4 | J23: RG | K23: 2 | L23: =CONCATENATE(F23,"-",G23,"-",H23,"-",TEXT(I23,"0#"),"-",J23,"-",TEXT(K23,"0#")) -> ITT-T-AD-04-RG-02 | M23: =L23&"-"&E23 -> ITT-T-AD-04-RG-02-SOLICITUD DE MANTENIMIENTO CORRECTIVO | N23: 2 | O23: 46125 | P23: https://docs.google.com/document/d/14LF5Lzz032c3TtlVcjb-xWtPxtzEw5C4u7VdhC4lHqc/edit?usp=sharing | Q23: https://drive.google.com/file/d/1HQjOaZpP8ZwNo94AdAXRM0g0qDoeKj7F/view?usp=drive_link
E24: PROGRAMA DE MANTENIMIENTO PREVENTIVO | F24: ='Configuración'!$A$2 -> ITT | G24: T | H24: AD | I24: =IF(C24="",I23,I23+1) -> 4 | J24: RG | K24: 3 | L24: =CONCATENATE(F24,"-",G24,"-",H24,"-",TEXT(I24,"0#"),"-",J24,"-",TEXT(K24,"0#")) -> ITT-T-AD-04-RG-03 | M24: =L24&"-"&E24 -> ITT-T-AD-04-RG-03-PROGRAMA DE MANTENIMIENTO PREVENTIVO | N24: 1 | O24: 46125 | P24: https://docs.google.com/document/d/1au-S3pjliBxGnAsaZBQvSMGQi1Fi8FM269QEJ42-BDQ/edit?usp=sharing | Q24: https://drive.google.com/file/d/1vKlkzIpoDViYEl-rqZEMJj29nNkKXQTC/view?usp=drive_link
E25: ORDEN DE TRABAJO DE MANTENIMIENTO | F25: ='Configuración'!$A$2 -> ITT | G25: T | H25: AD | I25: =IF(C25="",I24,I24+1) -> 4 | J25: RG | K25: 4 | L25: =CONCATENATE(F25,"-",G25,"-",H25,"-",TEXT(I25,"0#"),"-",J25,"-",TEXT(K25,"0#")) -> ITT-T-AD-04-RG-04 | M25: =L25&"-"&E25 -> ITT-T-AD-04-RG-04-ORDEN DE TRABAJO DE MANTENIMIENTO | N25: 2 | O25: 46125 | P25: https://docs.google.com/document/d/1hLU0_ztEwX1HDRaQOFNNkUEP-hJ0wXAu_0BpAcx45c8/edit?usp=sharing | Q25: https://drive.google.com/file/d/1cf-od0MimebGYWeqcOcuyEA-4FSFs8XP/view?usp=drive_link
A26: Proceso de Administración de Recursos | B26: Lic. Daniel Alejandro García Banda | C26: REALIZACIÓN DE COMPRAS DIRECTAS | D26: Ing. José Antonio García Madrigal | E26: REALIZACIÓN DE COMPRAS DIRECTAS | F26: ='Configuración'!$A$2 -> ITT | G26: T | H26: AD | I26: =IF(C26="",I25,I25+1) -> 5 | J26: IT | K26: 1 | L26: =CONCATENATE(F26,"-",G26,"-",H26,"-",TEXT(I26,"0#"),"-",J26,"-",TEXT(K26,"0#")) -> ITT-T-AD-05-IT-01 | M26: =L26&"-"&E26 -> ITT-T-AD-05-IT-01-REALIZACIÓN DE COMPRAS DIRECTAS | N26: 0 | O26: 42606 | P26: https://drive.google.com/file/d/1f4OoXoadv0wAVESfGWQbEPVquT7YsV0e/view?usp=drive_link | Q26: https://drive.google.com/file/d/1f4OoXoadv0wAVESfGWQbEPVquT7YsV0e/view?usp=drive_link
E27: FORMATO PARA SELECCIÓN DE PROVEEDORES | F27: ='Configuración'!$A$2 -> ITT | G27: T | H27: AD | I27: =IF(C27="",I26,I26+1) -> 5 | J27: RG | K27: 1 | L27: =CONCATENATE(F27,"-",G27,"-",H27,"-",TEXT(I27,"0#"),"-",J27,"-",TEXT(K27,"0#")) -> ITT-T-AD-05-RG-01 | M27: =L27&"-"&E27 -> ITT-T-AD-05-RG-01-FORMATO PARA SELECCIÓN DE PROVEEDORES | N27: 1 | O27: 13-abrili-2026 | P27: https://docs.google.com/document/d/1dgqqernIDU1YTrUfw84WVbUxlx_u7t557RWlLqAiRo0/edit?usp=sharing | Q27: https://drive.google.com/file/d/1umRO4L0nQucVd42K0YE5mlRhvprpDrLg/view?usp=drive_link
E28: FORMATO PARA EVALUACIÓN DE PROVEEDORES | F28: ='Configuración'!$A$2 -> ITT | G28: T | H28: AD | I28: =IF(C28="",I27,I27+1) -> 5 | J28: RG | K28: 2 | L28: =CONCATENATE(F28,"-",G28,"-",H28,"-",TEXT(I28,"0#"),"-",J28,"-",TEXT(K28,"0#")) -> ITT-T-AD-05-RG-02 | M28: =L28&"-"&E28 -> ITT-T-AD-05-RG-02-FORMATO PARA EVALUACIÓN DE PROVEEDORES | N28: 1 | O28: 46125 | P28: https://docs.google.com/document/d/1TroHoFaEyHBUp2qZhTrFGnSHnQ2elOfknnSqnybNqzA/edit?usp=sharing | Q28: https://drive.google.com/file/d/1_aGh3SAjLo8D4NnykdbdIr5_qfoDodE6/view?usp=drive_link
E29: FORMATO PARA REQUISICIÓN DE BIENES Y SERVICIOS | F29: ='Configuración'!$A$2 -> ITT | G29: T | H29: AD | I29: =IF(C29="",I28,I28+1) -> 5 | J29: RG | K29: 3 | L29: =CONCATENATE(F29,"-",G29,"-",H29,"-",TEXT(I29,"0#"),"-",J29,"-",TEXT(K29,"0#")) -> ITT-T-AD-05-RG-03 | M29: =L29&"-"&E29 -> ITT-T-AD-05-RG-03-FORMATO PARA REQUISICIÓN DE BIENES Y SERVICIOS | N29: 0 | O29: 46125 | P29: https://docs.google.com/document/d/1zdrGZ8eNXHQxeeo32Ayds124pRrNOrQR9wvz4w748mk/edit?usp=sharing | Q29: https://drive.google.com/file/d/1f-zuBfkR92ladlPJMhl42OdclPFHy7dK/view?usp=drive_link
E30: FORMATO PARA CATALOGO PROVEEDORES APROBADOS | F30: ='Configuración'!$A$2 -> ITT | G30: T | H30: AD | I30: =IF(C30="",I29,I29+1) -> 5 | J30: RG | K30: 4 | L30: =CONCATENATE(F30,"-",G30,"-",H30,"-",TEXT(I30,"0#"),"-",J30,"-",TEXT(K30,"0#")) -> ITT-T-AD-05-RG-04 | M30: =L30&"-"&E30 -> ITT-T-AD-05-RG-04-FORMATO PARA CATALOGO PROVEEDORES APROBADOS | N30: 1 | O30: 46125 | P30: https://docs.google.com/document/d/1rf0tVEWpTZDI_MoMdTPbbiQt3ZlI89jThN5dR0nR9Gk/edit?usp=sharing | Q30: https://drive.google.com/file/d/1Nb4KVyslRkVTjRxndQyiva26EVjqMGH_/view?usp=drive_link
A31: Proceso de Administración de Recursos | B31: Lic. Daniel Alejandro García Banda | C31: PROYECTO INDIVIDUAL | D31: Departamentos Académicos | E31: DESARROLLO DE PROYECTO INDIVIDUAL | F31: ='Configuración'!$A$2 -> ITT | G31: T | H31: AD | I31: =IF(C31="",I30,I30+1) -> 6 | J31: IT | K31: 1 | L31: =CONCATENATE(F31,"-",G31,"-",H31,"-",TEXT(I31,"0#"),"-",J31,"-",TEXT(K31,"0#")) -> ITT-T-AD-06-IT-01 | M31: =L31&"-"&E31 -> ITT-T-AD-06-IT-01-DESARROLLO DE PROYECTO INDIVIDUAL | N31: 0 | O31: 46125 | P31: https://docs.google.com/document/d/1puSvuDWh-Y6wUp1x9tpKY8lEJVM0cqkg7M5BTbfyziQ/edit?usp=sharing | Q31: https://drive.google.com/file/d/1CwfyRmZcPCN8RlnxGoNHUZHUl6alpGh5/view?usp=drive_link
E32: REPORTE DEL PROYECTO INDIVIDUAL DEL DOCENTE | F32: ='Configuración'!$A$2 -> ITT | G32: T | H32: AD | I32: =IF(C32="",I31,I31+1) -> 6 | J32: RG | K32: 1 | L32: =CONCATENATE(F32,"-",G32,"-",H32,"-",TEXT(I32,"0#"),"-",J32,"-",TEXT(K32,"0#")) -> ITT-T-AD-06-RG-01 | M32: =L32&"-"&E32 -> ITT-T-AD-06-RG-01-REPORTE DEL PROYECTO INDIVIDUAL DEL DOCENTE | N32: 0 | O32: 46125 | P32: https://docs.google.com/document/d/1_nV8z6RJ2RuEAKpiLuRvcI7O0ouwYVYUSwnYSo3uS5k/edit?usp=sharing | Q32: https://drive.google.com/file/d/14VNR7gS941ex6Qv_blo2iqi13MLQWehC/view?usp=drive_link
A33: Proceso Académico | B33: Ing. Olivia Guadalupe Treviño Montemayor | C33: INSCRIPCIÓN DEL ESTUDIANTE | D33: M.C. Jesús Francisco Limón Tirado | E33: INSCRIPCIÓN DEL ESTUDIANTE | F33: ='Configuración'!$A$2 -> ITT | G33: L | H33: AC | I33: =IF(C33="",I32,I32+1) -> 7 | J33: PR | K33: 1 | L33: =CONCATENATE(F33,"-",G33,"-",H33,"-",TEXT(I33,"0#"),"-",J33,"-",TEXT(K33,"0#")) -> ITT-L-AC-07-PR-01 | M33: =L33&"-"&E33 -> ITT-L-AC-07-PR-01-INSCRIPCIÓN DEL ESTUDIANTE | N33: 8 | O33: 46098 | P33: https://docs.google.com/document/d/18nSrtTiG63ecPOLk0ViymQ3zk2x6e425YraPGWiyYpI/edit?usp=drive_link | Q33: https://drive.google.com/file/d/1l7VR9wzGEZwUdslzEDMJnc6Wdbc2TWcd/view?usp=drive_link
E34: MATRIZ DE ANÁLISIS DE RIESGO | F34: ='Configuración'!$A$2 -> ITT | G34: L | H34: AC | I34: =IF(C34="",I33,I33+1) -> 7 | J34: AN | K34: 1 | L34: =CONCATENATE(F34,"-",G34,"-",H34,"-",TEXT(I34,"0#"),"-",J34,"-",TEXT(K34,"0#")) -> ITT-L-AC-07-AN-01 | M34: =L34&"-"&E34 -> ITT-L-AC-07-AN-01-MATRIZ DE ANÁLISIS DE RIESGO | N34: 0 | O34: 46098 | P34: https://docs.google.com/spreadsheets/d/10vJYrsmNzITkypqiNGck-Uw2_kmGcI9u/edit?usp=drive_link&ouid=112467577828699602815&rtpof=true&sd=true | Q34: https://docs.google.com/spreadsheets/d/10vJYrsmNzITkypqiNGck-Uw2_kmGcI9u/edit?usp=drive_link&ouid=112467577828699602815&rtpof=true&sd=true
E35: CARTA DE ACEPTACIÓN | F35: ='Configuración'!$A$2 -> ITT | G35: L | H35: AC | I35: =IF(C35="",I34,I34+1) -> 7 | J35: RG | K35: 1 | L35: =CONCATENATE(F35,"-",G35,"-",H35,"-",TEXT(I35,"0#"),"-",J35,"-",TEXT(K35,"0#")) -> ITT-L-AC-07-RG-01 | M35: =L35&"-"&E35 -> ITT-L-AC-07-RG-01-CARTA DE ACEPTACIÓN | N35: 0 | O35: 46097 | P35: https://docs.google.com/document/d/1X-ogTZiJgzPXtr5YAtxNeM3L6nyJyG15db-Ramm0xZE/edit?usp=sharing | Q35: https://drive.google.com/file/d/1_wrAtBqirX0xZ42YnstZTgIlZjomGunA/view?usp=drive_link
E36: SOLICITUD DE INSCRIPCIÓN | F36: ='Configuración'!$A$2 -> ITT | G36: L | H36: AC | I36: =IF(C36="",I35,I35+1) -> 7 | J36: RG | K36: 2 | L36: =CONCATENATE(F36,"-",G36,"-",H36,"-",TEXT(I36,"0#"),"-",J36,"-",TEXT(K36,"0#")) -> ITT-L-AC-07-RG-02 | M36: =L36&"-"&E36 -> ITT-L-AC-07-RG-02-SOLICITUD DE INSCRIPCIÓN | N36: 0 | O36: 46125 | P36: https://docs.google.com/document/d/1yRErR159eYUhp7XPkDGhiBZ369Rrdj2NA6XitB4iAD0/edit?usp=drive_link | Q36: https://drive.google.com/file/d/1SIsc9PPu58BYbdY5MnSzhaIPlgTJBmTj/view?usp=drive_link
E37: CONTRATO CON EL ALUMNO | F37: ='Configuración'!$A$2 -> ITT | G37: L | H37: AC | I37: =IF(C37="",I36,I36+1) -> 7 | J37: RG | K37: 3 | L37: =CONCATENATE(F37,"-",G37,"-",H37,"-",TEXT(I37,"0#"),"-",J37,"-",TEXT(K37,"0#")) -> ITT-L-AC-07-RG-03 | M37: =L37&"-"&E37 -> ITT-L-AC-07-RG-03-CONTRATO CON EL ALUMNO | N37: 0 | O37: 46125 | P37: https://docs.google.com/document/d/1DAKnhYRV99Ag1qI-w-M_Nem1o2FCrTFtT_L6QGM-zgw/edit?usp=sharing | Q37: https://drive.google.com/file/d/16YGF8Bo0AZEkRGwfUQEUFGg8KAYHi7Ct/view?usp=drive_link
E38: LIBRO DE REGISTRO DE NÚMEROS DE CONTROL | F38: ='Configuración'!$A$2 -> ITT | G38: L | H38: AC | I38: =IF(C38="",I37,I37+1) -> 7 | J38: RG | K38: 4 | L38: =CONCATENATE(F38,"-",G38,"-",H38,"-",TEXT(I38,"0#"),"-",J38,"-",TEXT(K38,"0#")) -> ITT-L-AC-07-RG-04 | M38: =L38&"-"&E38 -> ITT-L-AC-07-RG-04-LIBRO DE REGISTRO DE NÚMEROS DE CONTROL | N38: 0 | O38: 46125 | P38: https://docs.google.com/document/d/1uzcFOZI82UWsnR2qBz_JBr80ea_CmsAMTEDgIiGD4Ag/edit?usp=sharing | Q38: https://drive.google.com/file/d/1_kLrOORm04uh3Rv42QCyCIpJhqcaY2Im/view?usp=drive_link
A39: Proceso Académico | B39: Ing. Olivia Guadalupe Treviño Montemayor | C39: INGRESO DE ESTUDIANTES DE POSGRADO | D39: M.C. Luz del Carmen Romero Islas | E39: INGRESO DE ESTUDIANTES DE POSGRADO | F39: ='Configuración'!$A$2 -> ITT | G39: P | H39: AC | I39: =IF(C39="",I38,I38+1) -> 8 | J39: PR | K39: 1 | L39: =CONCATENATE(F39,"-",G39,"-",H39,"-",TEXT(I39,"0#"),"-",J39,"-",TEXT(K39,"0#")) -> ITT-P-AC-08-PR-01 | M39: =L39&"-"&E39 -> ITT-P-AC-08-PR-01-INGRESO DE ESTUDIANTES DE POSGRADO | N39: 0 | O39: 46092 | P39: https://docs.google.com/document/d/1aQ2fdZGwewllQJ51kRbeHSvHQCQyMo6iLxSHfmjRAEA/edit?usp=drive_link | Q39: https://drive.google.com/file/d/1bDW5tEdHFAG6hdfAchH6tXjrDnVZGwxv/view?usp=drive_link
E40: MATRIZ DE ANÁLISIS DE RIESGO | F40: ='Configuración'!$A$2 -> ITT | G40: P | H40: AC | I40: =IF(C40="",I39,I39+1) -> 8 | J40: AN | K40: 1 | L40: =CONCATENATE(F40,"-",G40,"-",H40,"-",TEXT(I40,"0#"),"-",J40,"-",TEXT(K40,"0#")) -> ITT-P-AC-08-AN-01 | M40: =L40&"-"&E40 -> ITT-P-AC-08-AN-01-MATRIZ DE ANÁLISIS DE RIESGO | N40: 0 | O40: 6620468 | P40: https://docs.google.com/spreadsheets/d/15D9l-xk6uv5JnT-UdIJnl83Pj8eV_xLQ/edit?usp=drive_link&ouid=112467577828699602815&rtpof=true&sd=true | Q40: https://docs.google.com/spreadsheets/d/15D9l-xk6uv5JnT-UdIJnl83Pj8eV_xLQ/edit?usp=drive_link&ouid=112467577828699602815&rtpof=true&sd=true
E41: SOLICITUD DE ADMISIÓN PARA ASPIRANTES NACIONALES | F41: ='Configuración'!$A$2 -> ITT | G41: P | H41: AC | I41: =IF(C41="",I40,I40+1) -> 8 | J41: RG | K41: 1 | L41: =CONCATENATE(F41,"-",G41,"-",H41,"-",TEXT(I41,"0#"),"-",J41,"-",TEXT(K41,"0#")) -> ITT-P-AC-08-RG-01 | M41: =L41&"-"&E41 -> ITT-P-AC-08-RG-01-SOLICITUD DE ADMISIÓN PARA ASPIRANTES NACIONALES | N41: 0 | O41: 46126 | P41: https://docs.google.com/document/d/1hpRWloXAAYklP2lc6FLit8KvlClEPzQiCe2MdpZRu4w/edit?usp=sharing | Q41: https://drive.google.com/file/d/1O4BcXTrF9o-h6y5EKIeMg6rvcJyV-xhp/view?usp=drive_link
E42: SOLICITUD DE ADMISIÓN PARA ASPIRANTES EXTRANJEROS | F42: ='Configuración'!$A$2 -> ITT | G42: P | H42: AC | I42: =IF(C42="",I41,I41+1) -> 8 | J42: RG | K42: 2 | L42: =CONCATENATE(F42,"-",G42,"-",H42,"-",TEXT(I42,"0#"),"-",J42,"-",TEXT(K42,"0#")) -> ITT-P-AC-08-RG-02 | M42: =L42&"-"&E42 -> ITT-P-AC-08-RG-02-SOLICITUD DE ADMISIÓN PARA ASPIRANTES EXTRANJEROS | N42: 0 | O42: 46126 | P42: https://docs.google.com/document/d/1vEKY21Dun8oop5VeEWXiAoZs75qOSv2S1X8CsasUYpI/edit?usp=sharing | Q42: https://drive.google.com/file/d/1URdBRzaP4OW9m_HjhO1DVD_hK9w6bcea/view?usp=drive_link
A43: Proceso Académico | B43: Ing. Olivia Guadalupe Treviño Montemayor | C43: REINSCRIPCIÓN DEL ESTUDIANTE | D43: M.C. Jesús Francisco Limón Tirado | E43: REINSCRIPCIÓN DEL ESTUDIANTE | F43: ='Configuración'!$A$2 -> ITT | G43: L | H43: AC | I43: =IF(C43="",I40,I40+1) -> 9 | J43: PR | K43: 1 | L43: =CONCATENATE(F43,"-",G43,"-",H43,"-",TEXT(I43,"0#"),"-",J43,"-",TEXT(K43,"0#")) -> ITT-L-AC-09-PR-01 | M43: =L43&"-"&E43 -> ITT-L-AC-09-PR-01-REINSCRIPCIÓN DEL ESTUDIANTE | N43: 1 | O43: 46091 | P43: https://docs.google.com/document/d/1IH1s2oFhoaRQT7yg8puBq7iQKFNXEY64HGHT0BjCWLI/edit?usp=drive_link | Q43: https://drive.google.com/file/d/1a7eZ5DD63-JlQldTWTrI5kHzVKYUvClZ/view?usp=drive_link
E44: MATRIZ DE ANÁLISIS DE RIESGO | F44: ='Configuración'!$A$2 -> ITT | G44: L | H44: AC | I44: =IF(C44="",I43,I43+1) -> 9 | J44: AN | K44: 1 | L44: =CONCATENATE(F44,"-",G44,"-",H44,"-",TEXT(I44,"0#"),"-",J44,"-",TEXT(K44,"0#")) -> ITT-L-AC-09-AN-01 | M44: =L44&"-"&E44 -> ITT-L-AC-09-AN-01-MATRIZ DE ANÁLISIS DE RIESGO | N44: 1 | O44: 46094 | P44: https://docs.google.com/spreadsheets/d/17AyI7TEs-BFP65GfnBN7BvRUCFi4l6wp/edit?usp=drive_link&ouid=112467577828699602815&rtpof=true&sd=true | Q44: https://docs.google.com/spreadsheets/d/17AyI7TEs-BFP65GfnBN7BvRUCFi4l6wp/edit?usp=drive_link&ouid=112467577828699602815&rtpof=true&sd=true
A45: Proceso Académico | B45: Ing. Olivia Guadalupe Treviño Montemayor | C45: SEGUIMIENTO ACADÉMICO A ESTUDIANTES DE MAESTRÍA | D45: M.C. Luz del Carmen Romero Islas | E45: SEGUIMIENTO ACADÉMICO A ESTUDIANTES DE MAESTRÍA | F45: ='Configuración'!$A$2 -> ITT | G45: P | H45: AC | I45: =IF(C45="",I44,I44+1) -> 10 | J45: PR | K45: 1 | L45: =CONCATENATE(F45,"-",G45,"-",H45,"-",TEXT(I45,"0#"),"-",J45,"-",TEXT(K45,"0#")) -> ITT-P-AC-10-PR-01 | M45: =L45&"-"&E45 -> ITT-P-AC-10-PR-01-SEGUIMIENTO ACADÉMICO A ESTUDIANTES DE MAESTRÍA | N45: 0 | O45: 46092 | P45: https://docs.google.com/document/d/1YjvJBOahR6z0t_MyzR1OF6Hwrebonf7ylJgVEKVlxWU/edit?usp=drive_link | Q45: https://drive.google.com/file/d/1p9145sK8TOXEpOtVFhbszMBLLil8jmzF/view?usp=drive_link
E46: MATRIZ DE ANÁLISIS DE RIESGO | F46: ='Configuración'!$A$2 -> ITT | G46: P | H46: AC | I46: =IF(C46="",I45,I45+1) -> 10 | J46: AN | K46: 1 | L46: =CONCATENATE(F46,"-",G46,"-",H46,"-",TEXT(I46,"0#"),"-",J46,"-",TEXT(K46,"0#")) -> ITT-P-AC-10-AN-01 | M46: =L46&"-"&E46 -> ITT-P-AC-10-AN-01-MATRIZ DE ANÁLISIS DE RIESGO | N46: 0 | O46: 46103 | P46: https://docs.google.com/spreadsheets/d/1uKfL8zLMmbFphqQfWmAtejxYvE6TWQX6/edit?usp=drive_link&ouid=112467577828699602815&rtpof=true&sd=true | Q46: https://docs.google.com/spreadsheets/d/1uKfL8zLMmbFphqQfWmAtejxYvE6TWQX6/edit?usp=drive_link&ouid=112467577828699602815&rtpof=true&sd=true
E47: ASIGNACIÓN DE CALIFICACIONES DE COMITÉ TUTORIAL DE PROTOCOLO DEL TEMA DE TESIS | F47: ='Configuración'!$A$2 -> ITT | G47: P | H47: AC | I47: =IF(C47="",I46,I46+1) -> 10 | J47: RG | K47: 1 | L47: =CONCATENATE(F47,"-",G47,"-",H47,"-",TEXT(I47,"0#"),"-",J47,"-",TEXT(K47,"0#")) -> ITT-P-AC-10-RG-01 | M47: =L47&"-"&E47 -> ITT-P-AC-10-RG-01-ASIGNACIÓN DE CALIFICACIONES DE COMITÉ TUTORIAL DE PROTOCOLO DEL TEMA DE TESIS | N47: 0 | O47: 46126 | P47: https://docs.google.com/document/d/1pZBhFGvggB8U1rvjn7aq5RlKt2Q-vx7xge6q4JP9ero/edit?usp=drive_link | Q47: https://drive.google.com/file/d/1vC6xtNVGLCo8NlIdBABHUNFjvRGuliXz/view?usp=drive_link
E48: ASIGNACIÓN DE CALIFICACIONES DE COMITÉ TUTORIAL DE AVANCE O CULMINACIÓN DEL TEMA DE TESIS | F48: ='Configuración'!$A$2 -> ITT | G48: P | H48: AC | I48: =IF(C48="",I47,I47+1) -> 10 | J48: RG | K48: 2 | L48: =CONCATENATE(F48,"-",G48,"-",H48,"-",TEXT(I48,"0#"),"-",J48,"-",TEXT(K48,"0#")) -> ITT-P-AC-10-RG-02 | M48: =L48&"-"&E48 -> ITT-P-AC-10-RG-02-ASIGNACIÓN DE CALIFICACIONES DE COMITÉ TUTORIAL DE AVANCE O CULMINACIÓN DEL TEMA DE TESIS | N48: 0 | O48: 46126 | P48: https://docs.google.com/document/d/15ueMpj5cwyCOU6Hys4ejL7gO6moymxYXj_436J43z24/edit?usp=drive_link | Q48: https://drive.google.com/file/d/1OgarbRinQZr-VlG5Q8pd2thCgCloemg-/view?usp=drive_link
A49: Proceso Académico | B49: Ing. Olivia Guadalupe Treviño Montemayor | C49: SEGUIMIENTO ACADÉMICO A ESTUDIANTES DE DOCTORADO | D49: M.C. Luz del Carmen Romero Islas | E49: SEGUIMIENTO ACADÉMICO A ESTUDIANTES DE DOCTORADO | F49: ='Configuración'!$A$2 -> ITT | G49: P | H49: AC | I49: =IF(C49="",I46,I46+1) -> 11 | J49: PR | K49: 1 | L49: =CONCATENATE(F49,"-",G49,"-",H49,"-",TEXT(I49,"0#"),"-",J49,"-",TEXT(K49,"0#")) -> ITT-P-AC-11-PR-01 | M49: =L49&"-"&E49 -> ITT-P-AC-11-PR-01-SEGUIMIENTO ACADÉMICO A ESTUDIANTES DE DOCTORADO | N49: 0 | O49: 46093 | P49: https://docs.google.com/document/d/1mVVwYqZLYJRhA2R6r9DPt9T1BmsIiyZrAcl3gi4855U/edit?usp=drive_link | Q49: https://drive.google.com/file/d/1xNYVDwEARVA1HdNYCZr3lBhNJ-vNbbli/view?usp=drive_link
E50: MATRIZ DE ANÁLISIS DE RIESGO | F50: ='Configuración'!$A$2 -> ITT | G50: P | H50: AC | I50: =IF(C50="",I49,I49+1) -> 11 | J50: AN | K50: 1 | L50: =CONCATENATE(F50,"-",G50,"-",H50,"-",TEXT(I50,"0#"),"-",J50,"-",TEXT(K50,"0#")) -> ITT-P-AC-11-AN-01 | M50: =L50&"-"&E50 -> ITT-P-AC-11-AN-01-MATRIZ DE ANÁLISIS DE RIESGO | N50: 0 | O50: 46103 | P50: https://docs.google.com/spreadsheets/d/1yHkAeosbJ63BqdpxsPicHo4BStIvbZgR/edit?usp=drive_link&ouid=112467577828699602815&rtpof=true&sd=true | Q50: https://docs.google.com/spreadsheets/d/1yHkAeosbJ63BqdpxsPicHo4BStIvbZgR/edit?usp=drive_link&ouid=112467577828699602815&rtpof=true&sd=true
E51: ASIGNACIÓN DE CALIFICACIONES DE COMITÉ TUTORIAL DE PROTOCOLO DEL TEMA DE TESIS | F51: ='Configuración'!$A$2 -> ITT | G51: P | H51: AC | I51: =IF(C51="",I50,I50+1) -> 11 | J51: RG | K51: 1 | L51: =CONCATENATE(F51,"-",G51,"-",H51,"-",TEXT(I51,"0#"),"-",J51,"-",TEXT(K51,"0#")) -> ITT-P-AC-11-RG-01 | M51: =L51&"-"&E51 -> ITT-P-AC-11-RG-01-ASIGNACIÓN DE CALIFICACIONES DE COMITÉ TUTORIAL DE PROTOCOLO DEL TEMA DE TESIS | N51: 0 | O51: 46126 | P51: https://docs.google.com/document/d/17pXS5tVgvFSAFZjNXxqSG-SMhQvf6BPSbVQxzVOKIIM/edit?usp=drive_link | Q51: https://drive.google.com/file/d/1VimivjxMcVYikjfMb9ZLH8pNu3y0JzE1/view?usp=drive_link
E52: ASIGNACIÓN DE CALIFICACIONES DE COMITÉ TUTORIAL DE AVANCE O CULMINACIÓN DEL TEMA DE TESIS | F52: ='Configuración'!$A$2 -> ITT | G52: P | H52: AC | I52: =IF(C52="",I51,I51+1) -> 11 | J52: RG | K52: 2 | L52: =CONCATENATE(F52,"-",G52,"-",H52,"-",TEXT(I52,"0#"),"-",J52,"-",TEXT(K52,"0#")) -> ITT-P-AC-11-RG-02 | M52: =L52&"-"&E52 -> ITT-P-AC-11-RG-02-ASIGNACIÓN DE CALIFICACIONES DE COMITÉ TUTORIAL DE AVANCE O CULMINACIÓN DEL TEMA DE TESIS | N52: 0 | O52: 46126 | P52: https://docs.google.com/document/d/1iCDeCl1MW91QbZ6I_Hwu5IfKIrp02TfgJmiGAyNYDA0/edit?usp=drive_link | Q52: https://drive.google.com/file/d/1paQ-cEPcD8GWMt9WJgPs5rvRxOMEuoeP/view?usp=drive_link
A53: Proceso Académico | B53: Ing. Olivia Guadalupe Treviño Montemayor | C53: GESTIÓN DEL CURSO | D53: Departamentos Académicos | E53: GESTIÓN DEL CURSO | F53: ='Configuración'!$A$2 -> ITT | G53: L | H53: AC | I53: =IF(C53="",I50,I50+1) -> 12 | J53: PR | K53: 1 | L53: =CONCATENATE(F53,"-",G53,"-",H53,"-",TEXT(I53,"0#"),"-",J53,"-",TEXT(K53,"0#")) -> ITT-L-AC-12-PR-01 | M53: =L53&"-"&E53 -> ITT-L-AC-12-PR-01-GESTIÓN DEL CURSO | N53: 1 | O53: 46091 | P53: https://docs.google.com/document/d/1Yf3Hwrb-hrHy7pWAtPw9qKGkssvyjmdjX8G2m0vkPPM/edit?usp=drive_link | Q53: https://drive.google.com/file/d/1-XFaZWsXeBIoDPQN2G8P0HkPhspryQx0/view?usp=drive_link
E54: MATRIZ DE ANÁLISIS DE RIESGO | F54: ='Configuración'!$A$2 -> ITT | G54: L | H54: AC | I54: =IF(C54="",I53,I53+1) -> 12 | J54: AN | K54: 1 | L54: =CONCATENATE(F54,"-",G54,"-",H54,"-",TEXT(I54,"0#"),"-",J54,"-",TEXT(K54,"0#")) -> ITT-L-AC-12-AN-01 | M54: =L54&"-"&E54 -> ITT-L-AC-12-AN-01-MATRIZ DE ANÁLISIS DE RIESGO | N54: 0 | O54: 46101 | P54: https://docs.google.com/spreadsheets/d/1u2i5YrvGhk2bFtk9zByegtQP6fqrUmv2/edit?usp=drive_link&ouid=112467577828699602815&rtpof=true&sd=true | Q54: https://docs.google.com/spreadsheets/d/1u2i5YrvGhk2bFtk9zByegtQP6fqrUmv2/edit?usp=drive_link&ouid=112467577828699602815&rtpof=true&sd=true
E55: INSTRUMENTACIÓN DIDÁCTICA | F55: ='Configuración'!$A$2 -> ITT | G55: L | H55: AC | I55: =IF(C55="",I54,I54+1) -> 12 | J55: RG | K55: 1 | L55: =CONCATENATE(F55,"-",G55,"-",H55,"-",TEXT(I55,"0#"),"-",J55,"-",TEXT(K55,"0#")) -> ITT-L-AC-12-RG-01 | M55: =L55&"-"&E55 -> ITT-L-AC-12-RG-01-INSTRUMENTACIÓN DIDÁCTICA | N55: 0 | O55: 46126 | P55: https://docs.google.com/document/d/13cv2wt3Ho0d-ndn0wodpl61MIMk5i-WVtJ7ZSN7kRIE/edit?usp=sharing | Q55: https://drive.google.com/file/d/1Wc_mIVH-S8218YIJvmuN44W0E9DuhViD/view?usp=drive_link
E56: REPORTE FINAL DEL SEMESTRE | F56: ='Configuración'!$A$2 -> ITT | G56: L | H56: AC | I56: =IF(C56="",I55,I55+1) -> 12 | J56: RG | K56: 3 | L56: =CONCATENATE(F56,"-",G56,"-",H56,"-",TEXT(I56,"0#"),"-",J56,"-",TEXT(K56,"0#")) -> ITT-L-AC-12-RG-03 | M56: =L56&"-"&E56 -> ITT-L-AC-12-RG-03-REPORTE FINAL DEL SEMESTRE | N56: 1 | O56: 46125 | P56: https://docs.google.com/document/d/1fxz9mBLlnYBWtJw6SQj1uchv46WpE2vkkw3M0iEXibE/edit?usp=sharing | Q56: https://drive.google.com/file/d/1anBvbijoq21utDDSebXwEgweZ1EqX27n/view?usp=drive_link
E57: LIBERACIÓN DE ACTIVIDADES DOCENTES | F57: ='Configuración'!$A$2 -> ITT | G57: L | H57: AC | I57: =IF(C57="",I56,I56+1) -> 12 | J57: RG | K57: 4 | L57: =CONCATENATE(F57,"-",G57,"-",H57,"-",TEXT(I57,"0#"),"-",J57,"-",TEXT(K57,"0#")) -> ITT-L-AC-12-RG-04 | M57: =L57&"-"&E57 -> ITT-L-AC-12-RG-04-LIBERACIÓN DE ACTIVIDADES DOCENTES | N57: 1 | O57: 46125 | P57: https://docs.google.com/document/d/1LfZ77rNRIH6m3AH8udrMWfLFTQpWM_iNrVPnK_1TvT4/edit?usp=drive_link | Q57: https://drive.google.com/file/d/1mUNwrlpWlMFV_A8urqubIRZsOYT7Il3t/view?usp=drive_link
E58: ACTA DE CALIFICACIONES | F58: ='Configuración'!$A$2 -> ITT | G58: L | H58: AC | I58: =IF(C58="",I57,I57+1) -> 12 | J58: RG | K58: 5 | L58: =CONCATENATE(F58,"-",G58,"-",H58,"-",TEXT(I58,"0#"),"-",J58,"-",TEXT(K58,"0#")) -> ITT-L-AC-12-RG-05 | M58: =L58&"-"&E58 -> ITT-L-AC-12-RG-05-ACTA DE CALIFICACIONES | N58: 0 | O58: 46126 | P58: https://docs.google.com/document/d/1ZRes24wJtgYfa73um4qTnpvv9kqmPmuLjm7iNDSTRXo/edit?usp=sharing | Q58: https://drive.google.com/file/d/1RGE_1jZuflSZurp1yMHYheynXLwDEaO0/view?usp=drive_link
A59: Proceso Académico | B59: Ing. Olivia Guadalupe Treviño Montemayor | C59: TUTORÍA | D59: Dra. Nydia Teresa Luna Vázquez | E59: ACREDITACIÓN DE TUTORÍAS | F59: ='Configuración'!$A$2 -> ITT | G59: L | H59: AC | I59: =IF(C59="",I58,I58+1) -> 13 | J59: PR | K59: 1 | L59: =CONCATENATE(F59,"-",G59,"-",H59,"-",TEXT(I59,"0#"),"-",J59,"-",TEXT(K59,"0#")) -> ITT-L-AC-13-PR-01 | M59: =L59&"-"&E59 -> ITT-L-AC-13-PR-01-ACREDITACIÓN DE TUTORÍAS | N59: 1 | O59: 46058 | P59: https://docs.google.com/document/d/1ISsbpVUkfqpj2gTRg-6qL-pESFAS46PhlsvctFFvLis/edit?usp=sharing | Q59: https://drive.google.com/file/d/1aDBCiDqbLKpYLtE_Atn6waXYzFkvxeOc/view?usp=drive_link
E60: MATRIZ DE ANÁLISIS DE RIESGO | F60: ='Configuración'!$A$2 -> ITT | G60: L | H60: AC | I60: =IF(C60="",I59,I59+1) -> 13 | J60: AN | K60: 1 | L60: =CONCATENATE(F60,"-",G60,"-",H60,"-",TEXT(I60,"0#"),"-",J60,"-",TEXT(K60,"0#")) -> ITT-L-AC-13-AN-01 | M60: =L60&"-"&E60 -> ITT-L-AC-13-AN-01-MATRIZ DE ANÁLISIS DE RIESGO | N60: 0 | O60: 04-frebrero-2026 | P60: https://docs.google.com/spreadsheets/d/1ad7tmzqeYnHD86Q9oGIGUSSYike6SwQDDW6jd-HeICg/edit?usp=sharing | Q60: https://docs.google.com/spreadsheets/d/1ad7tmzqeYnHD86Q9oGIGUSSYike6SwQDDW6jd-HeICg/edit?usp=sharing
E61: PLAN DE ACCIÓN SEMESTRAL TUTORÍAS | F61: ='Configuración'!$A$2 -> ITT | G61: L | H61: AC | I61: =IF(C61="",I60,I60+1) -> 13 | J61: RG | K61: 1 | L61: =CONCATENATE(F61,"-",G61,"-",H61,"-",TEXT(I61,"0#"),"-",J61,"-",TEXT(K61,"0#")) -> ITT-L-AC-13-RG-01 | M61: =L61&"-"&E61 -> ITT-L-AC-13-RG-01-PLAN DE ACCIÓN SEMESTRAL TUTORÍAS | N61: 0 | O61: 45323 | P61: https://docs.google.com/document/d/153f6ocQ0poWkddn2NMH2yp_kq84-IVMoHAdMMcUIIfw/edit?usp=drive_link | Q61: https://drive.google.com/file/d/1ib0bV2PnmE9vNXx9FFDqpqLhjWQSSPkB/view?usp=drive_link
E62: FICHA DE IDENTIFICACIÓN DEL TUTORADO | F62: ='Configuración'!$A$2 -> ITT | G62: L | H62: AC | I62: =IF(C62="",I61,I61+1) -> 13 | J62: RG | K62: 2 | L62: =CONCATENATE(F62,"-",G62,"-",H62,"-",TEXT(I62,"0#"),"-",J62,"-",TEXT(K62,"0#")) -> ITT-L-AC-13-RG-02 | M62: =L62&"-"&E62 -> ITT-L-AC-13-RG-02-FICHA DE IDENTIFICACIÓN DEL TUTORADO | N62: 0 | O62: 45323 | P62: https://docs.google.com/document/d/1vVOCGrO-RNWnCz7AokbYxJMNmdlNgqjyhfKMMn0Nzrc/edit?usp=drive_link | Q62: https://drive.google.com/file/d/1LFNLZmXhoc8BR3X9BRWtdNnOdWskO82R/view?usp=drive_link
E63: FORMATO DE ENTREVISTA | F63: ='Configuración'!$A$2 -> ITT | G63: L | H63: AC | I63: =IF(C63="",I62,I62+1) -> 13 | J63: RG | K63: 3 | L63: =CONCATENATE(F63,"-",G63,"-",H63,"-",TEXT(I63,"0#"),"-",J63,"-",TEXT(K63,"0#")) -> ITT-L-AC-13-RG-03 | M63: =L63&"-"&E63 -> ITT-L-AC-13-RG-03-FORMATO DE ENTREVISTA | N63: 0 | O63: 45323 | P63: https://docs.google.com/document/d/1Wrz-go8cU5z6Lg07Bs4e4QHz8s5iQ4i4NpPT0jWr0bs/edit?usp=sharing | Q63: https://drive.google.com/file/d/1k4LFmnsWIIzDCFVREy2ZcqoPVplu_dmR/view?usp=drive_link
E64: REPORTE DEL TUTOR | F64: ='Configuración'!$A$2 -> ITT | G64: L | H64: AC | I64: =IF(C64="",I63,I63+1) -> 13 | J64: RG | K64: 4 | L64: =CONCATENATE(F64,"-",G64,"-",H64,"-",TEXT(I64,"0#"),"-",J64,"-",TEXT(K64,"0#")) -> ITT-L-AC-13-RG-04 | M64: =L64&"-"&E64 -> ITT-L-AC-13-RG-04-REPORTE DEL TUTOR | N64: 0 | O64: 45323 | P64: https://docs.google.com/spreadsheets/d/1oAiRKshpFDRZV2IwW27KXN71ZrA7pTpT_fXYNSanH0Y/edit?usp=sharing | Q64: https://docs.google.com/spreadsheets/d/1oAiRKshpFDRZV2IwW27KXN71ZrA7pTpT_fXYNSanH0Y/edit?usp=sharing
E65: REPORTE DEL COORDINADOR INSTITUCIONAL DE TUTORIA | F65: ='Configuración'!$A$2 -> ITT | G65: L | H65: AC | I65: =IF(C65="",I64,I64+1) -> 13 | J65: RG | K65: 5 | L65: =CONCATENATE(F65,"-",G65,"-",H65,"-",TEXT(I65,"0#"),"-",J65,"-",TEXT(K65,"0#")) -> ITT-L-AC-13-RG-05 | M65: =L65&"-"&E65 -> ITT-L-AC-13-RG-05-REPORTE DEL COORDINADOR INSTITUCIONAL DE TUTORIA | N65: 0 | O65: 45323 | P65: https://docs.google.com/spreadsheets/d/1ui0moPv-PERprVGsA-tYs6eDSAvF1MX7kW6-GUhKOnk/edit?usp=sharing | Q65: https://docs.google.com/spreadsheets/d/1ui0moPv-PERprVGsA-tYs6eDSAvF1MX7kW6-GUhKOnk/edit?usp=sharing
A66: Proceso Académico | B66: Ing. Olivia Guadalupe Treviño Montemayor | C66: ADMINISTRACIÓN Y DESARROLLO DE PROYECTOS | D66: M.C. Luz del Carmen Romero Islas | E66: ADMINISTRACIÓN Y DESARROLLO DE PROYECTOS | F66: ='Configuración'!$A$2 -> ITT | G66: P | H66: AC | I66: =IF(C66="",I65,I65+1) -> 14 | J66: PR | K66: 1 | L66: =CONCATENATE(F66,"-",G66,"-",H66,"-",TEXT(I66,"0#"),"-",J66,"-",TEXT(K66,"0#")) -> ITT-P-AC-14-PR-01 | M66: =L66&"-"&E66 -> ITT-P-AC-14-PR-01-ADMINISTRACIÓN Y DESARROLLO DE PROYECTOS | N66: 0 | O66: 46092 | P66: https://docs.google.com/document/d/1v72kkCst7JW-S1PCOxVMbosZExjkFMgrjxZfzvY3EpQ/edit?usp=drive_link | Q66: https://drive.google.com/file/d/1B2OAIIuk5-D0qTdDpJK6-Ypd-6o_mAfq/view?usp=drive_link
E67: MATRIZ DE ANÁLISIS DE RIESGO | F67: ='Configuración'!$A$2 -> ITT | G67: P | H67: AC | I67: =IF(C67="",I66,I66+1) -> 14 | J67: AN | K67: 1 | L67: =CONCATENATE(F67,"-",G67,"-",H67,"-",TEXT(I67,"0#"),"-",J67,"-",TEXT(K67,"0#")) -> ITT-P-AC-14-AN-01 | M67: =L67&"-"&E67 -> ITT-P-AC-14-AN-01-MATRIZ DE ANÁLISIS DE RIESGO | N67: 0 | O67: 46103 | P67: https://docs.google.com/spreadsheets/d/16pfFvlZf3DzkjJR-Xrq632pOIimw5SH_/edit?usp=sharing&ouid=112467577828699602815&rtpof=true&sd=true | Q67: https://docs.google.com/spreadsheets/d/16pfFvlZf3DzkjJR-Xrq632pOIimw5SH_/edit?usp=sharing&ouid=112467577828699602815&rtpof=true&sd=true
A68: Proceso Académico | B68: Ing. Olivia Guadalupe Treviño Montemayor | C68: ASESORIA ACADEMICA | D68: Departamentos Académicos | E68: ASESORIA ACADEMICA | F68: ='Configuración'!$A$2 -> ITT | G68: L | H68: AC | I68: =IF(C68="",I67,I67+1) -> 15 | J68: PR | K68: 1 | L68: =CONCATENATE(F68,"-",G68,"-",H68,"-",TEXT(I68,"0#"),"-",J68,"-",TEXT(K68,"0#")) -> ITT-L-AC-15-PR-01 | M68: =L68&"-"&E68 -> ITT-L-AC-15-PR-01-ASESORIA ACADEMICA | N68: 0 | O68: 46094 | P68: https://docs.google.com/document/d/1MT_hnVH0GtjRF9GiXldMOEcymPd3DHAUuZD2B2_uve4/edit?usp=drive_link | Q68: https://drive.google.com/file/d/1He37vVrS3DGebDt2JsoGTlbSLQWpMlUt/view?usp=drive_link
E69: MATRIZ DE ANÁLISIS DE RIESGO | F69: ='Configuración'!$A$2 -> ITT | G69: L | H69: AC | I69: =IF(C69="",I68,I68+1) -> 15 | J69: AN | K69: 1 | L69: =CONCATENATE(F69,"-",G69,"-",H69,"-",TEXT(I69,"0#"),"-",J69,"-",TEXT(K69,"0#")) -> ITT-L-AC-15-AN-01 | M69: =L69&"-"&E69 -> ITT-L-AC-15-AN-01-MATRIZ DE ANÁLISIS DE RIESGO | N69: 0 | O69: 46092 | P69: https://docs.google.com/spreadsheets/d/1UqGEK-w0rx6WIND9aCcwLLIqLVAhT3-Q/edit?usp=drive_link&ouid=112467577828699602815&rtpof=true&sd=true | Q69: https://docs.google.com/spreadsheets/d/1UqGEK-w0rx6WIND9aCcwLLIqLVAhT3-Q/edit?usp=drive_link&ouid=112467577828699602815&rtpof=true&sd=true
E70: FORMATO PARA REGISTRO DE ASESORÍA ACADÉMICA | F70: ='Configuración'!$A$2 -> ITT | G70: L | H70: AC | I70: =IF(C70="",I69,I69+1) -> 15 | J70: RG | K70: 1 | L70: =CONCATENATE(F70,"-",G70,"-",H70,"-",TEXT(I70,"0#"),"-",J70,"-",TEXT(K70,"0#")) -> ITT-L-AC-15-RG-01 | M70: =L70&"-"&E70 -> ITT-L-AC-15-RG-01-FORMATO PARA REGISTRO DE ASESORÍA ACADÉMICA | N70: 2 | O70: 46125 | P70: https://docs.google.com/document/d/1ElBdXLGm8T1Po2p8f54_LuwDQL8Ag1dkmHSmycgEP04/edit?usp=sharing | Q70: https://drive.google.com/file/d/1LBFRIwcmrk0i6m2HNYBALFAZ3ms43MM7/view?usp=drive_link
E71: BITACORA DE SESIONES DE ASESORIA | F71: ='Configuración'!$A$2 -> ITT | G71: L | H71: AC | I71: =IF(C71="",I70,I70+1) -> 15 | J71: RG | K71: 2 | L71: =CONCATENATE(F71,"-",G71,"-",H71,"-",TEXT(I71,"0#"),"-",J71,"-",TEXT(K71,"0#")) -> ITT-L-AC-15-RG-02 | M71: =L71&"-"&E71 -> ITT-L-AC-15-RG-02-BITACORA DE SESIONES DE ASESORIA | N71: 0 | O71: 46125 | P71: https://docs.google.com/spreadsheets/d/10kK-cqELK2JjpR_YYrdRFLjGtnyDUSqB/edit?usp=drive_link&ouid=112467577828699602815&rtpof=true&sd=true | Q71: https://docs.google.com/spreadsheets/d/10kK-cqELK2JjpR_YYrdRFLjGtnyDUSqB/edit?usp=drive_link&ouid=112467577828699602815&rtpof=true&sd=true
E72: COORDINADOR Y RELACION DE ASESORES | F72: ='Configuración'!$A$2 -> ITT | G72: L | H72: AC | I72: =IF(C72="",I71,I71+1) -> 15 | J72: RG | K72: 3 | L72: =CONCATENATE(F72,"-",G72,"-",H72,"-",TEXT(I72,"0#"),"-",J72,"-",TEXT(K72,"0#")) -> ITT-L-AC-15-RG-03 | M72: =L72&"-"&E72 -> ITT-L-AC-15-RG-03-COORDINADOR Y RELACION DE ASESORES | N72: 0 | O72: 46125 | P72: https://docs.google.com/spreadsheets/d/1Gk34yLiu11qvsPAxY0skwRGWjrfp6iIS/edit?usp=sharing&ouid=112467577828699602815&rtpof=true&sd=true | Q72: https://docs.google.com/spreadsheets/d/1Gk34yLiu11qvsPAxY0skwRGWjrfp6iIS/edit?usp=sharing&ouid=112467577828699602815&rtpof=true&sd=true
E73: SEGUIMIENTO DE ASESORES | F73: ='Configuración'!$A$2 -> ITT | G73: L | H73: AC | I73: =IF(C73="",I72,I72+1) -> 15 | J73: RG | K73: 4 | L73: =CONCATENATE(F73,"-",G73,"-",H73,"-",TEXT(I73,"0#"),"-",J73,"-",TEXT(K73,"0#")) -> ITT-L-AC-15-RG-04 | M73: =L73&"-"&E73 -> ITT-L-AC-15-RG-04-SEGUIMIENTO DE ASESORES | N73: 0 | O73: 46125 | P73: https://docs.google.com/spreadsheets/d/155a7jElhZ_GCYW_fHH18sF7eRpcJ1D8X/edit?usp=sharing&ouid=112467577828699602815&rtpof=true&sd=true | Q73: https://docs.google.com/spreadsheets/d/155a7jElhZ_GCYW_fHH18sF7eRpcJ1D8X/edit?usp=sharing&ouid=112467577828699602815&rtpof=true&sd=true
A74: Proceso Académico | B74: Ing. Olivia Guadalupe Treviño Montemayor | C74: PRESENTACIÓN DE PREDOCTORAL | D74: M.C. Luz del Carmen Romero Islas | E74: PRESENTACIÓN PREDOCTORAL | F74: ='Configuración'!$A$2 -> ITT | G74: P | H74: AC | I74: =IF(C74="",I73,I73+1) -> 16 | J74: PR | K74: 1 | L74: =CONCATENATE(F74,"-",G74,"-",H74,"-",TEXT(I74,"0#"),"-",J74,"-",TEXT(K74,"0#")) -> ITT-P-AC-16-PR-01 | M74: =L74&"-"&E74 -> ITT-P-AC-16-PR-01-PRESENTACIÓN PREDOCTORAL | N74: 0 | O74: 46094 | P74: https://docs.google.com/document/d/1ZTUjTnwHMUNJkl7uZyp_can_edubQNyDZ_pGieqCunQ/edit?usp=drive_link | Q74: https://drive.google.com/file/d/1bg-qccTVw2mm9nGAto9qSjhNDrdPVXxG/view?usp=drive_link
E75: MATRIZ DE ANÁLISIS DE RIESGO | F75: ='Configuración'!$A$2 -> ITT | G75: P | H75: AC | I75: =IF(C75="",I74,I74+1) -> 16 | J75: AN | K75: 1 | L75: =CONCATENATE(F75,"-",G75,"-",H75,"-",TEXT(I75,"0#"),"-",J75,"-",TEXT(K75,"0#")) -> ITT-P-AC-16-AN-01 | M75: =L75&"-"&E75 -> ITT-P-AC-16-AN-01-MATRIZ DE ANÁLISIS DE RIESGO
E76: ACTA DE EXAMEN PREDOCTORAL | F76: ='Configuración'!$A$2 -> ITT | G76: P | H76: AC | I76: =IF(C76="",I75,I75+1) -> 16 | J76: RG | K76: 1 | L76: =CONCATENATE(F76,"-",G76,"-",H76,"-",TEXT(I76,"0#"),"-",J76,"-",TEXT(K76,"0#")) -> ITT-P-AC-16-RG-01 | M76: =L76&"-"&E76 -> ITT-P-AC-16-RG-01-ACTA DE EXAMEN PREDOCTORAL | N76: 0 | O76: 46126 | P76: https://docs.google.com/document/d/1su--WJRQ1UT4x5MFhv_I1kSQVhzFo6j1J0mrnVjSoG0/edit?usp=drive_link | Q76: https://drive.google.com/file/d/1H0vTsMd6Ufv_aoA3PIpfKhqiktjBKH5s/view?usp=drive_link
A77: Proceso Académico | B77: Ing. Olivia Guadalupe Treviño Montemayor | C77: CAMBIO DE DIRECTOR DE TESIS | D77: M.C. Luz del Carmen Romero Islas | E77: CAMBIO DE DIRECTOR DE TESIS | F77: ='Configuración'!$A$2 -> ITT | G77: P | H77: AC | I77: =IF(C77="",I75,I75+1) -> 17 | J77: PR | K77: 1 | L77: =CONCATENATE(F77,"-",G77,"-",H77,"-",TEXT(I77,"0#"),"-",J77,"-",TEXT(K77,"0#")) -> ITT-P-AC-17-PR-01 | M77: =L77&"-"&E77 -> ITT-P-AC-17-PR-01-CAMBIO DE DIRECTOR DE TESIS | N77: 0 | O77: 46093 | P77: https://docs.google.com/document/d/10RJgG6dQuTT52uZNMtiQLauayBmqy18gk0rvI_ZMXtA/edit?usp=drive_link | Q77: https://drive.google.com/file/d/1MbuNdE74vTrcReDZ7YsLlbDf-n6gKMIF/view?usp=drive_link
E78: MATRIZ DE ANÁLISIS DE RIESGO | F78: ='Configuración'!$A$2 -> ITT | G78: P | H78: AC | I78: =IF(C78="",I77,I77+1) -> 17 | J78: AN | K78: 1 | L78: =CONCATENATE(F78,"-",G78,"-",H78,"-",TEXT(I78,"0#"),"-",J78,"-",TEXT(K78,"0#")) -> ITT-P-AC-17-AN-01 | M78: =L78&"-"&E78 -> ITT-P-AC-17-AN-01-MATRIZ DE ANÁLISIS DE RIESGO
A79: Proceso de Vinculación | B79: M.C. Israel Arjona Vizcaíno | C79: SERVICIO SOCIAL | D79: Ing. Moises Garcés Martínez | E79: SERVICIO SOCIAL | F79: ='Configuración'!$A$2 -> ITT | G79: L | H79: VI | I79: =IF(C79="",I78,I78+1) -> 18 | J79: PR | K79: 1 | L79: =CONCATENATE(F79,"-",G79,"-",H79,"-",TEXT(I79,"0#"),"-",J79,"-",TEXT(K79,"0#")) -> ITT-L-VI-18-PR-01 | M79: =L79&"-"&E79 -> ITT-L-VI-18-PR-01-SERVICIO SOCIAL | N79: 7 | O79: 46091 | P79: https://docs.google.com/document/d/13wvpbENH0MzwbgYszn7fOVYWhN_JKYIRSsD8eJalX-Y/edit?usp=drive_link | Q79: https://drive.google.com/file/d/1WtBoDCJY9R0Cpf0mjFGT8XMoxsLbtxZc/view?usp=drive_link
E80: MATRIZ DE ANÁLISIS DE RIESGO | F80: ='Configuración'!$A$2 -> ITT | G80: L | H80: VI | I80: =IF(C80="",I79,I79+1) -> 18 | J80: AN | K80: 1 | L80: =CONCATENATE(F80,"-",G80,"-",H80,"-",TEXT(I80,"0#"),"-",J80,"-",TEXT(K80,"0#")) -> ITT-L-VI-18-AN-01 | M80: =L80&"-"&E80 -> ITT-L-VI-18-AN-01-MATRIZ DE ANÁLISIS DE RIESGO | N80: 0 | O80: 46087 | P80: https://docs.google.com/spreadsheets/d/1FuEspZb0xdsRVNguMdNWCZvq-CJzEpc7/edit?usp=drive_link&ouid=112467577828699602815&rtpof=true&sd=true | Q80: https://docs.google.com/spreadsheets/d/1FuEspZb0xdsRVNguMdNWCZvq-CJzEpc7/edit?usp=drive_link&ouid=112467577828699602815&rtpof=true&sd=true
E81: PROGRAMA SEMESTRAL DE TRABAJO DE SERVICIO SOCIAL | F81: ='Configuración'!$A$2 -> ITT | G81: L | H81: VI | I81: =IF(C81="",I80,I80+1) -> 18 | J81: RG | K81: 1 | L81: =CONCATENATE(F81,"-",G81,"-",H81,"-",TEXT(I81,"0#"),"-",J81,"-",TEXT(K81,"0#")) -> ITT-L-VI-18-RG-01 | M81: =L81&"-"&E81 -> ITT-L-VI-18-RG-01-PROGRAMA SEMESTRAL DE TRABAJO DE SERVICIO SOCIAL | N81: 0 | O81: 46125 | P81: https://docs.google.com/document/d/16VhPGvyINXkyTcxHN5UfDU4a_V6suhkrB1YtGAJB5xs/edit?usp=sharing | Q81: https://drive.google.com/file/d/1mV0i4h1Krwzx469xdcgwqCe4ySQb22w8/view?usp=drive_link
E82: SOLICITUD DE SERVICIO SOCIAL | F82: ='Configuración'!$A$2 -> ITT | G82: L | H82: VI | I82: =IF(C82="",I81,I81+1) -> 18 | J82: RG | K82: 2 | L82: =CONCATENATE(F82,"-",G82,"-",H82,"-",TEXT(I82,"0#"),"-",J82,"-",TEXT(K82,"0#")) -> ITT-L-VI-18-RG-02 | M82: =L82&"-"&E82 -> ITT-L-VI-18-RG-02-SOLICITUD DE SERVICIO SOCIAL | N82: 0 | O82: 46125 | P82: https://docs.google.com/document/d/1mwVBBbDvIQmp4BSjeowpbCwiJCpcQcCTPc5MRMmbpmM/edit?usp=drive_link | Q82: https://drive.google.com/file/d/1cKTGb5y9CWiBcrS7fNGdIndCKRltIWPp/view?usp=drive_link
E83: CARTA DE PRESENTACIÓN DE SERVICIO SOCIAL | F83: ='Configuración'!$A$2 -> ITT | G83: L | H83: VI | I83: =IF(C83="",I82,I82+1) -> 18 | J83: RG | K83: 3 | L83: =CONCATENATE(F83,"-",G83,"-",H83,"-",TEXT(I83,"0#"),"-",J83,"-",TEXT(K83,"0#")) -> ITT-L-VI-18-RG-03 | M83: =L83&"-"&E83 -> ITT-L-VI-18-RG-03-CARTA DE PRESENTACIÓN DE SERVICIO SOCIAL | N83: 0 | O83: 13-abriil-2026 | P83: https://docs.google.com/document/d/1aXXm4ZgF96a7SM9-piTK6lzxxQKNzmzdS2S6D5RDp1c/edit?usp=drive_link | Q83: https://drive.google.com/file/d/1PXeSPAls3YtouJiCa1cToBuH2K1HCkCB/view?usp=drive_link
E84: CARTA DE ASIGNACIÓN-PLAN DE TRABAJO | F84: ='Configuración'!$A$2 -> ITT | G84: L | H84: VI | I84: =IF(C84="",I83,I83+1) -> 18 | J84: RG | K84: 4 | L84: =CONCATENATE(F84,"-",G84,"-",H84,"-",TEXT(I84,"0#"),"-",J84,"-",TEXT(K84,"0#")) -> ITT-L-VI-18-RG-04 | M84: =L84&"-"&E84 -> ITT-L-VI-18-RG-04-CARTA DE ASIGNACIÓN-PLAN DE TRABAJO | N84: 1 | O84: 46125 | P84: https://docs.google.com/document/d/1iTGymSaRJDgl2_62S1WMJw8d91IctFO_lqU5xofYx7M/edit?usp=sharing | Q84: https://drive.google.com/file/d/12vENcHMeaJ4dRZkeus8dL2zQyqUcNQXn/view?usp=drive_link
E85: CARTA COMPROMISO DE SERVICIO SOCIAL | F85: ='Configuración'!$A$2 -> ITT | G85: L | H85: VI | I85: =IF(C85="",I84,I84+1) -> 18 | J85: RG | K85: 5 | L85: =CONCATENATE(F85,"-",G85,"-",H85,"-",TEXT(I85,"0#"),"-",J85,"-",TEXT(K85,"0#")) -> ITT-L-VI-18-RG-05 | M85: =L85&"-"&E85 -> ITT-L-VI-18-RG-05-CARTA COMPROMISO DE SERVICIO SOCIAL | N85: 0 | O85: 46125 | P85: https://docs.google.com/document/d/1jfXXJ80JMPdU5j7s4-CFLcfmnq1AzKTxuvVQzZfnEgo/edit?usp=sharing | Q85: https://drive.google.com/file/d/1680XKKrwSP7uiFpR0UqasJ0iTXuaJLeF/view?usp=drive_link
E86: REPORTE BIMESTRAL DE SERVICIO SOCIAL | F86: ='Configuración'!$A$2 -> ITT | G86: L | H86: VI | I86: =IF(C86="",I85,I85+1) -> 18 | J86: RG | K86: 6 | L86: =CONCATENATE(F86,"-",G86,"-",H86,"-",TEXT(I86,"0#"),"-",J86,"-",TEXT(K86,"0#")) -> ITT-L-VI-18-RG-06 | M86: =L86&"-"&E86 -> ITT-L-VI-18-RG-06-REPORTE BIMESTRAL DE SERVICIO SOCIAL | N86: 1 | O86: 46125 | P86: https://docs.google.com/document/d/15pfa2rj_HtJgY-YBsS7mgXmU0u2UmAH7n7N4VcUqsWY/edit?usp=sharing | Q86: https://drive.google.com/file/d/1APFLurAGRY6Mlapr8UEK7CoAZuJGaVy5/view?usp=drive_link
E87: TARJETA DE CONTROL DE SERVICIO SOCIAL | F87: ='Configuración'!$A$2 -> ITT | G87: L | H87: VI | I87: =IF(C87="",I86,I86+1) -> 18 | J87: RG | K87: 7 | L87: =CONCATENATE(F87,"-",G87,"-",H87,"-",TEXT(I87,"0#"),"-",J87,"-",TEXT(K87,"0#")) -> ITT-L-VI-18-RG-07 | M87: =L87&"-"&E87 -> ITT-L-VI-18-RG-07-TARJETA DE CONTROL DE SERVICIO SOCIAL | N87: 1 | O87: 46125 | P87: https://docs.google.com/document/d/1_k-MCrpkFxC6QqvLX5DG3LeJsG48X9oixCV0MuaShz4/edit?usp=sharing | Q87: https://drive.google.com/file/d/17_oJd7H6fyn1evqi_F6LnCI4rWvw4XBo/view?usp=drive_link
E88: CONSTANCIA DE SERVICIO SOCIAL | F88: ='Configuración'!$A$2 -> ITT | G88: L | H88: VI | I88: =IF(C88="",I87,I87+1) -> 18 | J88: RG | K88: 8 | L88: =CONCATENATE(F88,"-",G88,"-",H88,"-",TEXT(I88,"0#"),"-",J88,"-",TEXT(K88,"0#")) -> ITT-L-VI-18-RG-08 | M88: =L88&"-"&E88 -> ITT-L-VI-18-RG-08-CONSTANCIA DE SERVICIO SOCIAL | N88: 0 | O88: 46125 | P88: https://docs.google.com/document/d/190JcBG6-CG6uXGrWsb5c6YUjHtUP7zF5TTzQS8q6NJU/edit?usp=sharing | Q88: https://drive.google.com/file/d/1vUAbJYJbjZpuxHusZBqENv275McmG4iE/view?usp=drive_link
E89: EVALUACIÓN RESPONSABLE DEL PROGRAMA | F89: ='Configuración'!$A$2 -> ITT | G89: L | H89: VI | I89: =IF(C89="",I88,I88+1) -> 18 | J89: RG | K89: 9 | L89: =CONCATENATE(F89,"-",G89,"-",H89,"-",TEXT(I89,"0#"),"-",J89,"-",TEXT(K89,"0#")) -> ITT-L-VI-18-RG-09 | M89: =L89&"-"&E89 -> ITT-L-VI-18-RG-09-EVALUACIÓN RESPONSABLE DEL PROGRAMA | N89: 1 | O89: 46125 | P89: https://docs.google.com/document/d/1zI_PH6kqt3jr-neJKZHpUEX5wL9B7WX3Hz6tqlEFJyc/edit?usp=sharing | Q89: https://drive.google.com/file/d/1om6lxTwgSs1xqCLSeSftbauGRyETlafF/view?usp=drive_link
E90: EVALUACIÓN DEL REPORTE FINAL | F90: ='Configuración'!$A$2 -> ITT | G90: L | H90: VI | I90: =IF(C90="",I89,I89+1) -> 18 | J90: RG | K90: 10 | L90: =CONCATENATE(F90,"-",G90,"-",H90,"-",TEXT(I90,"0#"),"-",J90,"-",TEXT(K90,"0#")) -> ITT-L-VI-18-RG-10 | M90: =L90&"-"&E90 -> ITT-L-VI-18-RG-10-EVALUACIÓN DEL REPORTE FINAL | N90: 1 | O90: 46125 | P90: https://docs.google.com/document/d/1KBrB1-fmaoS_292bypNhdaNpcBbKi48ggIWXVljFtIA/edit?usp=sharing | Q90: https://drive.google.com/file/d/1yjtMImRTEQ86VBeVoUoQheJf_meoHfPH/view?usp=drive_link
E91: AUTOEVALUACIÓN DEL ALUMNO | F91: ='Configuración'!$A$2 -> ITT | G91: L | H91: VI | I91: =IF(C91="",I90,I90+1) -> 18 | J91: RG | K91: 11 | L91: =CONCATENATE(F91,"-",G91,"-",H91,"-",TEXT(I91,"0#"),"-",J91,"-",TEXT(K91,"0#")) -> ITT-L-VI-18-RG-11 | M91: =L91&"-"&E91 -> ITT-L-VI-18-RG-11-AUTOEVALUACIÓN DEL ALUMNO | N91: 0 | O91: 46125 | P91: https://docs.google.com/document/d/1SfhBvvTRKS_z2vf5xa_cunx8ffuSis5GhjNUE9Nqp4o/edit?usp=sharing | Q91: https://drive.google.com/file/d/1gCjSkgfZdzaBf8-3sK-wSSKCdw-ABXbO/view?usp=drive_link
A92: Proceso de Vinculación | B92: M.C. Israel Arjona Vizcaíno | C92: SEGUIMIENTO DE EGRESADOS | D92: Ing. Moises Garcés Martínez | E92: SEGUIMIENTO DE EGRESADOS | F92: ='Configuración'!$A$2 -> ITT | G92: L | H92: VI | I92: =IF(C92="",I91,I91+1) -> 19 | J92: PR | K92: 1 | L92: =CONCATENATE(F92,"-",G92,"-",H92,"-",TEXT(I92,"0#"),"-",J92,"-",TEXT(K92,"0#")) -> ITT-L-VI-19-PR-01 | M92: =L92&"-"&E92 -> ITT-L-VI-19-PR-01-SEGUIMIENTO DE EGRESADOS | N92: 0 | O92: 46091 | P92: https://docs.google.com/document/d/1530ZjmHWKDNhASMEDtT_Z--zWShjaHLBscItH0dJd0I/edit?usp=drive_link | Q92: https://drive.google.com/file/d/18epZaugQxS0B1YYyeT6qSUyTVP8ybME2/view?usp=drive_link
E93: MATRIZ DE ANÁLISIS DE RIESGO | F93: ='Configuración'!$A$2 -> ITT | G93: L | H93: VI | I93: =IF(C93="",I92,I92+1) -> 19 | J93: AN | K93: 1 | L93: =CONCATENATE(F93,"-",G93,"-",H93,"-",TEXT(I93,"0#"),"-",J93,"-",TEXT(K93,"0#")) -> ITT-L-VI-19-AN-01 | M93: =L93&"-"&E93 -> ITT-L-VI-19-AN-01-MATRIZ DE ANÁLISIS DE RIESGO
A94: Proceso Académico/Vinculación | B94: M.C. Israel Arjona Vizcaíno | C94: RESIDENCIA PROFESIONAL | D94: Ing. Moises Garcés Martínez | E94: RESIDENCIAS PROFESIONALES | F94: ='Configuración'!$A$2 -> ITT | G94: L | H94: VI | I94: =IF(C94="",I93,I93+1) -> 20 | J94: PR | K94: 1 | L94: =CONCATENATE(F94,"-",G94,"-",H94,"-",TEXT(I94,"0#"),"-",J94,"-",TEXT(K94,"0#")) -> ITT-L-VI-20-PR-01 | M94: =L94&"-"&E94 -> ITT-L-VI-20-PR-01-RESIDENCIAS PROFESIONALES | N94: 7 | O94: 46091 | P94: https://docs.google.com/document/d/1dpEM8QYHeTSQOYlmd2T5K6UqA9WK6L5jwQ9i9orp1cM/edit?usp=drive_link | Q94: https://drive.google.com/file/d/1fDP6swp6iJhSnOfv0hvU3ulzNENMZjNQ/view?usp=drive_link
E95: MATRIZ DE ANÁLISIS DE RIESGO | F95: ='Configuración'!$A$2 -> ITT | G95: L | H95: VI | I95: =IF(C95="",I94,I94+1) -> 20 | J95: AN | K95: 1 | L95: =CONCATENATE(F95,"-",G95,"-",H95,"-",TEXT(I95,"0#"),"-",J95,"-",TEXT(K95,"0#")) -> ITT-L-VI-20-AN-01 | M95: =L95&"-"&E95 -> ITT-L-VI-20-AN-01-MATRIZ DE ANÁLISIS DE RIESGO | N95: 0 | O95: 46091 | P95: https://docs.google.com/spreadsheets/d/14KLH5GCAQxKkNyq4LsSEu86N97PNgezM/edit?usp=drive_link&ouid=112467577828699602815&rtpof=true&sd=true | Q95: https://docs.google.com/spreadsheets/d/14KLH5GCAQxKkNyq4LsSEu86N97PNgezM/edit?usp=drive_link&ouid=112467577828699602815&rtpof=true&sd=true
E96: SOLICITUD DE RESIDENCIA PROFESIONAL | F96: ='Configuración'!$A$2 -> ITT | G96: L | H96: VI | I96: =IF(C96="",I95,I95+1) -> 20 | J96: RG | K96: 1 | L96: =CONCATENATE(F96,"-",G96,"-",H96,"-",TEXT(I96,"0#"),"-",J96,"-",TEXT(K96,"0#")) -> ITT-L-VI-20-RG-01 | M96: =L96&"-"&E96 -> ITT-L-VI-20-RG-01-SOLICITUD DE RESIDENCIA PROFESIONAL | N96: 0 | O96: 46125 | P96: https://docs.google.com/document/d/1y7z3qQqBgFlj7gn42y8lpMixqaAk0RNNM7sJpGz5_Nw/edit?usp=sharing | Q96: https://drive.google.com/file/d/1ymJ6ytDNkYNnMB64JkVkodhiiiu7fND8/view?usp=drive_link
E97: REPORTE PRELIMINAR DE RESIDENCIA PROFESIONAL | F97: ='Configuración'!$A$2 -> ITT | G97: L | H97: VI | I97: =IF(C97="",I96,I96+1) -> 20 | J97: RG | K97: 2 | L97: =CONCATENATE(F97,"-",G97,"-",H97,"-",TEXT(I97,"0#"),"-",J97,"-",TEXT(K97,"0#")) -> ITT-L-VI-20-RG-02 | M97: =L97&"-"&E97 -> ITT-L-VI-20-RG-02-REPORTE PRELIMINAR DE RESIDENCIA PROFESIONAL | N97: 0 | O97: 46125 | P97: https://docs.google.com/document/d/1nWrRmvFsgrnrBli0ye6RE8BC1yeXnWUzLqJHwA6Q0So/edit?usp=sharing | Q97: https://drive.google.com/file/d/1bzPLqKg8GQOHkxaEOHmrYHPMSdukGzFk/view?usp=drive_link
E98: ASIGNACIÓN DE ASESOR INTERNO DE RESIDENCIA PROFESIONAL | F98: ='Configuración'!$A$2 -> ITT | G98: L | H98: VI | I98: =IF(C98="",I97,I97+1) -> 20 | J98: RG | K98: 3 | L98: =CONCATENATE(F98,"-",G98,"-",H98,"-",TEXT(I98,"0#"),"-",J98,"-",TEXT(K98,"0#")) -> ITT-L-VI-20-RG-03 | M98: =L98&"-"&E98 -> ITT-L-VI-20-RG-03-ASIGNACIÓN DE ASESOR INTERNO DE RESIDENCIA PROFESIONAL | N98: 0 | O98: 46125 | P98: https://docs.google.com/document/d/14IIeLLRB3QW4zqvG20nUgnD6_HPBZwwkcpfaSxUbnlU/edit?usp=drive_link | Q98: https://drive.google.com/file/d/1i-YApUnl7zyWahjt-N63QRIftfPajSjs/view?usp=drive_link
E99: DICTAMEN DE RESIDENCIA PROFESIONAL | F99: ='Configuración'!$A$2 -> ITT | G99: L | H99: VI | I99: =IF(C99="",I98,I98+1) -> 20 | J99: RG | K99: 4 | L99: =CONCATENATE(F99,"-",G99,"-",H99,"-",TEXT(I99,"0#"),"-",J99,"-",TEXT(K99,"0#")) -> ITT-L-VI-20-RG-04 | M99: =L99&"-"&E99 -> ITT-L-VI-20-RG-04-DICTAMEN DE RESIDENCIA PROFESIONAL | N99: 1 | O99: 46125 | P99: https://docs.google.com/document/d/1TjWrY2z8zxIn-qM-5q-NSUA-JDFeRrw8nVlqijljI0I/edit?usp=sharing | Q99: https://drive.google.com/file/d/1mNENjKQsU5y1t0W0wrdCbilWWAc4Vn0c/view?usp=drive_link
E100: CARTA DE PRESENTACIÓN A LA EMPRESA | F100: ='Configuración'!$A$2 -> ITT | G100: L | H100: VI | I100: =IF(C100="",I99,I99+1) -> 20 | J100: RG | K100: 5 | L100: =CONCATENATE(F100,"-",G100,"-",H100,"-",TEXT(I100,"0#"),"-",J100,"-",TEXT(K100,"0#")) -> ITT-L-VI-20-RG-05 | M100: =L100&"-"&E100 -> ITT-L-VI-20-RG-05-CARTA DE PRESENTACIÓN A LA EMPRESA | N100: 0 | O100: 46125 | P100: https://docs.google.com/document/d/1F5DLKjO_qJ8vE-7FFfTFHooYKzU64tzLph99OuGqJU4/edit?usp=sharing | Q100: https://docs.google.com/document/d/1F5DLKjO_qJ8vE-7FFfTFHooYKzU64tzLph99OuGqJU4/edit?usp=drive_link
...

Sheet Matriz de Responsabilidades ANE
A1: Reg. | B1: PROCESO | C1: CÓDIGO DE PROCEDIMIENTO | D1: NOMBRE DEL PROCEDIMIENTO | E1: Responsable | F1: Dirección TecNM | G1: Dirección | H1: Sub. Académica | I1: Sub. Planeación | J1: Sub. Servicios Administrativos | K1: Deptos. Académicos | L1: División Estudios Profesionales | M1: División Estudios de Posgrado | N1: Desarrollo Académico | O1: Centro de Cómputo | P1: Mantenimiento de equipo | Q1: Recursos Financieros | R1: Recursos Humanos | S1: Recursos Materiales | T1: Actividades Extraescolares | U1: Centro de Información | V1: Comunicación y Difusión | W1: Gestión Tecnológica | X1: Cooridnación de Lenguas Extranjeras | Y1: Planeación, Prog. Y Presupuestación | Z1: Servicios Escolares | AA1: RD | AB1: Académicos
A2: 1 | B2: Proceso de Planeación | C2: ITT-T-PL-01-PR-01 | D2: ITT-T-PL-01-PR-01-PROGRAMACIÓN Y PRESUPUESTACIÓN DE ACTIVIDADES | E2: Arq. Rommel Rodríguez Garay | F2: P | G2: P | H2: P | I2: P | J2: P | K2: P | L2: P | M2: P | N2: P | O2: P | P2: P | Q2: P | R2: P | S2: P | T2: P | U2: P | V2: P | W2: P | X2: P | Y2: R | Z2: P | AA2: P
A3: 2 | B3: Proceso de Administración de Recursos | C3: ITT-T-AD-02-PR-01 | D3: ITT-T-AD-02-PR-01-RECLUTAMIENTO, SELECCIÓN Y CONTRATACIÓN DE PERSONAL | E3: Ing. Adriana Yarim González Ramos | G3: P | R3: R | AB3: P
A4: 3 | B4: Proceso de Administración de Recursos | C4: ITT-T-AD-03-PR-01 | D4: ITT-T-AD-03-PR-01-CAPACITACIÓN DE PERSONAL DOCENTE | E4: Dra. Nydia Teresa Luna Vázquez | K4: P | N4: R | V4: P | AB4: P
A5: 4 | B5: Proceso de Administración de Recursos | C5: ITT-T-AD-04-PR-01 | D5: ITT-T-AD-04-PR-01-MANTENIMIENTO DE INFRAESTRUCTURA | E5: Dr. Salvador Salas Carlock | J5: P | K5: P | L5: P | M5: P | N5: P | O5: P | P5: R | Q5: P | R5: P | S5: P | T5: P | U5: P | V5: P | W5: P | Y5: P | Z5: P
A6: 5 | B6: Proceso de Administración de Recursos | C6: ITT-T-AD-05-IT-01 | D6: ITT-T-AD-05-IT-01-REALIZACIÓN DE COMPRAS DIRECTAS | E6: Ing. José Antonio García Madrigal | G6: P | H6: P | I6: P | J6: P | Q6: P | S6: R
A7: 6 | B7: Proceso de Administración de Recursos | C7: ITT-T-AD-06-IT-01 | D7: ITT-T-AD-06-IT-01-DESARROLLO DE PROYECTO INDIVIDUAL | E7: Departamentos Académicos | K7: R | R7: P | AB7: P
A8: 7 | B8: Proceso Académico | C8: ITT-L-AC-07-PR-01 | D8: ITT-L-AC-07-PR-01-INSCRIPCIÓN DEL ESTUDIANTE | E8: M.C. Jesús Francisco Limón Tirado | L8: R | N8: P | Z8: P
A9: 8 | B9: Proceso Académico | C9: ITT-P-AC-08-PR-01 | D9: ITT-P-AC-08-PR-01-INGRESO DE ESTUDIANTES DE POSGRADO | E9: M.C. Luz del Carmen Romero Islas | M9: R | AB9: P
A10: 9 | B10: Proceso Académico | C10: ITT-L-AC-09-PR-01 | D10: ITT-L-AC-09-PR-01-REINSCRIPCIÓN DEL ESTUDIANTE | E10: M.C. Jesús Francisco Limón Tirado | L10: R
A11: 10 | B11: Proceso Académico | C11: ITT-P-AC-10-PR-01 | D11: ITT-P-AC-10-PR-01-SEGUIMIENTO ACADÉMICO A ESTUDIANTES DE MAESTRÍA | E11: M.C. Luz del Carmen Romero Islas | M11: R | AB11: P
A12: 11 | B12: Proceso Académico | C12: ITT-P-AC-11-PR-01 | D12: ITT-P-AC-11-PR-01-SEGUIMIENTO ACADÉMICO A ESTUDIANTES DE DOCTORADO | E12: M.C. Luz del Carmen Romero Islas | M12: R | AB12: P
A13: 12 | B13: Proceso Académico | C13: ITT-L-AC-12-PR-01 | D13: ITT-L-AC-12-PR-01-GESTIÓN DEL CURSO | E13: Departamentos Académicos | K13: R | AB13: P
A14: 13 | B14: Proceso Académico | C14: ITT-L-AC-13-PR-01 | D14: ITT-L-AC-13-PR-01-ACREDITACIÓN DE TUTORÍAS | E14: Dra. Nydia Teresa Luna Vázquez | K14: P | N14: R | AB14: P
A15: 14 | B15: Proceso Académico | C15: ITT-P-AC-14-PR-01 | D15: ITT-P-AC-14-PR-01-ADMINISTRACIÓN Y DESARROLLO DE PROYECTOS | E15: M.C. Luz del Carmen Romero Islas | M15: R | AB15: P
A16: 15 | B16: Proceso Académico | C16: ITT-L-AC-15-PR-01 | D16: ITT-L-AC-15-PR-01-ASESORIA ACADEMICA | E16: Departamentos Académicos | K16: R | AB16: P
A17: 16 | B17: Proceso Académico | C17: ITT-P-AC-16-PR-01 | D17: ITT-P-AC-16-PR-01-PRESENTACIÓN PREDOCTORAL | E17: M.C. Luz del Carmen Romero Islas | M17: R | AB17: P
A18: 17 | B18: Proceso Académico | C18: ITT-P-AC-17-PR-01 | D18: ITT-P-AC-17-PR-01-CAMBIO DE DIRECTOR DE TESIS | E18: M.C. Luz del Carmen Romero Islas | M18: R | AB18: P
A19: 18 | B19: Proceso de Vinculación | C19: ITT-L-VI-18-PR-01 | D19: ITT-L-VI-18-PR-01-SERVICIO SOCIAL | E19: Ing. Moises Garcés Martínez | I19: P | W19: R
A20: 19 | B20: Proceso de Vinculación | C20: ITT-L-VI-19-PR-01 | D20: ITT-L-VI-19-PR-01-SEGUIMIENTO DE EGRESADOS | E20: Ing. Moises Garcés Martínez | K20: P | W20: R
A21: 20 | B21: Proceso Académico/Vinculación | C21: ITT-L-VI-20-PR-01 | D21: ITT-L-VI-20-PR-01-RESIDENCIAS PROFESIONALES | E21: Ing. Moises Garcés Martínez | K21: P | L21: P | W21: R | Z21: P | AB21: P
A22: 21 | B22: Proceso Académico/Vinculación | C22: ITT-P-VI-21-PR-01 | D22: ITT-P-VI-21-PR-01-MOVILIDAD DE POSGRADO | E22: M.C. Luz del Carmen Romero Islas | G22: P | M22: R | AB22: P
A23: 22 | B23: Proceso de Certificación Académica y Titulación | C23: ITT-L-CT-22-PR-01 | D23: ITT-L-CT-22-PR-01-VALIDACIÓN SEGUNDA LENGUA | E23: Lic. Neidy Delgado San Román | X23: R
A24: 23 | B24: Proceso de Certificación Académica y Titulación | C24: ITT-L-CT-23-PR-01 | D24: ITT-L-CT-23-PR-01-GENERAR CERTIFICADO | E24: Mtra. Zoila Raquel Aguirre González | Z24: R
A25: 24 | B25: Proceso de Certificación Académica y Titulación | C25: ITT-L-CT-24-PR-01 | D25: ITT-L-CT-24-PR-01-ACTO DE RECEPCIÓN | E25: M.C. Jesús Francisco Limón Tirado | K25: P | L25: R | Z25: P
A26: 25 | B26: Proceso de Certificación Académica y Titulación | C26: ITT-L-CT-24-IT-01 | D26: ITT-L-CT-24-IT-01-GUIA ACTO PROTOCOLARIO | E26: M.C. Jesús Francisco Limón Tirado | L26: R
A27: 26 | B27: Proceso de Certificación Académica y Titulación | C27: ITT-L-CT-25-PR-01 | D27: ITT-L-CT-25-PR-01-GESTIÓN DE TÍTULO | E27: Mtra. Zoila Raquel Aguirre González | M27: R | Z27: P
A28: 27 | B28: Proceso de Certificación Académica y Titulación | C28: ITT-P-CT-26-PR-01 | D28: ITT-P-CT-26-PR-01-PROGRAMACIÓN ACTO RECEPCIONAL Y OBTENCIÓN DE GRADO | E28: M.C. Luz del Carmen Romero Islas | M28: R | AB28: P
A29: 28 | B29: Proceso de Calidad | C29: ITT-T-CA-27-PR-01 | D29: ITT-T-CA-27-PR-01-ELABORACIÓN DE PROCEDIMIENTOS | E29: Responsable del SGC | G29: P | H29: P | I29: P | J29: P | K29: P | L29: P | M29: P | N29: P | O29: P | P29: P | Q29: P | R29: P | S29: P | T29: P | U29: P | V29: P | W29: P | X29: P | Y29: P | Z29: P | AA29: R
A30: 29 | B30: Proceso de Calidad | C30: ITT-T-CA-28-PR-01 | D30: ITT-T-CA-28-PR-01-ENCUESTA DE SATISFACCIÓN | E30: Responsable del SGC | G30: P | L30: P | M30: P | N30: P | O30: P | Q30: P | T30: P | U30: P | W30: P | X30: P | Z30: P | AA30: R
A31: 30 | B31: Proceso de Calidad | C31: ITT-T-CA-29-PR-01 | D31: ITT-T-CA-29-PR-01-AUDITORÍA INTERNA | E31: Responsable del SGC | G31: P | K31: P | P31: P | AA31: R
A32: 31 | B32: Proceso de Calidad | C32: ITT-T-CA-30-PR-01 | D32: ITT-T-CA-30-PR-01-CONTROL DE SALIDAS NO CONFORMES | E32: Responsable del SGC | G32: P | H32: P | I32: P | J32: P | K32: P | L32: P | M32: P | N32: P | O32: P | P32: P | Q32: P | R32: P | S32: P | T32: P | U32: P | V32: P | W32: P | Y32: P | Z32: P | AA32: R
A33: 32 | B33: Proceso de Calidad | C33: ITT-T-CA-31-PR-01 | D33: ITT-T-CA-31-PR-01-ACCIONES CORRECTIVAS | E33: Responsable del SGC | G33: P | H33: P | I33: P | J33: P | K33: P | L33: P | M33: P | N33: P | O33: P | P33: P | Q33: P | R33: P | S33: P | T33: P | U33: P | V33: P | W33: P | X33: P | Y33: P | Z33: P | AA33: R
A34: 33 | B34: Proceso de Calidad | C34: ITT-T-CA-32-PR-01 | D34: ITT-T-CA-32-PR-01-CONTROL DOCUMENTAL | E34: Ing. Roberto Carlos Villalobos Montiel | O34: P | AA34: R
A35: 34 | B35: Proceso Académico | C35: ITT-T-AC-33-PR-01 | D35: ITT-T-AC-33-PR-01-ACTIVIDADES DEPORTIVAS | E35: M.C.E. Ángel Javier Chacón Pantoja | T35: R
A36: 35 | B36: Proceso Académico | C36: ITT-T-AC-33-PR-02 | D36: ITT-T-AC-33-PR-02-ACTIVIDADES CULTURALES | E36: M.C.E. Ángel Javier Chacón Pantoja | T36: R
A37: 36 | B37: Proceso Académico/Vinculación | C37: ITT-T-VI-34-PR-01 | D37: ITT-T-VI-34-PR-01-VISITA A EMPRESAS | E37: Ing. Moises Garcés Martínez | K37: P | Q37: P | S37: P | W37: R | Z37: P | AB37: P
A38: 37 | B38: Proceso de Calidad | C38: ITT-T-CA-35-PR-01 | D38: ITT-T-CA-35-PR-01-GESTIÓN DE LA MEJORA CONTINUA | E38: Responsable del SGC | G38: P | H38: P | I38: P | J38: P | K38: P | L38: P | M38: P | N38: P | O38: P | P38: P | Q38: P | R38: P | S38: P | T38: P | U38: P | V38: P | W38: P | Y38: P | Z38: P | AA38: R
A39: 38 | B39: PROCESO PLANEACIÓN
A40: 39 | B40: PROCESO PLANEACIÓN
A41: 40 | B41: PROCESO PLANEACIÓN
A42: 41 | B42: PROCESO PLANEACIÓN
A43: 42 | B43: PROCESO PLANEACIÓN
A44: 43 | B44: PROCESO PLANEACIÓN
A45: 44 | B45: PROCESO PLANEACIÓN
A46: 45 | B46: PROCESO PLANEACIÓN
A47: 46 | B47: PROCESO PLANEACIÓN
A48: 47 | B48: PROCESO PLANEACIÓN
A49: 48 | B49: PROCESO PLANEACIÓN
A50: 49 | B50: PROCESO PLANEACIÓN
... A128: 127 | B128: PROCESO PLANEACIÓN

Sheet Copia de Codificación
A1: Proceso Estratégico | B1: Subproceso | C1: Nombre de documento | D1: Unidad | E1: Ámbito | F1: P. est. | G1: No. Subpro | H1: Documento | I1: No. Cons | J1: Clave documental | K1: Código-nombre de documento | L1: Link de archivo | M1: TIPO | N1: DOCUMENTOS
A2: Proceso de Planeación | B2: PROGRAMACIÓN Y PRESUPUESTACIÓN DE ACTIVIDADES | C2: PROGRAMACIÓN Y PRESUPUESTACIÓN DE ACTIVIDADES | D2: ='Configuración'!$A$2 -> ITT | E2: T | F2: PL | G2: 1 | H2: PR | I2: 1 | J2: =CONCATENATE(D2,"-",E2,"-",F2,"-",TEXT(G2,"0#"),"-",H2,"-",TEXT(I2,"0#")) -> ITT-T-PL-01-PR-01 | K2: =J2&"-"&C2 -> ITT-T-PL-01-PR-01-PROGRAMACIÓN Y PRESUPUESTACIÓN DE ACTIVIDADES | L2: https://docs.google.com/document/d/1faRvWXdWVKvszMDEdjavg_ST1pwD0yn3GgaU6Pn9PA0/edit?usp=drive_link | M2: PROCEDIMIENTO | N2: PROGRAMACIÓN Y PRESUPUESTACIÓN DE ACTIVIDADES
C3: MATRIZ DE ANÁLISIS DE RIESGO | D3: ='Configuración'!$A$2 -> ITT | E3: T | F3: PL | G3: =IF(B3="",G2,G2+1) -> 1 | H3: AN | I3: 1 | J3: =CONCATENATE(D3,"-",E3,"-",F3,"-",TEXT(G3,"0#"),"-",H3,"-",TEXT(I3,"0#")) -> ITT-T-PL-01-AN-01 | K3: =J3&"-"&C3 -> ITT-T-PL-01-AN-01-MATRIZ DE ANÁLISIS DE RIESGO | L3: https://docs.google.com/spreadsheets/d/1drSiCzHr7MoWX_7Hja_pr60iIcEIKvj3/edit?usp=drive_link&ouid=112467577828699602815&rtpof=true&sd=true | M3: ANEXO | N3: MATRIZ ANÁLISIS DE RIESGO
A4: Proceso de Administración de Recursos | B4: RECLUTAMIENTO, SELECCIÓN Y CONTRATACIÓN DE PERSONAL | C4: RECLUTAMIENTO, SELECCIÓN Y CONTRATACIÓN DE PERSONAL | D4: ='Configuración'!$A$2 -> ITT | E4: T | F4: AD | G4: =IF(B4="",G3,G3+1) -> 2 | H4: PR | I4: 1 | J4: =CONCATENATE(D4,"-",E4,"-",F4,"-",TEXT(G4,"0#"),"-",H4,"-",TEXT(I4,"0#")) -> ITT-T-AD-02-PR-01 | K4: =J4&"-"&C4 -> ITT-T-AD-02-PR-01-RECLUTAMIENTO, SELECCIÓN Y CONTRATACIÓN DE PERSONAL | L4: https://docs.google.com/document/d/1JwedenSXR2QeKxp_r2_5TmgryaU9BXJ9/edit?usp=drive_link&ouid=112467577828699602815&rtpof=true&sd=true | M4: PROCEDIMIENTO | N4: PROCEDIMIENTO PARA EL RECLUTAMIENTO, SELECCIÓN Y CONTRATACIÓN DE PERSONAL
C5: MATRIZ DE ANÁLISIS DE RIESGO | D5: ='Configuración'!$A$2 -> ITT | E5: T | F5: AD | G5: =IF(B5="",G4,G4+1) -> 2 | H5: AN | I5: 1 | J5: =CONCATENATE(D5,"-",E5,"-",F5,"-",TEXT(G5,"0#"),"-",H5,"-",TEXT(I5,"0#")) -> ITT-T-AD-02-AN-01 | K5: =J5&"-"&C5 -> ITT-T-AD-02-AN-01-MATRIZ DE ANÁLISIS DE RIESGO | L5: https://docs.google.com/spreadsheets/d/1mJ6Xb8MWNmJtfVWAVwlcLFlUq2mWtR3P/edit?usp=drive_link&ouid=112467577828699602815&rtpof=true&sd=true | M5: ANEXO | N5: ITT-POE-03 MATRIZ DE ANALISIS DE RIESGOS
C6: CONVOCATORIA | D6: ='Configuración'!$A$2 -> ITT | E6: T | F6: AD | G6: =IF(B6="",G5,G5+1) -> 2 | H6: RG | I6: 1 | J6: =CONCATENATE(D6,"-",E6,"-",F6,"-",TEXT(G6,"0#"),"-",H6,"-",TEXT(I6,"0#")) -> ITT-T-AD-02-RG-01 | K6: =J6&"-"&C6 -> ITT-T-AD-02-RG-01-CONVOCATORIA | L6: https://docs.google.com/document/d/1YhiZ3TfzL6NTr0FBp9huWw1lWFXSwv914zt2_ejHRI8/edit?usp=drive_link | M6: REGISTRO | N6: ITT-POE-03-01 CONVOCATORIA
C7: REGISTRO DE SOLICITANTES | D7: ='Configuración'!$A$2 -> ITT | E7: T | F7: AD | G7: =IF(B7="",G6,G6+1) -> 2 | H7: RG | I7: 2 | J7: =CONCATENATE(D7,"-",E7,"-",F7,"-",TEXT(G7,"0#"),"-",H7,"-",TEXT(I7,"0#")) -> ITT-T-AD-02-RG-02 | K7: =J7&"-"&C7 -> ITT-T-AD-02-RG-02-REGISTRO DE SOLICITANTES | L7: https://docs.google.com/document/d/1-3569lTFROG3ZLMocu2PsFSj45Q7XrbSjDaL20ucdzM/edit?usp=sharing | M7: REGISTRO | N7: ITT-POE-03-02 REGISTRO DE SOLICITANTES
C8: ACTA DE RESULTADOS DE EXAMEN DE OPOSICIÓN | D8: ='Configuración'!$A$2 -> ITT | E8: T | F8: AD | G8: =IF(B8="",G7,G7+1) -> 2 | H8: RG | I8: 3 | J8: =CONCATENATE(D8,"-",E8,"-",F8,"-",TEXT(G8,"0#"),"-",H8,"-",TEXT(I8,"0#")) -> ITT-T-AD-02-RG-03 | K8: =J8&"-"&C8 -> ITT-T-AD-02-RG-03-ACTA DE RESULTADOS DE EXAMEN DE OPOSICIÓN | L8: https://docs.google.com/document/d/1JmLIrV-2XpyUQwJZvqLVbtaWyJkoXipDAXyTsVsI_kA/edit?usp=sharing | M8: REGISTRO | N8: ITT- POE-03-03 ACTA DE RESULTADOS DE EXAMEN DE OPOSICIÓN
C9: DICTAMEN | D9: ='Configuración'!$A$2 -> ITT | E9: T | F9: AD | G9: =IF(B9="",G8,G8+1) -> 2 | H9: RG | I9: 4 | J9: =CONCATENATE(D9,"-",E9,"-",F9,"-",TEXT(G9,"0#"),"-",H9,"-",TEXT(I9,"0#")) -> ITT-T-AD-02-RG-04 | K9: =J9&"-"&C9 -> ITT-T-AD-02-RG-04-DICTAMEN | L9: https://docs.google.com/document/d/1SQg4FEA5TJAnRILQ8teNWbUmLGG0T9DuWK7dErvhbe8/edit?usp=sharing | M9: REGISTRO | N9: ITT- POE-03-04 DICTAMEN
A10: Proceso de Administración de Recursos | B10: CAPACITACIÓN DE PERSONAL DOCENTE | C10: CAPACITACIÓN DE PERSONAL DOCENTE | D10: ='Configuración'!$A$2 -> ITT | E10: T | F10: AD | G10: =IF(B10="",G9,G9+1) -> 3 | H10: PR | I10: 1 | J10: =CONCATENATE(D10,"-",E10,"-",F10,"-",TEXT(G10,"0#"),"-",H10,"-",TEXT(I10,"0#")) -> ITT-T-AD-03-PR-01 | K10: =J10&"-"&C10 -> ITT-T-AD-03-PR-01-CAPACITACIÓN DE PERSONAL DOCENTE | L10: https://docs.google.com/document/d/1AmYxTUwHP9iO-YITOu6Se5E4bzw-cuaZ/edit?usp=drive_link&ouid=112467577828699602815&rtpof=true&sd=true | M10: PROCEDIMIENTO | N10: ITT-POE-05 - PROCEDIMIENTO PARA CAPACITACIÓN DE PERSONAL DOCENTE
C11: MATRIZ DE ANÁLISIS DE RIESGO | D11: ='Configuración'!$A$2 -> ITT | E11: T | F11: AD | G11: =IF(B11="",G10,G10+1) -> 3 | H11: AN | I11: 1 | J11: =CONCATENATE(D11,"-",E11,"-",F11,"-",TEXT(G11,"0#"),"-",H11,"-",TEXT(I11,"0#")) -> ITT-T-AD-03-AN-01 | K11: =J11&"-"&C11 -> ITT-T-AD-03-AN-01-MATRIZ DE ANÁLISIS DE RIESGO | L11: https://docs.google.com/spreadsheets/d/1I028he5QvrwvJIvnIREGsOxDfDGkg5b3/edit?usp=drive_link&ouid=112467577828699602815&rtpof=true&sd=true | M11: ANEXO | N11: ITT-POE-05 MATRÍZ DE RIESGOS Y OPORTUNIDADES PARA CAPACITACIÓN DOCENTE
C12: DIAGNÓSTICO Y CONCENTRADO DE NECESIDADES DE FORMACIÓN Y ACTUALIZACIÓN DOCENTE Y PROFESIONAL | D12: ='Configuración'!$A$2 -> ITT | E12: T | F12: AD | G12: =IF(B12="",G11,G11+1) -> 3 | H12: RG | I12: 1 | J12: =CONCATENATE(D12,"-",E12,"-",F12,"-",TEXT(G12,"0#"),"-",H12,"-",TEXT(I12,"0#")) -> ITT-T-AD-03-RG-01 | K12: =J12&"-"&C12 -> ITT-T-AD-03-RG-01-DIAGNÓSTICO Y CONCENTRADO DE NECESIDADES DE FORMACIÓN Y ACTUALIZACIÓN DOCENTE Y PROFESIONAL | L12: https://docs.google.com/document/d/1OW1ZrdXWzh3rs1xA1qLBCzHB23kVA-Xl_DPE6N8T0LM/edit?usp=sharing | M12: REGISTRO | N12: ITT-POE-05-01 DIAGNÓSTICO Y CONCENTRADO DE NECESIDADES DE FORMACIÓN Y ACTUALIZACIÓN DOCENTE Y PROFESIONAL
C13: PROGRAMA INSTITUCIONAL DE FORMACIÓN Y ACTUALIZACIÓN DOCENTE Y PROFESIONAL | D13: ='Configuración'!$A$2 -> ITT | E13: T | F13: AD | G13: =IF(B13="",G12,G12+1) -> 3 | H13: RG | I13: 2 | J13: =CONCATENATE(D13,"-",E13,"-",F13,"-",TEXT(G13,"0#"),"-",H13,"-",TEXT(I13,"0#")) -> ITT-T-AD-03-RG-02 | K13: =J13&"-"&C13 -> ITT-T-AD-03-RG-02-PROGRAMA INSTITUCIONAL DE FORMACIÓN Y ACTUALIZACIÓN DOCENTE Y PROFESIONAL | L13: https://docs.google.com/document/d/1DoJ4tgvkvgPAn6dSd0islC29AJAyXKnNbH0fgQMQXzA/edit?usp=sharing | M13: REGISTRO | N13: ITT-POE-05-02 PROGRAMA INSTITUCIONAL DE FORMACIÓN Y ACTUALIZACIÓN DOCENTE Y PROFESIONAL
C14: LISTA DE ASISTENCIA | D14: ='Configuración'!$A$2 -> ITT | E14: T | F14: AD | G14: =IF(B14="",G13,G13+1) -> 3 | H14: RG | I14: 3 | J14: =CONCATENATE(D14,"-",E14,"-",F14,"-",TEXT(G14,"0#"),"-",H14,"-",TEXT(I14,"0#")) -> ITT-T-AD-03-RG-03 | K14: =J14&"-"&C14 -> ITT-T-AD-03-RG-03-LISTA DE ASISTENCIA | L14: https://docs.google.com/document/d/1wXKpCzXUskL-gaDDI3Y_LnG6uEd59PB8ew7kj5123t0/edit?usp=sharing | M14: REGISTRO | N14: ITT-POE-05-03 LISTA DE ASISTENCIA
C15: CÉDULA DE INSCRIPCIÓN | D15: ='Configuración'!$A$2 -> ITT | E15: T | F15: AD | G15: =IF(B15="",G14,G14+1) -> 3 | H15: RG | I15: 4 | J15: =CONCATENATE(D15,"-",E15,"-",F15,"-",TEXT(G15,"0#"),"-",H15,"-",TEXT(I15,"0#")) -> ITT-T-AD-03-RG-04 | K15: =J15&"-"&C15 -> ITT-T-AD-03-RG-04-CÉDULA DE INSCRIPCIÓN | L15: https://docs.google.com/document/d/1I7eCJYIFHThHjBYK2AcpBjR3YkvdWqABbiNfpSKwGho/edit?usp=sharing | M15: REGISTRO | N15: ITT-POE-05-04 CÉDULA DE INSCRIPCIÓN
C16: LISTA DE ACREDITACIÓN | D16: ='Configuración'!$A$2 -> ITT | E16: T | F16: AD | G16: =IF(B16="",G15,G15+1) -> 3 | H16: RG | I16: 5 | J16: =CONCATENATE(D16,"-",E16,"-",F16,"-",TEXT(G16,"0#"),"-",H16,"-",TEXT(I16,"0#")) -> ITT-T-AD-03-RG-05 | K16: =J16&"-"&C16 -> ITT-T-AD-03-RG-05-LISTA DE ACREDITACIÓN | L16: https://docs.google.com/document/d/1zQGvkx4QZ0wvkPHFOSDaEBPDTBwD0SuoKrUR9TyFPTw/edit?usp=sharing | M16: REGISTRO | N16: ITT-POE-05-05 LISTA DE ACREDITACIÓN
C17: ENCUESTA DE SATISFACCIÓN PARA PARTICIPANTES INSCRITOS | D17: ='Configuración'!$A$2 -> ITT | E17: T | F17: AD | G17: =IF(B17="",G16,G16+1) -> 3 | H17: RG | I17: 6 | J17: =CONCATENATE(D17,"-",E17,"-",F17,"-",TEXT(G17,"0#"),"-",H17,"-",TEXT(I17,"0#")) -> ITT-T-AD-03-RG-06 | K17: =J17&"-"&C17 -> ITT-T-AD-03-RG-06-ENCUESTA DE SATISFACCIÓN PARA PARTICIPANTES INSCRITOS | L17: https://docs.google.com/document/d/1M0Y2B8S01-XQC6M_M3V8cQQxioyf_tw3tw4yjLG-Zec/edit?usp=sharing | M17: REGISTRO | N17: ITT-POE-05-06 ENCUESTA DE SATISFACCIÓN PARA PARTICIPANTES INSCRITOS
C18: ENCUESTA DE EFICACIA CAPACITACIÓN DOCENTE AL JEFE ACADÉMICO | D18: ='Configuración'!$A$2 -> ITT | E18: T | F18: AD | G18: =IF(B18="",G17,G17+1) -> 3 | H18: RG | I18: 7 | J18: =CONCATENATE(D18,"-",E18,"-",F18,"-",TEXT(G18,"0#"),"-",H18,"-",TEXT(I18,"0#")) -> ITT-T-AD-03-RG-07 | K18: =J18&"-"&C18 -> ITT-T-AD-03-RG-07-ENCUESTA DE EFICACIA CAPACITACIÓN DOCENTE AL JEFE ACADÉMICO | L18: https://docs.google.com/document/d/1socOlLWDuVkUaq4dHOlHrswBc4WkHHPWYZc7SGlLFKM/edit?usp=sharing | M18: REGISTRO | N18: ITT-POE-05-07 ENCUESTA DE EFICACIA CAPACITACIÓN DOCENTE AL JEFE ACADÉMICO
C19: ENCUESTA DE EFICACIA CAPACITACIÓN DOCENTE AL PARTICIPANTE | D19: ='Configuración'!$A$2 -> ITT | E19: T | F19: AD | G19: =IF(B19="",G18,G18+1) -> 3 | H19: RG | I19: 8 | J19: =CONCATENATE(D19,"-",E19,"-",F19,"-",TEXT(G19,"0#"),"-",H19,"-",TEXT(I19,"0#")) -> ITT-T-AD-03-RG-08 | K19: =J19&"-"&C19 -> ITT-T-AD-03-RG-08-ENCUESTA DE EFICACIA CAPACITACIÓN DOCENTE AL PARTICIPANTE | L19: https://docs.google.com/document/d/1iLbSXRl19pbilmjfdwNcGmjgshZkDd35jeuHbmNDlgo/edit?usp=sharing | M19: REGISTRO | N19: ITT-POE-05-08 ENCUESTA DE EFICACIA CAPACITACIÓN DOCENTE AL PARTICIPANTE
A20: Proceso de Administración de Recursos | B20: MANTENIMIENTO DE INFRAESTRUCTURA | C20: MANTENIMIENTO DE INFRAESTRUCTURA | D20: ='Configuración'!$A$2 -> ITT | E20: T | F20: AD | G20: =IF(B20="",G19,G19+1) -> 4 | H20: PR | I20: 1 | J20: =CONCATENATE(D20,"-",E20,"-",F20,"-",TEXT(G20,"0#"),"-",H20,"-",TEXT(I20,"0#")) -> ITT-T-AD-04-PR-01 | K20: =J20&"-"&C20 -> ITT-T-AD-04-PR-01-MANTENIMIENTO DE INFRAESTRUCTURA | L20: https://docs.google.com/document/d/1omMFdvjEqXiJtGeWTCx1_UlbQMJ9Ph16IQ3CWmuYRuw/edit?usp=drive_link | M20: PROCEDIMIENTO | N20: ITT-POE-06 PROCEDIMIENTO DE MANTENIMIENTO DE INFRAESTRUCTURA
C21: MATRIZ DE ANÁLISIS DE RIESGO | D21: ='Configuración'!$A$2 -> ITT | E21: T | F21: AD | G21: =IF(B21="",G20,G20+1) -> 4 | H21: AN | I21: 1 | J21: =CONCATENATE(D21,"-",E21,"-",F21,"-",TEXT(G21,"0#"),"-",H21,"-",TEXT(I21,"0#")) -> ITT-T-AD-04-AN-01 | K21: =J21&"-"&C21 -> ITT-T-AD-04-AN-01-MATRIZ DE ANÁLISIS DE RIESGO | L21: https://docs.google.com/spreadsheets/d/1VFNyeIp9GRX8Bxk5UyWDSjy8P3O2DIqY/edit?usp=drive_link&ouid=112467577828699602815&rtpof=true&sd=true | M21: ANEXO | N21: ITT-POE-06 MATRÍZ DE RIESGO
C22: LISTA DE VERIFICACIÓN | D22: ='Configuración'!$A$2 -> ITT | E22: T | F22: AD | G22: =IF(B22="",G21,G21+1) -> 4 | H22: RG | I22: 1 | J22: =CONCATENATE(D22,"-",E22,"-",F22,"-",TEXT(G22,"0#"),"-",H22,"-",TEXT(I22,"0#")) -> ITT-T-AD-04-RG-01 | K22: =J22&"-"&C22 -> ITT-T-AD-04-RG-01-LISTA DE VERIFICACIÓN | L22: https://docs.google.com/document/d/1CAiCTpjFRIvfslfaMV0nK1DJL_rToPkOxUrmjJR-noc/edit?usp=sharing | M22: REGISTRO | N22: ITT-POE-06-01 LISTA DE VERIFICACIÓN
C23: SOLICITUD DE MANTENIMIENTO CORRECTIVO | D23: ='Configuración'!$A$2 -> ITT | E23: T | F23: AD | G23: =IF(B23="",G22,G22+1) -> 4 | H23: RG | I23: 2 | J23: =CONCATENATE(D23,"-",E23,"-",F23,"-",TEXT(G23,"0#"),"-",H23,"-",TEXT(I23,"0#")) -> ITT-T-AD-04-RG-02 | K23: =J23&"-"&C23 -> ITT-T-AD-04-RG-02-SOLICITUD DE MANTENIMIENTO CORRECTIVO | L23: https://docs.google.com/document/d/14LF5Lzz032c3TtlVcjb-xWtPxtzEw5C4u7VdhC4lHqc/edit?usp=sharing | M23: REGISTRO | N23: ITT-POE-06-02 SOLICITUD DE MANTENIMIENTO CORRECTIVO
C24: PROGRAMA DE MANTENIMIENTO PREVENTIVO | D24: ='Configuración'!$A$2 -> ITT | E24: T | F24: AD | G24: =IF(B24="",G23,G23+1) -> 4 | H24: RG | I24: 3 | J24: =CONCATENATE(D24,"-",E24,"-",F24,"-",TEXT(G24,"0#"),"-",H24,"-",TEXT(I24,"0#")) -> ITT-T-AD-04-RG-03 | K24: =J24&"-"&C24 -> ITT-T-AD-04-RG-03-PROGRAMA DE MANTENIMIENTO PREVENTIVO | L24: https://docs.google.com/document/d/1au-S3pjliBxGnAsaZBQvSMGQi1Fi8FM269QEJ42-BDQ/edit?usp=sharing | M24: REGISTRO | N24: ITT-POE-06-03 PROGRAMA DE MANTENIMIENTO PREVENTIVO
C25: ORDEN DE TRABAJO DE MANTENIMIENTO | D25: ='Configuración'!$A$2 -> ITT | E25: T | F25: AD | G25: =IF(B25="",G24,G24+1) -> 4 | H25: RG | I25: 4 | J25: =CONCATENATE(D25,"-",E25,"-",F25,"-",TEXT(G25,"0#"),"-",H25,"-",TEXT(I25,"0#")) -> ITT-T-AD-04-RG-04 | K25: =J25&"-"&C25 -> ITT-T-AD-04-RG-04-ORDEN DE TRABAJO DE MANTENIMIENTO | L25: https://docs.google.com/document/d/1hLU0_ztEwX1HDRaQOFNNkUEP-hJ0wXAu_0BpAcx45c8/edit?usp=sharing | M25: REGISTRO | N25: ITT-POE-06-04 ORDEN DE TRABAJO DE MANTENIMIENTO
A26: Proceso de Administración de Recursos | B26: REALIZACIÓN DE COMPRAS DIRECTAS | C26: REALIZACIÓN DE COMPRAS DIRECTAS | D26: ='Configuración'!$A$2 -> ITT | E26: T | F26: AD | G26: =IF(B26="",G25,G25+1) -> 5 | H26: IT | I26: 1 | J26: =CONCATENATE(D26,"-",E26,"-",F26,"-",TEXT(G26,"0#"),"-",H26,"-",TEXT(I26,"0#")) -> ITT-T-AD-05-IT-01 | K26: =J26&"-"&C26 -> ITT-T-AD-05-IT-01-REALIZACIÓN DE COMPRAS DIRECTAS | L26: https://drive.google.com/file/d/1f4OoXoadv0wAVESfGWQbEPVquT7YsV0e/view?usp=drive_link | M26: PROCEDIMIENTO | N26: ITT-ITC-IT-01 INSTRUCTIVO DE TRABAJO PARA LA REALIZACIÓN DE COMPRAS DIRECTAS
C27: FORMATO PARA SELECCIÓN DE PROVEEDORES | D27: ='Configuración'!$A$2 -> ITT | E27: T | F27: AD | G27: =IF(B27="",G26,G26+1) -> 5 | H27: RG | I27: 1 | J27: =CONCATENATE(D27,"-",E27,"-",F27,"-",TEXT(G27,"0#"),"-",H27,"-",TEXT(I27,"0#")) -> ITT-T-AD-05-RG-01 | K27: =J27&"-"&C27 -> ITT-T-AD-05-RG-01-FORMATO PARA SELECCIÓN DE PROVEEDORES | L27: https://docs.google.com/document/d/1dgqqernIDU1YTrUfw84WVbUxlx_u7t557RWlLqAiRo0/edit?usp=sharing | M27: REGISTRO | N27: ITT-ITC-FO-01 FORMATO PARA SELECCIÓN DE PROVEEDORES
C28: FORMATO PARA EVALUACIÓN DE PROVEEDORES | D28: ='Configuración'!$A$2 -> ITT | E28: T | F28: AD | G28: =IF(B28="",G27,G27+1) -> 5 | H28: RG | I28: 2 | J28: =CONCATENATE(D28,"-",E28,"-",F28,"-",TEXT(G28,"0#"),"-",H28,"-",TEXT(I28,"0#")) -> ITT-T-AD-05-RG-02 | K28: =J28&"-"&C28 -> ITT-T-AD-05-RG-02-FORMATO PARA EVALUACIÓN DE PROVEEDORES | L28: https://docs.google.com/document/d/1TroHoFaEyHBUp2qZhTrFGnSHnQ2elOfknnSqnybNqzA/edit?usp=sharing | M28: REGISTRO | N28: ITT-ITC-FO-02 FORMATO PARA EVALUACIÓN DE PROVEEDORES
C29: FORMATO PARA REQUISICIÓN DE BIENES Y SERVICIOS | D29: ='Configuración'!$A$2 -> ITT | E29: T | F29: AD | G29: =IF(B29="",G28,G28+1) -> 5 | H29: RG | I29: 3 | J29: =CONCATENATE(D29,"-",E29,"-",F29,"-",TEXT(G29,"0#"),"-",H29,"-",TEXT(I29,"0#")) -> ITT-T-AD-05-RG-03 | K29: =J29&"-"&C29 -> ITT-T-AD-05-RG-03-FORMATO PARA REQUISICIÓN DE BIENES Y SERVICIOS | L29: https://docs.google.com/document/d/1zdrGZ8eNXHQxeeo32Ayds124pRrNOrQR9wvz4w748mk/edit?usp=sharing | M29: REGISTRO | N29: ITT-ITC-FO-03 FORMATO PARA REQUISICIÓN DE BIENES Y SERVICIOS
C30: FORMATO PARA CATALOGO PROVEEDORES APROBADOS | D30: ='Configuración'!$A$2 -> ITT | E30: T | F30: AD | G30: =IF(B30="",G29,G29+1) -> 5 | H30: RG | I30: 4 | J30: =CONCATENATE(D30,"-",E30,"-",F30,"-",TEXT(G30,"0#"),"-",H30,"-",TEXT(I30,"0#")) -> ITT-T-AD-05-RG-04 | K30: =J30&"-"&C30 -> ITT-T-AD-05-RG-04-FORMATO PARA CATALOGO PROVEEDORES APROBADOS | L30: https://docs.google.com/document/d/1rf0tVEWpTZDI_MoMdTPbbiQt3ZlI89jThN5dR0nR9Gk/edit?usp=sharing | M30: REGISTRO | N30: ITT-ITC-FO-04 FORMATO PARA CATALOGO PROVEEDORES APROBADOS
A31: Proceso de Administración de Recursos | B31: DESARROLLO DE PROYECTO INDIVIDUAL | C31: DESARROLLO DE PROYECTO INDIVIDUAL | D31: ='Configuración'!$A$2 -> ITT | E31: T | F31: AD | G31: =IF(B31="",G30,G30+1) -> 6 | H31: IT | I31: 1 | J31: =CONCATENATE(D31,"-",E31,"-",F31,"-",TEXT(G31,"0#"),"-",H31,"-",TEXT(I31,"0#")) -> ITT-T-AD-06-IT-01 | K31: =J31&"-"&C31 -> ITT-T-AD-06-IT-01-DESARROLLO DE PROYECTO INDIVIDUAL | L31: https://docs.google.com/document/d/1puSvuDWh-Y6wUp1x9tpKY8lEJVM0cqkg7M5BTbfyziQ/edit?usp=sharing | M31: PROCEDIMIENTO | N31: ITT-POC-10 PROCEDIMIENTO PARA DESARROLLO DE PROYECTO INDIVIDUAL
C32: MATRIZ DE ANÁLISIS DE RIESGO | D32: ='Configuración'!$A$2 -> ITT | E32: T | F32: AD | G32: =IF(B32="",G31,G31+1) -> 6 | H32: AN | I32: 1 | J32: =CONCATENATE(D32,"-",E32,"-",F32,"-",TEXT(G32,"0#"),"-",H32,"-",TEXT(I32,"0#")) -> ITT-T-AD-06-AN-01 | K32: =J32&"-"&C32 -> ITT-T-AD-06-AN-01-MATRIZ DE ANÁLISIS DE RIESGO | M32: ANEXO
C33: REPORTE DEL PROYECTO INDIVIDUAL DEL DOCENTE | D33: ='Configuración'!$A$2 -> ITT | E33: T | F33: AD | G33: =IF(B33="",G32,G32+1) -> 6 | H33: RG | I33: 2 | J33: =CONCATENATE(D33,"-",E33,"-",F33,"-",TEXT(G33,"0#"),"-",H33,"-",TEXT(I33,"0#")) -> ITT-T-AD-06-RG-02 | K33: =J33&"-"&C33 -> ITT-T-AD-06-RG-02-REPORTE DEL PROYECTO INDIVIDUAL DEL DOCENTE | L33: https://docs.google.com/document/d/1_nV8z6RJ2RuEAKpiLuRvcI7O0ouwYVYUSwnYSo3uS5k/edit?usp=sharing | M33: REGISTRO | N33: ITT-POC-10-01 REPORTE DEL PROYECTO INDIVIDUAL DEL DOCENTE
A34: Proceso Académico | B34: INSCRIPCIÓN DEL ESTUDIANTE | C34: INSCRIPCIÓN DEL ESTUDIANTE | D34: ='Configuración'!$A$2 -> ITT | E34: L | F34: AC | G34: =IF(B34="",G33,G33+1) -> 7 | H34: PR | I34: 1 | J34: =CONCATENATE(D34,"-",E34,"-",F34,"-",TEXT(G34,"0#"),"-",H34,"-",TEXT(I34,"0#")) -> ITT-L-AC-07-PR-01 | K34: =J34&"-"&C34 -> ITT-L-AC-07-PR-01-INSCRIPCIÓN DEL ESTUDIANTE | L34: https://docs.google.com/document/d/13Zea0lZnhU6e-GXe4XJDtOdX1oPzQKTJ/edit?usp=drive_link&ouid=112467577828699602815&rtpof=true&sd=true | M34: PROCEDIMIENTO | N34: ITT-POE-01 - INSCRIPCIÓN DEL ESTUDIANTE
C35: MATRIZ DE ANÁLISIS DE RIESGO | D35: ='Configuración'!$A$2 -> ITT | E35: L | F35: AC | G35: =IF(B35="",G34,G34+1) -> 7 | H35: AN | I35: 1 | J35: =CONCATENATE(D35,"-",E35,"-",F35,"-",TEXT(G35,"0#"),"-",H35,"-",TEXT(I35,"0#")) -> ITT-L-AC-07-AN-01 | K35: =J35&"-"&C35 -> ITT-L-AC-07-AN-01-MATRIZ DE ANÁLISIS DE RIESGO | L35: https://docs.google.com/spreadsheets/d/10vJYrsmNzITkypqiNGck-Uw2_kmGcI9u/edit?usp=drive_link&ouid=112467577828699602815&rtpof=true&sd=true | M35: ANEXO | N35: ITT-POE-01 - MATRÍZ DE RIESGO - PROCESO DE INSCRIPCIÓN
C36: CARTA DE ACEPTACIÓN | D36: ='Configuración'!$A$2 -> ITT | E36: L | F36: AC | G36: =IF(B36="",G35,G35+1) -> 7 | H36: RG | I36: 1 | J36: =CONCATENATE(D36,"-",E36,"-",F36,"-",TEXT(G36,"0#"),"-",H36,"-",TEXT(I36,"0#")) -> ITT-L-AC-07-RG-01 | K36: =J36&"-"&C36 -> ITT-L-AC-07-RG-01-CARTA DE ACEPTACIÓN | L36: https://docs.google.com/document/d/1X-ogTZiJgzPXtr5YAtxNeM3L6nyJyG15db-Ramm0xZE/edit?usp=sharing | M36: REGISTRO | N36: ITT-POE-01-01 - CARTA DE ACEPTACIÓN
C37: SOLICITUD DE INSCRIPCIÓN | D37: ='Configuración'!$A$2 -> ITT | E37: L | F37: AC | G37: =IF(B37="",G36,G36+1) -> 7 | H37: RG | I37: 2 | J37: =CONCATENATE(D37,"-",E37,"-",F37,"-",TEXT(G37,"0#"),"-",H37,"-",TEXT(I37,"0#")) -> ITT-L-AC-07-RG-02 | K37: =J37&"-"&C37 -> ITT-L-AC-07-RG-02-SOLICITUD DE INSCRIPCIÓN | L37: https://docs.google.com/document/d/1yRErR159eYUhp7XPkDGhiBZ369Rrdj2NA6XitB4iAD0/edit?usp=drive_link | M37: REGISTRO | N37: ITT-POE-01-02 - SOLICITUD DE INSCRIPCIÓN
C38: CONTRATO CON EL ALUMNO | D38: ='Configuración'!$A$2 -> ITT | E38: L | F38: AC | G38: =IF(B38="",G37,G37+1) -> 7 | H38: RG | I38: 3 | J38: =CONCATENATE(D38,"-",E38,"-",F38,"-",TEXT(G38,"0#"),"-",H38,"-",TEXT(I38,"0#")) -> ITT-L-AC-07-RG-03 | K38: =J38&"-"&C38 -> ITT-L-AC-07-RG-03-CONTRATO CON EL ALUMNO | L38: https://docs.google.com/document/d/1DAKnhYRV99Ag1qI-w-M_Nem1o2FCrTFtT_L6QGM-zgw/edit?usp=sharing | M38: REGISTRO | N38: ITT-POE-01-03 - CONTRATO CON EL ALUMNO
C39: LIBRO DE REGISTRO DE NÚMEROS DE CONTROL | D39: ='Configuración'!$A$2 -> ITT | E39: L | F39: AC | G39: =IF(B39="",G38,G38+1) -> 7 | H39: RG | I39: 4 | J39: =CONCATENATE(D39,"-",E39,"-",F39,"-",TEXT(G39,"0#"),"-",H39,"-",TEXT(I39,"0#")) -> ITT-L-AC-07-RG-04 | K39: =J39&"-"&C39 -> ITT-L-AC-07-RG-04-LIBRO DE REGISTRO DE NÚMEROS DE CONTROL | L39: https://docs.google.com/document/d/1uzcFOZI82UWsnR2qBz_JBr80ea_CmsAMTEDgIiGD4Ag/edit?usp=sharing | M39: REGISTRO | N39: ITT-POE-01-04 - LIBRO DE REGISTRO DE NÚMEROS DE CONTROL
A40: Proceso Académico | B40: INGRESO DE ESTUDIANTES DE POSGRADO | C40: INGRESO DE ESTUDIANTES DE POSGRADO | D40: ='Configuración'!$A$2 -> ITT | E40: P | F40: AC | G40: =IF(B40="",G39,G39+1) -> 8 | H40: PR | I40: 2 | J40: =CONCATENATE(D40,"-",E40,"-",F40,"-",TEXT(G40,"0#"),"-",H40,"-",TEXT(I40,"0#")) -> ITT-P-AC-08-PR-02 | K40: =J40&"-"&C40 -> ITT-P-AC-08-PR-02-INGRESO DE ESTUDIANTES DE POSGRADO | L40: https://docs.google.com/document/d/1gnuUh6198XPeQGlmfZVXLTTiRHUdTmu0/edit?usp=drive_link&ouid=112467577828699602815&rtpof=true&sd=true | M40: PROCEDIMIENTO
C41: MATRIZ DE ANÁLISIS DE RIESGO | D41: ='Configuración'!$A$2 -> ITT | E41: P | F41: AC | G41: =IF(B41="",G40,G40+1) -> 8 | H41: AN | I41: 2 | J41: =CONCATENATE(D41,"-",E41,"-",F41,"-",TEXT(G41,"0#"),"-",H41,"-",TEXT(I41,"0#")) -> ITT-P-AC-08-AN-02 | K41: =J41&"-"&C41 -> ITT-P-AC-08-AN-02-MATRIZ DE ANÁLISIS DE RIESGO | L41: https://docs.google.com/spreadsheets/d/15D9l-xk6uv5JnT-UdIJnl83Pj8eV_xLQ/edit?usp=drive_link&ouid=112467577828699602815&rtpof=true&sd=true | M41: ANEXO
A42: Proceso Académico | B42: REINSCRIPCIÓN DEL ESTUDIANTE | C42: REINSCRIPCIÓN DEL ESTUDIANTE | D42: ='Configuración'!$A$2 -> ITT | E42: L | F42: AC | G42: =IF(B42="",G41,G41+1) -> 9 | H42: PR | I42: 1 | J42: =CONCATENATE(D42,"-",E42,"-",F42,"-",TEXT(G42,"0#"),"-",H42,"-",TEXT(I42,"0#")) -> ITT-L-AC-09-PR-01 | K42: =J42&"-"&C42 -> ITT-L-AC-09-PR-01-REINSCRIPCIÓN DEL ESTUDIANTE | L42: https://docs.google.com/document/d/1IH1s2oFhoaRQT7yg8puBq7iQKFNXEY64HGHT0BjCWLI/edit?usp=drive_link | M42: PROCEDIMIENTO | N42: ITT-POE-02 REINSCRIPCIÓN DEL ESTUDIANTE
C43: MATRIZ DE ANÁLISIS DE RIESGO | D43: ='Configuración'!$A$2 -> ITT | E43: L | F43: AC | G43: =IF(B43="",G42,G42+1) -> 9 | H43: AN | I43: 1 | J43: =CONCATENATE(D43,"-",E43,"-",F43,"-",TEXT(G43,"0#"),"-",H43,"-",TEXT(I43,"0#")) -> ITT-L-AC-09-AN-01 | K43: =J43&"-"&C43 -> ITT-L-AC-09-AN-01-MATRIZ DE ANÁLISIS DE RIESGO | L43: https://docs.google.com/spreadsheets/d/17AyI7TEs-BFP65GfnBN7BvRUCFi4l6wp/edit?usp=drive_link&ouid=112467577828699602815&rtpof=true&sd=true | M43: ANEXO | N43: ITT-POE-02 - MATRIZ ANÁLISIS DE RIESGO REINSCRIPCIÓN
A44: Proceso Académico | B44: SEGUIMIENTO ACADÉMICO A ESTUDIANTES DE MAESTRÍA | C44: SEGUIMIENTO ACADÉMICO A ESTUDIANTES DE MAESTRÍA | D44: ='Configuración'!$A$2 -> ITT | E44: P | F44: AC | G44: =IF(B44="",G43,G43+1) -> 10 | H44: PR | I44: 2 | J44: =CONCATENATE(D44,"-",E44,"-",F44,"-",TEXT(G44,"0#"),"-",H44,"-",TEXT(I44,"0#")) -> ITT-P-AC-10-PR-02 | K44: =J44&"-"&C44 -> ITT-P-AC-10-PR-02-SEGUIMIENTO ACADÉMICO A ESTUDIANTES DE MAESTRÍA | L44: https://docs.google.com/document/d/1nK60H1lVffbNqj4Q25RrBvbLMmv64IiE/edit?usp=drive_link&ouid=112467577828699602815&rtpof=true&sd=true
C45: MATRIZ DE ANÁLISIS DE RIESGO | D45: ='Configuración'!$A$2 -> ITT | E45: P | F45: AC | G45: =IF(B45="",G44,G44+1) -> 10 | H45: AN | I45: 2 | J45: =CONCATENATE(D45,"-",E45,"-",F45,"-",TEXT(G45,"0#"),"-",H45,"-",TEXT(I45,"0#")) -> ITT-P-AC-10-AN-02 | K45: =J45&"-"&C45 -> ITT-P-AC-10-AN-02-MATRIZ DE ANÁLISIS DE RIESGO | L45: https://docs.google.com/spreadsheets/d/1uKfL8zLMmbFphqQfWmAtejxYvE6TWQX6/edit?usp=drive_link&ouid=112467577828699602815&rtpof=true&sd=true
A46: Proceso Académico | B46: SEGUIMIENTO ACADÉMICO A ESTUDIANTES DE DOCTORADO | C46: SEGUIMIENTO ACADÉMICO A ESTUDIANTES DE DOCTORADO | D46: ='Configuración'!$A$2 -> ITT | E46: P | F46: AC | G46: =IF(B46="",G45,G45+1) -> 11 | H46: PR | I46: 3 | J46: =CONCATENATE(D46,"-",E46,"-",F46,"-",TEXT(G46,"0#"),"-",H46,"-",TEXT(I46,"0#")) -> ITT-P-AC-11-PR-03 | K46: =J46&"-"&C46 -> ITT-P-AC-11-PR-03-SEGUIMIENTO ACADÉMICO A ESTUDIANTES DE DOCTORADO | L46: https://docs.google.com/document/d/1knk2fe0OrYuu_SdYZluXLSkV0qk4lGKt/edit?usp=drive_link&ouid=112467577828699602815&rtpof=true&sd=true | M46: PROCEDIMIENTO
C47: MATRIZ DE ANÁLISIS DE RIESGO | D47: ='Configuración'!$A$2 -> ITT | E47: P | F47: AC | G47: =IF(B47="",G46,G46+1) -> 11 | H47: AN | I47: 3 | J47: =CONCATENATE(D47,"-",E47,"-",F47,"-",TEXT(G47,"0#"),"-",H47,"-",TEXT(I47,"0#")) -> ITT-P-AC-11-AN-03 | K47: =J47&"-"&C47 -> ITT-P-AC-11-AN-03-MATRIZ DE ANÁLISIS DE RIESGO | L47: https://docs.google.com/spreadsheets/d/1yHkAeosbJ63BqdpxsPicHo4BStIvbZgR/edit?usp=drive_link&ouid=112467577828699602815&rtpof=true&sd=true | M47: ANEXO
A48: Proceso Académico | B48: GESTIÓN DEL CURSO | C48: GESTIÓN DEL CURSO | D48: ='Configuración'!$A$2 -> ITT | E48: L | F48: AC | G48: =IF(B48="",G47,G47+1) -> 12 | H48: PR | I48: 1 | J48: =CONCATENATE(D48,"-",E48,"-",F48,"-",TEXT(G48,"0#"),"-",H48,"-",TEXT(I48,"0#")) -> ITT-L-AC-12-PR-01 | K48: =J48&"-"&C48 -> ITT-L-AC-12-PR-01-GESTIÓN DEL CURSO | L48: https://docs.google.com/document/d/1Yf3Hwrb-hrHy7pWAtPw9qKGkssvyjmdjX8G2m0vkPPM/edit?usp=drive_link | M48: PROCEDIMIENTO | N48: ITT-POC-01 - PROCEDIMIENTO PARA LA GESTIÓN DEL CURSO
C49: MATRIZ DE ANÁLISIS DE RIESGO | D49: ='Configuración'!$A$2 -> ITT | E49: L | F49: AC | G49: =IF(B49="",G48,G48+1) -> 12 | H49: AN | I49: 1 | J49: =CONCATENATE(D49,"-",E49,"-",F49,"-",TEXT(G49,"0#"),"-",H49,"-",TEXT(I49,"0#")) -> ITT-L-AC-12-AN-01 | K49: =J49&"-"&C49 -> ITT-L-AC-12-AN-01-MATRIZ DE ANÁLISIS DE RIESGO | L49: https://docs.google.com/spreadsheets/d/1u2i5YrvGhk2bFtk9zByegtQP6fqrUmv2/edit?usp=drive_link&ouid=112467577828699602815&rtpof=true&sd=true | M49: ANEXO | N49: ITT-POC-01 - MATRIZ DE ANÁLISIS DE RIESGOS
C50: INSTRUMENTACIÓN DIDÁCTICA | D50: ='Configuración'!$A$2 -> ITT | E50: L | F50: AC | G50: =IF(B50="",G49,G49+1) -> 12 | H50: RG | I50: 1 | J50: =CONCATENATE(D50,"-",E50,"-",F50,"-",TEXT(G50,"0#"),"-",H50,"-",TEXT(I50,"0#")) -> ITT-L-AC-12-RG-01 | K50: =J50&"-"&C50 -> ITT-L-AC-12-RG-01-INSTRUMENTACIÓN DIDÁCTICA | M50: REGISTRO | N50: ITT-POC-01-01. INSTRUMENTACIÓN DIDÁCTICA
C51: SEGUIMIENTO DE ACTIVIDADES DOCENTES | D51: ='Configuración'!$A$2 -> ITT | E51: L | F51: AC | G51: =IF(B51="",G50,G50+1) -> 12 | H51: RG | I51: 2 | J51: =CONCATENATE(D51,"-",E51,"-",F51,"-",TEXT(G51,"0#"),"-",H51,"-",TEXT(I51,"0#")) -> ITT-L-AC-12-RG-02 | K51: =J51&"-"&C51 -> ITT-L-AC-12-RG-02-SEGUIMIENTO DE ACTIVIDADES DOCENTES | M51: REGISTRO | N51: ITT-POC-01-02. SEGUIMIENTO DE ACTIVIDADES DOCENTES
C52: REPORTE FINAL DEL SEMESTRE | D52: ='Configuración'!$A$2 -> ITT | E52: L | F52: AC | G52: =IF(B52="",G51,G51+1) -> 12 | H52: RG | I52: 3 | J52: =CONCATENATE(D52,"-",E52,"-",F52,"-",TEXT(G52,"0#"),"-",H52,"-",TEXT(I52,"0#")) -> ITT-L-AC-12-RG-03 | K52: =J52&"-"&C52 -> ITT-L-AC-12-RG-03-REPORTE FINAL DEL SEMESTRE | L52: https://docs.google.com/document/d/1fxz9mBLlnYBWtJw6SQj1uchv46WpE2vkkw3M0iEXibE/edit?usp=sharing | M52: REGISTRO | N52: ITT-POC-01-03. REPORTE FINAL DEL SEMESTRE
C53: LIBERACIÓN DE ACTIVIDADES DOCENTES | D53: ='Configuración'!$A$2 -> ITT | E53: L | F53: AC | G53: =IF(B53="",G52,G52+1) -> 12 | H53: RG | I53: 4 | J53: =CONCATENATE(D53,"-",E53,"-",F53,"-",TEXT(G53,"0#"),"-",H53,"-",TEXT(I53,"0#")) -> ITT-L-AC-12-RG-04 | K53: =J53&"-"&C53 -> ITT-L-AC-12-RG-04-LIBERACIÓN DE ACTIVIDADES DOCENTES | L53: https://docs.google.com/document/d/1LfZ77rNRIH6m3AH8udrMWfLFTQpWM_iNrVPnK_1TvT4/edit?usp=drive_link | M53: REGISTRO | N53: ITT-POC-01-04. LIBERACIÓN DE ACTIVIDADES DOCENTES
C54: ACTA DE CALIFICACIONES | D54: ='Configuración'!$A$2 -> ITT | E54: L | F54: AC | G54: =IF(B54="",G53,G53+1) -> 12 | H54: RG | I54: 5 | J54: =CONCATENATE(D54,"-",E54,"-",F54,"-",TEXT(G54,"0#"),"-",H54,"-",TEXT(I54,"0#")) -> ITT-L-AC-12-RG-05 | K54: =J54&"-"&C54 -> ITT-L-AC-12-RG-05-ACTA DE CALIFICACIONES
A55: Proceso Académico | B55: TUTORÍA | C55: ACREDITACIÓN DE TUTORÍAS | D55: ='Configuración'!$A$2 -> ITT | E55: L | F55: AC | G55: =IF(B55="",G54,G54+1) -> 13 | H55: PR | I55: 1 | J55: =CONCATENATE(D55,"-",E55,"-",F55,"-",TEXT(G55,"0#"),"-",H55,"-",TEXT(I55,"0#")) -> ITT-L-AC-13-PR-01 | K55: =J55&"-"&C55 -> ITT-L-AC-13-PR-01-ACREDITACIÓN DE TUTORÍAS | L55: https://docs.google.com/document/d/1ISsbpVUkfqpj2gTRg-6qL-pESFAS46PhlsvctFFvLis/edit?usp=sharing | M55: PROCEDIMIENTO | N55: ITT-POC-02 PROCEDIMIENTO PARA LA ACREDITACIÓN DE TUTORÍAS
C56: MATRIZ DE ANÁLISIS DE RIESGO | D56: ='Configuración'!$A$2 -> ITT | E56: L | F56: AC | G56: =IF(B56="",G55,G55+1) -> 13 | H56: AN | I56: 1 | J56: =CONCATENATE(D56,"-",E56,"-",F56,"-",TEXT(G56,"0#"),"-",H56,"-",TEXT(I56,"0#")) -> ITT-L-AC-13-AN-01 | K56: =J56&"-"&C56 -> ITT-L-AC-13-AN-01-MATRIZ DE ANÁLISIS DE RIESGO | L56: https://docs.google.com/spreadsheets/d/1ad7tmzqeYnHD86Q9oGIGUSSYike6SwQDDW6jd-HeICg/edit?usp=sharing | M56: ANEXO | N56: ITT-POC-02 MATRIZ DE RIESGOS
C57: PLAN DE ACCIÓN SEMESTRAL TUTORÍAS | D57: ='Configuración'!$A$2 -> ITT | E57: L | F57: AC | G57: =IF(B57="",G56,G56+1) -> 13 | H57: RG | I57: 1 | J57: =CONCATENATE(D57,"-",E57,"-",F57,"-",TEXT(G57,"0#"),"-",H57,"-",TEXT(I57,"0#")) -> ITT-L-AC-13-RG-01 | K57: =J57&"-"&C57 -> ITT-L-AC-13-RG-01-PLAN DE ACCIÓN SEMESTRAL TUTORÍAS | L57: https://docs.google.com/document/d/153f6ocQ0poWkddn2NMH2yp_kq84-IVMoHAdMMcUIIfw/edit?usp=drive_link | M57: REGISTRO | N57: ITT-POC-02-01 PLAN DE ACCIÓN SEMESTRAL TUTORÍAS
C58: FICHA DE IDENTIFICACIÓN DEL TUTORADO | D58: ='Configuración'!$A$2 -> ITT | E58: L | F58: AC | G58: =IF(B58="",G57,G57+1) -> 13 | H58: RG | I58: 2 | J58: =CONCATENATE(D58,"-",E58,"-",F58,"-",TEXT(G58,"0#"),"-",H58,"-",TEXT(I58,"0#")) -> ITT-L-AC-13-RG-02 | K58: =J58&"-"&C58 -> ITT-L-AC-13-RG-02-FICHA DE IDENTIFICACIÓN DEL TUTORADO | L58: https://docs.google.com/document/d/1vVOCGrO-RNWnCz7AokbYxJMNmdlNgqjyhfKMMn0Nzrc/edit?usp=drive_link | M58: REGISTRO | N58: ITT-POC-02-02 FICHA DE IDENTIFICACIÓN DEL TUTORADO
C59: FORMATO DE ENTREVISTA | D59: ='Configuración'!$A$2 -> ITT | E59: L | F59: AC | G59: =IF(B59="",G58,G58+1) -> 13 | H59: RG | I59: 3 | J59: =CONCATENATE(D59,"-",E59,"-",F59,"-",TEXT(G59,"0#"),"-",H59,"-",TEXT(I59,"0#")) -> ITT-L-AC-13-RG-03 | K59: =J59&"-"&C59 -> ITT-L-AC-13-RG-03-FORMATO DE ENTREVISTA | L59: https://docs.google.com/document/d/1Wrz-go8cU5z6Lg07Bs4e4QHz8s5iQ4i4NpPT0jWr0bs/edit?usp=sharing | M59: REGISTRO | N59: ITT-POC-02-03 FORMATO DE ENTREVISTA
C60: REPORTE DEL TUTOR | D60: ='Configuración'!$A$2 -> ITT | E60: L | F60: AC | G60: =IF(B60="",G59,G59+1) -> 13 | H60: RG | I60: 4 | J60: =CONCATENATE(D60,"-",E60,"-",F60,"-",TEXT(G60,"0#"),"-",H60,"-",TEXT(I60,"0#")) -> ITT-L-AC-13-RG-04 | K60: =J60&"-"&C60 -> ITT-L-AC-13-RG-04-REPORTE DEL TUTOR | L60: https://docs.google.com/spreadsheets/d/1oAiRKshpFDRZV2IwW27KXN71ZrA7pTpT_fXYNSanH0Y/edit?usp=sharing | M60: REGISTRO | N60: ITT-POC-02-04 REPORTE DEL TUTOR
C61: REPORTE DEL COORDINADOR INSTITUCIONAL DE TUTORIA | D61: ='Configuración'!$A$2 -> ITT | E61: L | F61: AC | G61: =IF(B61="",G60,G60+1) -> 13 | H61: RG | I61: 5 | J61: =CONCATENATE(D61,"-",E61,"-",F61,"-",TEXT(G61,"0#"),"-",H61,"-",TEXT(I61,"0#")) -> ITT-L-AC-13-RG-05 | K61: =J61&"-"&C61 -> ITT-L-AC-13-RG-05-REPORTE DEL COORDINADOR INSTITUCIONAL DE TUTORIA | L61: https://docs.google.com/spreadsheets/d/1ui0moPv-PERprVGsA-tYs6eDSAvF1MX7kW6-GUhKOnk/edit?usp=sharing | M61: REGISTRO | N61: ITT-POC-02-05 REPORTE DEL COORDINADOR INSTITUCIONAL DE TUTORIA
A62: Proceso Académico | B62: Administración y desarrollo de proyectos | C62: ADMINISTRACIÓN Y DESARROLLO DE PROYECTOS | D62: ='Configuración'!$A$2 -> ITT | E62: P | F62: AC | G62: =IF(B62="",G61,G61+1) -> 14 | H62: PR | I62: 1 | J62: =CONCATENATE(D62,"-",E62,"-",F62,"-",TEXT(G62,"0#"),"-",H62,"-",TEXT(I62,"0#")) -> ITT-P-AC-14-PR-01 | K62: =J62&"-"&C62 -> ITT-P-AC-14-PR-01-ADMINISTRACIÓN Y DESARROLLO DE PROYECTOS | L62: https://docs.google.com/document/d/1-sVqzymp3307V1Q7S2iekSzMGSQKpDgh/edit?usp=sharing&ouid=112467577828699602815&rtpof=true&sd=true | M62: PROCEDIMIENTO
C63: MATRIZ DE ANÁLISIS DE RIESGO | D63: ='Configuración'!$A$2 -> ITT | E63: P | F63: AC | G63: =IF(B63="",G62,G62+1) -> 14 | H63: AN | I63: 1 | J63: =CONCATENATE(D63,"-",E63,"-",F63,"-",TEXT(G63,"0#"),"-",H63,"-",TEXT(I63,"0#")) -> ITT-P-AC-14-AN-01 | K63: =J63&"-"&C63 -> ITT-P-AC-14-AN-01-MATRIZ DE ANÁLISIS DE RIESGO | L63: https://docs.google.com/spreadsheets/d/16pfFvlZf3DzkjJR-Xrq632pOIimw5SH_/edit?usp=sharing&ouid=112467577828699602815&rtpof=true&sd=true | M63: ANEXO
A64: Proceso Académico | B64: ASESORIA ACADEMICA | C64: ASESORIA ACADEMICA | D64: ='Configuración'!$A$2 -> ITT | E64: L | F64: AC | G64: =IF(B64="",G63,G63+1) -> 15 | H64: PR | I64: 1 | J64: =CONCATENATE(D64,"-",E64,"-",F64,"-",TEXT(G64,"0#"),"-",H64,"-",TEXT(I64,"0#")) -> ITT-L-AC-15-PR-01 | K64: =J64&"-"&C64 -> ITT-L-AC-15-PR-01-ASESORIA ACADEMICA | L64: https://docs.google.com/document/d/1MT_hnVH0GtjRF9GiXldMOEcymPd3DHAUuZD2B2_uve4/edit?usp=drive_link | M64: PROCEDIMIENTO | N64: ITT-POC-11 PROCEDIMIENTO PARA ASESORIA ACADEMICA
C65: MATRIZ DE ANÁLISIS DE RIESGO | D65: ='Configuración'!$A$2 -> ITT | E65: L | F65: AC | G65: =IF(B65="",G64,G64+1) -> 15 | H65: AN | I65: 1 | J65: =CONCATENATE(D65,"-",E65,"-",F65,"-",TEXT(G65,"0#"),"-",H65,"-",TEXT(I65,"0#")) -> ITT-L-AC-15-AN-01 | K65: =J65&"-"&C65 -> ITT-L-AC-15-AN-01-MATRIZ DE ANÁLISIS DE RIESGO | L65: https://docs.google.com/spreadsheets/d/1UqGEK-w0rx6WIND9aCcwLLIqLVAhT3-Q/edit?usp=drive_link&ouid=112467577828699602815&rtpof=true&sd=true | M65: ANEXO
C66: FORMATO PARA REGISTRO DE ASESORÍA ACADÉMICA | D66: ='Configuración'!$A$2 -> ITT | E66: L | F66: AC | G66: =IF(B66="",G65,G65+1) -> 15 | H66: RG | I66: 1 | J66: =CONCATENATE(D66,"-",E66,"-",F66,"-",TEXT(G66,"0#"),"-",H66,"-",TEXT(I66,"0#")) -> ITT-L-AC-15-RG-01 | K66: =J66&"-"&C66 -> ITT-L-AC-15-RG-01-FORMATO PARA REGISTRO DE ASESORÍA ACADÉMICA | L66: https://docs.google.com/document/d/1ElBdXLGm8T1Po2p8f54_LuwDQL8Ag1dkmHSmycgEP04/edit?usp=sharing | M66: REGISTRO | N66: ITT-POC-11-01 FORMATO PARA REGISTRO DE ASESORÍA ACADÉMICA
C67: BITACORA DE SESIONES DE ASESORIA | D67: ='Configuración'!$A$2 -> ITT | E67: L | F67: AC | G67: =IF(B67="",G66,G66+1) -> 15 | H67: RG | I67: 2 | J67: =CONCATENATE(D67,"-",E67,"-",F67,"-",TEXT(G67,"0#"),"-",H67,"-",TEXT(I67,"0#")) -> ITT-L-AC-15-RG-02 | K67: =J67&"-"&C67 -> ITT-L-AC-15-RG-02-BITACORA DE SESIONES DE ASESORIA | L67: https://docs.google.com/spreadsheets/d/10kK-cqELK2JjpR_YYrdRFLjGtnyDUSqB/edit?usp=drive_link&ouid=112467577828699602815&rtpof=true&sd=true | M67: REGISTRO | N67: ITT-POC-11-02 BITACORA DE SESIONES DE ASESORIA
C68: COORDINADOR Y RELACION DE ASESORES | D68: ='Configuración'!$A$2 -> ITT | E68: L | F68: AC | G68: =IF(B68="",G67,G67+1) -> 15 | H68: RG | I68: 3 | J68: =CONCATENATE(D68,"-",E68,"-",F68,"-",TEXT(G68,"0#"),"-",H68,"-",TEXT(I68,"0#")) -> ITT-L-AC-15-RG-03 | K68: =J68&"-"&C68 -> ITT-L-AC-15-RG-03-COORDINADOR Y RELACION DE ASESORES | L68: https://docs.google.com/spreadsheets/d/1Gk34yLiu11qvsPAxY0skwRGWjrfp6iIS/edit?usp=sharing&ouid=112467577828699602815&rtpof=true&sd=true | M68: REGISTRO | N68: ITT-POC-11-03 COORDINADOR Y RELACION DE ASESORES
C69: SEGUIMIENTO DE ASESORES | D69: ='Configuración'!$A$2 -> ITT | E69: L | F69: AC | G69: =IF(B69="",G68,G68+1) -> 15 | H69: RG | I69: 4 | J69: =CONCATENATE(D69,"-",E69,"-",F69,"-",TEXT(G69,"0#"),"-",H69,"-",TEXT(I69,"0#")) -> ITT-L-AC-15-RG-04 | K69: =J69&"-"&C69 -> ITT-L-AC-15-RG-04-SEGUIMIENTO DE ASESORES | L69: https://docs.google.com/spreadsheets/d/155a7jElhZ_GCYW_fHH18sF7eRpcJ1D8X/edit?usp=sharing&ouid=112467577828699602815&rtpof=true&sd=true | M69: REGISTRO | N69: ITT-POC-11-04 SEGUIMIENTO DE ASESORES
A70: Proceso Académico | B70: Presentación de predoctoral | C70: PRESENTACIÓN PREDOCTORAL | D70: ='Configuración'!$A$2 -> ITT | E70: P | F70: AC | G70: =IF(B70="",G69,G69+1) -> 16 | H70: PR | I70: 1 | J70: =CONCATENATE(D70,"-",E70,"-",F70,"-",TEXT(G70,"0#"),"-",H70,"-",TEXT(I70,"0#")) -> ITT-P-AC-16-PR-01 | K70: =J70&"-"&C70 -> ITT-P-AC-16-PR-01-PRESENTACIÓN PREDOCTORAL | L70: https://docs.google.com/document/d/1hpEdwBcFdJn4BEBhXBY-qcuQfk9H2kFS/edit?usp=drive_link&ouid=112467577828699602815&rtpof=true&sd=true | M70: PROCEDIMIENTO
C71: MATRIZ DE ANÁLISIS DE RIESGO | D71: ='Configuración'!$A$2 -> ITT | E71: P | F71: AC | G71: =IF(B71="",G70,G70+1) -> 16 | H71: AN | I71: 1 | J71: =CONCATENATE(D71,"-",E71,"-",F71,"-",TEXT(G71,"0#"),"-",H71,"-",TEXT(I71,"0#")) -> ITT-P-AC-16-AN-01 | K71: =J71&"-"&C71 -> ITT-P-AC-16-AN-01-MATRIZ DE ANÁLISIS DE RIESGO | M71: ANEXO
A72: Proceso Académico | B72: Cambio de Director de Tesis | C72: CAMBIO DE DIRECTOR DE TESIS | D72: ='Configuración'!$A$2 -> ITT | E72: P | F72: AC | G72: =IF(B72="",G71,G71+1) -> 17 | H72: PR | I72: 1 | J72: =CONCATENATE(D72,"-",E72,"-",F72,"-",TEXT(G72,"0#"),"-",H72,"-",TEXT(I72,"0#")) -> ITT-P-AC-17-PR-01 | K72: =J72&"-"&C72 -> ITT-P-AC-17-PR-01-CAMBIO DE DIRECTOR DE TESIS | L72: https://docs.google.com/document/d/1h_8cLYcMnXBdkvjlI00vptzleN54t9jV/edit?usp=sharing&ouid=112467577828699602815&rtpof=true&sd=true
C73: MATRIZ DE ANÁLISIS DE RIESGO | D73: ='Configuración'!$A$2 -> ITT | E73: P | F73: AC | G73: =IF(B73="",G72,G72+1) -> 17 | H73: AN | I73: 1 | J73: =CONCATENATE(D73,"-",E73,"-",F73,"-",TEXT(G73,"0#"),"-",H73,"-",TEXT(I73,"0#")) -> ITT-P-AC-17-AN-01 | K73: =J73&"-"&C73 -> ITT-P-AC-17-AN-01-MATRIZ DE ANÁLISIS DE RIESGO
A74: Proceso de Vinculación | B74: SERVICIO SOCIAL | C74: SERVICIO SOCIAL | D74: ='Configuración'!$A$2 -> ITT | E74: L | F74: VI | G74: =IF(B74="",G73,G73+1) -> 18 | H74: PR | I74: 1 | J74: =CONCATENATE(D74,"-",E74,"-",F74,"-",TEXT(G74,"0#"),"-",H74,"-",TEXT(I74,"0#")) -> ITT-L-VI-18-PR-01 | K74: =J74&"-"&C74 -> ITT-L-VI-18-PR-01-SERVICIO SOCIAL | L74: https://docs.google.com/document/d/1QjN98dr3TBkvZczFK1R37sRwt4-uVsRc/edit?usp=drive_link&ouid=112467577828699602815&rtpof=true&sd=true | M74: PROCEDIMIENTO | N74: ITT-POC-08 PROCEDIMIENTO PARA SERVICIO SOCIAL
C75: MATRIZ DE ANÁLISIS DE RIESGO | D75: ='Configuración'!$A$2 -> ITT | E75: L | F75: VI | G75: =IF(B75="",G74,G74+1) -> 18 | H75: AN | I75: 1 | J75: =CONCATENATE(D75,"-",E75,"-",F75,"-",TEXT(G75,"0#"),"-",H75,"-",TEXT(I75,"0#")) -> ITT-L-VI-18-AN-01 | K75: =J75&"-"&C75 -> ITT-L-VI-18-AN-01-MATRIZ DE ANÁLISIS DE RIESGO | L75: https://docs.google.com/spreadsheets/d/1FuEspZb0xdsRVNguMdNWCZvq-CJzEpc7/edit?usp=drive_link&ouid=112467577828699602815&rtpof=true&sd=true | M75: ANEXO | N75: ITT-POC-08 MATRIZ DE ANÁLISIS DE RIESGO DESARROLLO DE PROYECTOS
C76: PROGRAMA SEMESTRAL DE TRABAJO DE SERVICIO SOCIAL | D76: ='Configuración'!$A$2 -> ITT | E76: L | F76: VI | G76: =IF(B76="",G75,G75+1) -> 18 | H76: RG | I76: 1 | J76: =CONCATENATE(D76,"-",E76,"-",F76,"-",TEXT(G76,"0#"),"-",H76,"-",TEXT(I76,"0#")) -> ITT-L-VI-18-RG-01 | K76: =J76&"-"&C76 -> ITT-L-VI-18-RG-01-PROGRAMA SEMESTRAL DE TRABAJO DE SERVICIO SOCIAL | L76: https://docs.google.com/document/d/16VhPGvyINXkyTcxHN5UfDU4a_V6suhkrB1YtGAJB5xs/edit?usp=sharing | M76: REGISTRO | N76: ITT-POC-08-01 PROGRAMA SEMESTRAL DE TRABAJO DE SERVICIO SOCIAL
C77: SOLICITUD DE SERVICIO SOCIAL | D77: ='Configuración'!$A$2 -> ITT | E77: L | F77: VI | G77: =IF(B77="",G76,G76+1) -> 18 | H77: RG | I77: 2 | J77: =CONCATENATE(D77,"-",E77,"-",F77,"-",TEXT(G77,"0#"),"-",H77,"-",TEXT(I77,"0#")) -> ITT-L-VI-18-RG-02 | K77: =J77&"-"&C77 -> ITT-L-VI-18-RG-02-SOLICITUD DE SERVICIO SOCIAL | L77: https://docs.google.com/document/d/1mwVBBbDvIQmp4BSjeowpbCwiJCpcQcCTPc5MRMmbpmM/edit?usp=drive_link | M77: REGISTRO | N77: ITT-POC-08-02 SOLICITUD DE SERVICIO SOCIAL
C78: CARTA DE PRESENTACIÓN DE SERVICIO SOCIAL | D78: ='Configuración'!$A$2 -> ITT | E78: L | F78: VI | G78: =IF(B78="",G77,G77+1) -> 18 | H78: RG | I78: 3 | J78: =CONCATENATE(D78,"-",E78,"-",F78,"-",TEXT(G78,"0#"),"-",H78,"-",TEXT(I78,"0#")) -> ITT-L-VI-18-RG-03 | K78: =J78&"-"&C78 -> ITT-L-VI-18-RG-03-CARTA DE PRESENTACIÓN DE SERVICIO SOCIAL | L78: https://docs.google.com/document/d/1aXXm4ZgF96a7SM9-piTK6lzxxQKNzmzdS2S6D5RDp1c/edit?usp=drive_link | M78: REGISTRO | N78: ITT-POC-08-03 CARTA DE PRESENTACIÓN DE SERVICIO SOCIAL
C79: CARTA DE ASIGNACIÓN-PLAN DE TRABAJO | D79: ='Configuración'!$A$2 -> ITT | E79: L | F79: VI | G79: =IF(B79="",G78,G78+1) -> 18 | H79: RG | I79: 4 | J79: =CONCATENATE(D79,"-",E79,"-",F79,"-",TEXT(G79,"0#"),"-",H79,"-",TEXT(I79,"0#")) -> ITT-L-VI-18-RG-04 | K79: =J79&"-"&C79 -> ITT-L-VI-18-RG-04-CARTA DE ASIGNACIÓN-PLAN DE TRABAJO | L79: https://docs.google.com/document/d/1iTGymSaRJDgl2_62S1WMJw8d91IctFO_lqU5xofYx7M/edit?usp=sharing | M79: REGISTRO | N79: ITT-POC-08-04 CARTA DE ASIGNACIÓN-PLAN DE TRABAJO
C80: CARTA COMPROMISO DE SERVICIO SOCIAL | D80: ='Configuración'!$A$2 -> ITT | E80: L | F80: VI | G80: =IF(B80="",G79,G79+1) -> 18 | H80: RG | I80: 5 | J80: =CONCATENATE(D80,"-",E80,"-",F80,"-",TEXT(G80,"0#"),"-",H80,"-",TEXT(I80,"0#")) -> ITT-L-VI-18-RG-05 | K80: =J80&"-"&C80 -> ITT-L-VI-18-RG-05-CARTA COMPROMISO DE SERVICIO SOCIAL | L80: https://docs.google.com/document/d/1jfXXJ80JMPdU5j7s4-CFLcfmnq1AzKTxuvVQzZfnEgo/edit?usp=sharing | M80: REGISTRO | N80: ITT-POC-08-05 CARTA COMPROMISO DE SERVICIO SOCIAL
C81: REPORTE BIMESTRAL DE SERVICIO SOCIAL | D81: ='Configuración'!$A$2 -> ITT | E81: L | F81: VI | G81: =IF(B81="",G80,G80+1) -> 18 | H81: RG | I81: 6 | J81: =CONCATENATE(D81,"-",E81,"-",F81,"-",TEXT(G81,"0#"),"-",H81,"-",TEXT(I81,"0#")) -> ITT-L-VI-18-RG-06 | K81: =J81&"-"&C81 -> ITT-L-VI-18-RG-06-REPORTE BIMESTRAL DE SERVICIO SOCIAL | L81: https://docs.google.com/document/d/15pfa2rj_HtJgY-YBsS7mgXmU0u2UmAH7n7N4VcUqsWY/edit?usp=sharing | M81: REGISTRO | N81: ITT-POC-08-06 REPORTE BIMESTRAL DE SERVICIO SOCIAL
C82: TARJETA DE CONTROL DE SERVICIO SOCIAL | D82: ='Configuración'!$A$2 -> ITT | E82: L | F82: VI | G82: =IF(B82="",G81,G81+1) -> 18 | H82: RG | I82: 7 | J82: =CONCATENATE(D82,"-",E82,"-",F82,"-",TEXT(G82,"0#"),"-",H82,"-",TEXT(I82,"0#")) -> ITT-L-VI-18-RG-07 | K82: =J82&"-"&C82 -> ITT-L-VI-18-RG-07-TARJETA DE CONTROL DE SERVICIO SOCIAL | L82: https://docs.google.com/document/d/1_k-MCrpkFxC6QqvLX5DG3LeJsG48X9oixCV0MuaShz4/edit?usp=sharing | M82: REGISTRO | N82: ITT-POC-08-07 TARJETA DE CONTROL DE SERVICIO SOCIAL
C83: CONSTANCIA DE SERVICIO SOCIAL | D83: ='Configuración'!$A$2 -> ITT | E83: L | F83: VI | G83: =IF(B83="",G82,G82+1) -> 18 | H83: RG | I83: 8 | J83: =CONCATENATE(D83,"-",E83,"-",F83,"-",TEXT(G83,"0#"),"-",H83,"-",TEXT(I83,"0#")) -> ITT-L-VI-18-RG-08 | K83: =J83&"-"&C83 -> ITT-L-VI-18-RG-08-CONSTANCIA DE SERVICIO SOCIAL | L83: https://docs.google.com/document/d/190JcBG6-CG6uXGrWsb5c6YUjHtUP7zF5TTzQS8q6NJU/edit?usp=sharing | M83: REGISTRO | N83: ITT-POC-08-08 CONSTANCIA DE SERVICIO SOCIAL
C84: EVALUACIÓN RESPONSABLE DEL PROGRAMA | D84: ='Configuración'!$A$2 -> ITT | E84: L | F84: VI | G84: =IF(B84="",G83,G83+1) -> 18 | H84: RG | I84: 9 | J84: =CONCATENATE(D84,"-",E84,"-",F84,"-",TEXT(G84,"0#"),"-",H84,"-",TEXT(I84,"0#")) -> ITT-L-VI-18-RG-09 | K84: =J84&"-"&C84 -> ITT-L-VI-18-RG-09-EVALUACIÓN RESPONSABLE DEL PROGRAMA | L84: https://docs.google.com/document/d/1zI_PH6kqt3jr-neJKZHpUEX5wL9B7WX3Hz6tqlEFJyc/edit?usp=sharing | M84: REGISTRO | N84: ITT-POC-08-09 EVALUACIÓN RESPONSABLE DEL PROGRAMA
C85: EVALUACIÓN DEL REPORTE FINAL | D85: ='Configuración'!$A$2 -> ITT | E85: L | F85: VI | G85: =IF(B85="",G84,G84+1) -> 18 | H85: RG | I85: 10 | J85: =CONCATENATE(D85,"-",E85,"-",F85,"-",TEXT(G85,"0#"),"-",H85,"-",TEXT(I85,"0#")) -> ITT-L-VI-18-RG-10 | K85: =J85&"-"&C85 -> ITT-L-VI-18-RG-10-EVALUACIÓN DEL REPORTE FINAL | L85: https://docs.google.com/document/d/1KBrB1-fmaoS_292bypNhdaNpcBbKi48ggIWXVljFtIA/edit?usp=sharing | M85: REGISTRO | N85: ITT-POC-08-10 EVALUACIÓN DEL REPORTE FINAL
C86: AUTOEVALUACIÓN DEL ALUMNO | D86: ='Configuración'!$A$2 -> ITT | E86: L | F86: VI | G86: =IF(B86="",G85,G85+1) -> 18 | H86: RG | I86: 11 | J86: =CONCATENATE(D86,"-",E86,"-",F86,"-",TEXT(G86,"0#"),"-",H86,"-",TEXT(I86,"0#")) -> ITT-L-VI-18-RG-11 | K86: =J86&"-"&C86 -> ITT-L-VI-18-RG-11-AUTOEVALUACIÓN DEL ALUMNO | L86: https://docs.google.com/document/d/1SfhBvvTRKS_z2vf5xa_cunx8ffuSis5GhjNUE9Nqp4o/edit?usp=sharing | M86: REGISTRO | N86: ITT-POC-08-11 AUTOEVALUACIÓN DEL ALUMNO
A87: Proceso de Vinculación | B87: Seguimiento de Egresados | C87: SEGUIMIENTO DE EGRESADOS | D87: ='Configuración'!$A$2 -> ITT | E87: L | F87: VI | G87: =IF(B87="",G86,G86+1) -> 19 | H87: PR | I87: 1 | J87: =CONCATENATE(D87,"-",E87,"-",F87,"-",TEXT(G87,"0#"),"-",H87,"-",TEXT(I87,"0#")) -> ITT-L-VI-19-PR-01 | K87: =J87&"-"&C87 -> ITT-L-VI-19-PR-01-SEGUIMIENTO DE EGRESADOS | L87: https://docs.google.com/document/d/1I3sNtVyNG-b4GXw0mwo6FXkIuymGtytV/edit?usp=drive_link&ouid=112467577828699602815&rtpof=true&sd=true | M87: PROCEDIMIENTO
C88: MATRIZ DE ANÁLISIS DE RIESGO | D88: ='Configuración'!$A$2 -> ITT | E88: L | F88: VI | G88: =IF(B88="",G87,G87+1) -> 19 | H88: AN | I88: 1 | J88: =CONCATENATE(D88,"-",E88,"-",F88,"-",TEXT(G88,"0#"),"-",H88,"-",TEXT(I88,"0#")) -> ITT-L-VI-19-AN-01 | K88: =J88&"-"&C88 -> ITT-L-VI-19-AN-01-MATRIZ DE ANÁLISIS DE RIESGO | M88: ANEXO
A89: Proceso Académico/Vinculación | B89: RESIDENCIA PROFESIONAL | C89: RESIDENCIAS PROFESIONALES | D89: ='Configuración'!$A$2 -> ITT | E89: L | F89: VI | G89: =IF(B89="",G88,G88+1) -> 20 | H89: PR | I89: 1 | J89: =CONCATENATE(D89,"-",E89,"-",F89,"-",TEXT(G89,"0#"),"-",H89,"-",TEXT(I89,"0#")) -> ITT-L-VI-20-PR-01 | K89: =J89&"-"&C89 -> ITT-L-VI-20-PR-01-RESIDENCIAS PROFESIONALES | L89: https://docs.google.com/document/d/1zdxM8nydFY4V3pVTcHDOkcikpEKxeBKv/edit?usp=drive_link&ouid=112467577828699602815&rtpof=true&sd=true | M89: PROCEDIMIENTO | N89: ITT-POC-09 PROCEDIMIENTO RESIDENCIA PROFESIONAL
C90: MATRIZ DE ANÁLISIS DE RIESGO | D90: ='Configuración'!$A$2 -> ITT | E90: L | F90: VI | G90: =IF(B90="",G89,G89+1) -> 20 | H90: AN | I90: 1 | J90: =CONCATENATE(D90,"-",E90,"-",F90,"-",TEXT(G90,"0#"),"-",H90,"-",TEXT(I90,"0#")) -> ITT-L-VI-20-AN-01 | K90: =J90&"-"&C90 -> ITT-L-VI-20-AN-01-MATRIZ DE ANÁLISIS DE RIESGO | L90: https://docs.google.com/spreadsheets/d/14KLH5GCAQxKkNyq4LsSEu86N97PNgezM/edit?usp=drive_link&ouid=112467577828699602815&rtpof=true&sd=true | M90: ANEXO | N90: ITT-POC-09 MATRÍZ DE RIESGO RESIDENCIA PROFESIONAL
C91: SOLICITUD DE RESIDENCIA PROFESIONAL | D91: ='Configuración'!$A$2 -> ITT | E91: L | F91: VI | G91: =IF(B91="",G90,G90+1) -> 20 | H91: RG | I91: 1 | J91: =CONCATENATE(D91,"-",E91,"-",F91,"-",TEXT(G91,"0#"),"-",H91,"-",TEXT(I91,"0#")) -> ITT-L-VI-20-RG-01 | K91: =J91&"-"&C91 -> ITT-L-VI-20-RG-01-SOLICITUD DE RESIDENCIA PROFESIONAL | L91: https://docs.google.com/document/d/1y7z3qQqBgFlj7gn42y8lpMixqaAk0RNNM7sJpGz5_Nw/edit?usp=sharing | M91: REGISTRO | N91: ITT-POC-09-01 SOLICITUD DE RESIDENCIA PROFESIONAL
C92: REPORTE PRELIMINAR DE RESIDENCIA PROFESIONAL | D92: ='Configuración'!$A$2 -> ITT | E92: L | F92: VI | G92: =IF(B92="",G91,G91+1) -> 20 | H92: RG | I92: 2 | J92: =CONCATENATE(D92,"-",E92,"-",F92,"-",TEXT(G92,"0#"),"-",H92,"-",TEXT(I92,"0#")) -> ITT-L-VI-20-RG-02 | K92: =J92&"-"&C92 -> ITT-L-VI-20-RG-02-REPORTE PRELIMINAR DE RESIDENCIA PROFESIONAL | L92: https://docs.google.com/document/d/1nWrRmvFsgrnrBli0ye6RE8BC1yeXnWUzLqJHwA6Q0So/edit?usp=sharing | M92: REGISTRO | N92: ITT-POC-09-02 REPORTE PRELIMINAR DE RESIDENCIA PROFESIONAL
C93: ASIGNACIÓN DE ASESOR INTERNO DE RESIDENCIA PROFESIONAL | D93: ='Configuración'!$A$2 -> ITT | E93: L | F93: VI | G93: =IF(B93="",G92,G92+1) -> 20 | H93: RG | I93: 3 | J93: =CONCATENATE(D93,"-",E93,"-",F93,"-",TEXT(G93,"0#"),"-",H93,"-",TEXT(I93,"0#")) -> ITT-L-VI-20-RG-03 | K93: =J93&"-"&C93 -> ITT-L-VI-20-RG-03-ASIGNACIÓN DE ASESOR INTERNO DE RESIDENCIA PROFESIONAL | L93: https://docs.google.com/document/d/14IIeLLRB3QW4zqvG20nUgnD6_HPBZwwkcpfaSxUbnlU/edit?usp=drive_link | M93: REGISTRO | N93: ITT-POC-09-03 ASIGNACIÓN DE ASESOR INTERNO DE RESIDENCIA PROFESIONAL
C94: DICTAMEN DE RESIDENCIA PROFESIONAL | D94: ='Configuración'!$A$2 -> ITT | E94: L | F94: VI | G94: =IF(B94="",G93,G93+1) -> 20 | H94: RG | I94: 4 | J94: =CONCATENATE(D94,"-",E94,"-",F94,"-",TEXT(G94,"0#"),"-",H94,"-",TEXT(I94,"0#")) -> ITT-L-VI-20-RG-04 | K94: =J94&"-"&C94 -> ITT-L-VI-20-RG-04-DICTAMEN DE RESIDENCIA PROFESIONAL | L94: https://docs.google.com/document/d/1TjWrY2z8zxIn-qM-5q-NSUA-JDFeRrw8nVlqijljI0I/edit?usp=sharing | M94: REGISTRO | N94: ITT-POC-09-04 DICTAMEN DE RESIDENCIA PROFESIONAL
C95: CARTA DE PRESENTACIÓN A LA EMPRESA | D95: ='Configuración'!$A$2 -> ITT | E95: L | F95: VI | G95: =IF(B95="",G94,G94+1) -> 20 | H95: RG | I95: 5 | J95: =CONCATENATE(D95,"-",E95,"-",F95,"-",TEXT(G95,"0#"),"-",H95,"-",TEXT(I95,"0#")) -> ITT-L-VI-20-RG-05 | K95: =J95&"-"&C95 -> ITT-L-VI-20-RG-05-CARTA DE PRESENTACIÓN A LA EMPRESA | L95: https://docs.google.com/document/d/1F5DLKjO_qJ8vE-7FFfTFHooYKzU64tzLph99OuGqJU4/edit?usp=sharing | M95: REGISTRO | N95: ITT-POC-09-05 CARTA DE PRESENTACIÓN A LA EMPRESA
C96: REGISTRO DE ASESORÍA DE RESIDENCIA PROFESIONAL | D96: ='Configuración'!$A$2 -> ITT | E96: L | F96: VI | G96: =IF(B96="",G95,G95+1) -> 20 | H96: RG | I96: 6 | J96: =CONCATENATE(D96,"-",E96,"-",F96,"-",TEXT(G96,"0#"),"-",H96,"-",TEXT(I96,"0#")) -> ITT-L-VI-20-RG-06 | K96: =J96&"-"&C96 -> ITT-L-VI-20-RG-06-REGISTRO DE ASESORÍA DE RESIDENCIA PROFESIONAL | L96: https://docs.google.com/document/d/1KPBARBIKO4x-Tenkvj9lAubqnWoHhOR58ucFW0ANYB4/edit?usp=sharing | M96: REGISTRO | N96: ITT-POC-09-06 REGISTRO DE ASESORÍA DE RESIDENCIA PROFESIONAL
C97: EVALUACIÓN Y SEGUIMIENTO DE RESIDENCIA PROFESIONAL | D97: ='Configuración'!$A$2 -> ITT | E97: L | F97: VI | G97: =IF(B97="",G96,G96+1) -> 20 | H97: RG | I97: 7 | J97: =CONCATENATE(D97,"-",E97,"-",F97,"-",TEXT(G97,"0#"),"-",H97,"-",TEXT(I97,"0#")) -> ITT-L-VI-20-RG-07 | K97: =J97&"-"&C97 -> ITT-L-VI-20-RG-07-EVALUACIÓN Y SEGUIMIENTO DE RESIDENCIA PROFESIONAL | L97: https://docs.google.com/document/d/1EBIwMQZyIAwLBdYxrOHjI8iGj2ZrB3h02bPzC_SAM7M/edit?usp=sharing | M97: REGISTRO | N97: ITT-POC-09-07 EVALUACIÓN Y SEGUIMIENTO DE RESIDENCIA PROFESIONAL
C98: EVALUACIÓN DEL INFORME TÉCNICO FINAL DE RESIDENCIA PROFESIONAL | D98: ='Configuración'!$A$2 -> ITT | E98: L | F98: VI | G98: =IF(B98="",G97,G97+1) -> 20 | H98: RG | I98: 8 | J98: =CONCATENATE(D98,"-",E98,"-",F98,"-",TEXT(G98,"0#"),"-",H98,"-",TEXT(I98,"0#")) -> ITT-L-VI-20-RG-08 | K98: =J98&"-"&C98 -> ITT-L-VI-20-RG-08-EVALUACIÓN DEL INFORME TÉCNICO FINAL DE RESIDENCIA PROFESIONAL | L98: https://docs.google.com/document/d/1Om1LeK3c7_kZ9A6Vm7zQlHwwgY2G7u6HWNXRiRfHjyc/edit?usp=sharing | M98: REGISTRO | N98: ITT-POC-09-08 EVALUACIÓN DEL INFORME TÉCNICO FINAL DE RESIDENCIA PROFESIONAL
A99: Proceso Académico/Vinculación | B99: Movilidad de posgrado | C99: MOVILIDAD DE POSGRADO | D99: ='Configuración'!$A$2 -> ITT | E99: P | F99: VI | G99: =IF(B99="",G98,G98+1) -> 21 | H99: PR | I99: 1 | J99: =CONCATENATE(D99,"-",E99,"-",F99,"-",TEXT(G99,"0#"),"-",H99,"-",TEXT(I99,"0#")) -> ITT-P-VI-21-PR-01 | K99: =J99&"-"&C99 -> ITT-P-VI-21-PR-01-MOVILIDAD DE POSGRADO | L99: https://docs.google.com/document/d/10Xd4sN-L7tYM26DZifyOJiMK6T6vUFtg/edit?usp=sharing&ouid=112467577828699602815&rtpof=true&sd=true | M99: PROCEDIMIENTO
C100: MATRIZ DE ANÁLISIS DE RIESGO | D100: ='Configuración'!$A$2 -> ITT | E100: P | F100: VI | G100: =IF(B100="",G99,G99+1) -> 21 | H100: AN | I100: 1 | J100: =CONCATENATE(D100,"-",E100,"-",F100,"-",TEXT(G100,"0#"),"-",H100,"-",TEXT(I100,"0#")) -> ITT-P-VI-21-AN-01 | K100: =J100&"-"&C100 -> ITT-P-VI-21-AN-01-MATRIZ DE ANÁLISIS DE RIESGO | M100: ANEXO
...

Sheet Hoja 5
B7: No. | C7: PROCESOS | D7: No, | E7: SUBPROCESOS
B8: 1 | C8: Proceso de Planeación | D8: 1 | E8: PROGRAMACIÓN Y PRESUPUESTACIÓN DE ACTIVIDADES | G8: Proceso de Planeación | H8: PROGRAMACIÓN Y PRESUPUESTACIÓN DE ACTIVIDADES
B9: 2 | C9: Proceso de Administración de Recursos | D9: 2 | E9: RECLUTAMIENTO, SELECCIÓN Y CONTRATACIÓN DE PERSONAL | G9: Proceso de Administración de Recursos | H9: RECLUTAMIENTO, SELECCIÓN Y CONTRATACIÓN DE PERSONAL
D10: 3 | E10: CAPACITACIÓN DE PERSONAL DOCENTE | G10: Proceso de Administración de Recursos | H10: CAPACITACIÓN DE PERSONAL DOCENTE
D11: 4 | E11: MANTENIMIENTO DE INFRAESTRUCTURA | G11: Proceso de Administración de Recursos | H11: MANTENIMIENTO DE INFRAESTRUCTURA
D12: 5 | E12: REALIZACIÓN DE COMPRAS DIRECTAS | G12: Proceso de Administración de Recursos | H12: REALIZACIÓN DE COMPRAS DIRECTAS
D13: 6 | E13: DESARROLLO DE PROYECTO INDIVIDUAL | G13: Proceso de Administración de Recursos | H13: DESARROLLO DE PROYECTO INDIVIDUAL
B14: 3 | C14: Proceso Académico | D14: 7 | E14: INSCRIPCIÓN DEL ESTUDIANTE | G14: Proceso Académico | H14: INSCRIPCIÓN DEL ESTUDIANTE
D15: 8 | E15: INGRESO DE ESTUDIANTES DE POSGRADO | H15: INGRESO DE ESTUDIANTES DE POSGRADO
D16: 9 | E16: REINSCRIPCIÓN DEL ESTUDIANTE | G16: Proceso Académico | H16: REINSCRIPCIÓN DEL ESTUDIANTE
D17: 10 | E17: SEGUIMIENTO ACADÉMICO A ESTUDIANTES DE MAESTRÍA | H17: SEGUIMIENTO ACADÉMICO A ESTUDIANTES DE MAESTRÍA
D18: 11 | E18: SEGUIMIENTO ACADÉMICO A ESTUDIANTES DE DOCTORADO | H18: SEGUIMIENTO ACADÉMICO A ESTUDIANTES DE DOCTORADO
D19: 12 | E19: GESTIÓN DEL CURSO | G19: Proceso Académico | H19: GESTIÓN DEL CURSO
D20: 13 | E20: TUTORÍA | G20: Proceso Académico | H20: TUTORÍA
D21: 14 | E21: ADMINISTRACIÓN Y DESARROLLO DE PROYECTOS | G21: Proceso Académico | H21: Administración y desarrollo de proyectos
D22: 15 | E22: ASESORIA ACADEMICA | G22: Proceso Académico | H22: ASESORIA ACADEMICA
D23: 16 | E23: PRESENTACIÓN DE PREDOCTORAL | G23: Proceso Académico | H23: Presentación de predoctoral
D24: 17 | E24: CAMBIO DE DIRECTOR DE TESIS | G24: Proceso Académico | H24: Cambio de Director de Tesis
B25: 4 | C25: Proceso de Vinculación | D25: 18 | E25: SERVICIO SOCIAL | G25: Proceso de Vinculación | H25: SERVICIO SOCIAL
D26: 19 | E26: SEGUIMIENTO DE EGRESADOS | G26: Proceso de Vinculación | H26: Seguimiento de Egresados
B27: 5 | C27: Proceso Académico/Vinculación | D27: 20 | E27: RESIDENCIA PROFESIONAL | G27: Proceso Académico/Vinculación | H27: RESIDENCIA PROFESIONAL
D28: 21 | E28: MOVILIDAD DE POSGRADO | G28: Proceso Académico/Vinculación | H28: Movilidad de posgrado
B29: 6 | C29: Proceso de Certificación Académica y Titulación | D29: 22 | E29: VALIDACIÓN SEGUNDA LENGUA | G29: Proceso de Certificación Académica y Titulación | H29: VALIDACIÓN SEGUNDA LENGUA
D30: 23 | E30: GENERAR CERTIFICADO | G30: Proceso de Certificación Académica y Titulación | H30: GENERAR CERTIFICADO
D31: 24 | E31: ACTO DE RECEPCIÓN | G31: Proceso de Certificación Académica y Titulación | H31: ACTO DE RECEPCIÓN
D32: 25 | E32: GESTIÓN DE TÍTULO | G32: Proceso de Certificación Académica y Titulación | H32: GESTIÓN DE TÍTULO
D33: 26 | E33: PROGRAMACIÓN ACTO RECEPCIONAL Y OBTENCIÓN DE GRADO | G33: Proceso de Certificación Académica y Titulación | H33: Programación acto recepcional y obtención de grado
B34: 7 | C34: Proceso de Calidad | D34: 27 | E34: PROCEDIMIENTO PARA LA ELABORACIÓN DE PROCEDIMIENTOS | G34: Proceso de Calidad | H34: PROCEDIMIENTO PARA LA ELABORACIÓN DE PROCEDIMIENTOS
D35: 28 | E35: ENCUESTA DE SATISFACCIÓN | G35: Proceso de Calidad | H35: ENCUESTA DE SATISFACCIÓN
D36: 29 | E36: AUDITORÍA INTERNA | G36: Proceso de Calidad | H36: AUDITORÍA INTERNA
D37: 30 | E37: CONTROL DE SALIDAS NO CONFORMES | G37: Proceso de Calidad | H37: CONTROL DE SALIDAS NO CONFORMES
D38: 31 | E38: ACCIONES CORRECTIVAS
D39: 32 | E39: CONTROL DOCUMENTAL
C40: Proceso Académico | D40: 33 | E40: FORMACIÓN INTEGRAL
C41: Proceso Académico/Vinculación | D41: 34 | E41: VISITA A EMPRESAS
M60: Proceso Estratégico | N60: Responsable del proceso
M61: Proceso de Planeación | N61: M.C. Israel Arjona Vizcaíno
M62: Proceso de Administración de Recursos | N62: Lic. Daniel Alejandro García Banda
M63: Proceso Académico | N63: Ing. Olivia Guadalupe Treviño Montemayor
M64: Proceso de Vinculación | N64: M.C. Israel Arjona Vizcaíno
M65: Proceso Académico/Vinculación | N65: M.C. Israel Arjona Vizcaíno
M66: Proceso de Certificación Académica y Titulación | N66: M.C. Israel Arjona Vizcaíno
N67: Ing. Olivia Guadalupe Treviño Montemayor
M68: Proceso de Calidad | N68: Ing. Olivia Guadalupe Treviño Montemayor

Sheet Hoja 4
C5: Documentos esperados | D5: 61
C6: Documentos reales | D6: 45
C7: Total de documentos entregados | D7: =D6/D5 -> 0.73770492

Sheet Copia de Hoja 3 1
A1: MACROPROCESOS | B1: Nombre de proceso | C1: Nombre de documento | D1: Unidad | E1: Ámbito | F1: Proceso | G1: Documento | H1: No. Cons | I1: No. Form | J1: Clave documental | K1: TIPO | L1: DOCUMENTOS
A2: Proceso de Planeación | B2: PROGRAMACIÓN Y PRESUPUESTACIÓN DE ACTIVIDADES | C2: PROGRAMACIÓN Y PRESUPUESTACIÓN DE ACTIVIDADES | D2: ='Configuración'!$A$2 -> ITT | E2: T | F2: PL | G2: PR | H2: 1 | J2: =IF(I2="",CONCATENATE(D2,"-",E2,"-",F2,"-",G2,"-",TEXT(H2,"0#")),CONCATENATE(D2,"-",E2,"-",F2,"-",G2,"-",TEXT(H2,"0#"),"-",TEXT(I2,"0#"))) -> ITT-T-PL-PR-01 | K2: PROCEDIMIENTO | L2: PROGRAMACIÓN Y PRESUPUESTACIÓN DE ACTIVIDADES
C3: MATRIZ DE ANÁLISIS DE RIESGO | D3: ='Configuración'!$A$2 -> ITT | E3: T | F3: PL | G3: AN | H3: 2 | J3: =IF(I3="",CONCATENATE(D3,"-",E3,"-",F3,"-",G3,"-",TEXT(H3,"0#")),CONCATENATE(D3,"-",E3,"-",F3,"-",G3,"-",TEXT(H3,"0#"),"-",TEXT(I3,"0#"))) -> ITT-T-PL-AN-02 | K3: ANEXO | L3: MATRIZ ANÁLISIS DE RIESGO
A4: Proceso de Administración de Recursos | B4: RECLUTAMIENTO, SELECCIÓN Y CONTRATACIÓN DE PERSONAL | C4: RECLUTAMIENTO, SELECCIÓN Y CONTRATACIÓN DE PERSONAL | D4: ='Configuración'!$A$2 -> ITT | E4: T | F4: AD | G4: PR | H4: 1 | J4: =IF(I4="",CONCATENATE(D4,"-",E4,"-",F4,"-",G4,"-",TEXT(H4,"0#")),CONCATENATE(D4,"-",E4,"-",F4,"-",G4,"-",TEXT(H4,"0#"),"-",TEXT(I4,"0#"))) -> ITT-T-AD-PR-01 | K4: PROCEDIMIENTO | L4: PROCEDIMIENTO PARA EL RECLUTAMIENTO, SELECCIÓN Y CONTRATACIÓN DE PERSONAL
C5: MATRIZ DE ANÁLISIS DE RIESGO | D5: ='Configuración'!$A$2 -> ITT | E5: T | F5: AD | G5: AN | H5: 1 | J5: =IF(I5="",CONCATENATE(D5,"-",E5,"-",F5,"-",G5,"-",TEXT(H5,"0#")),CONCATENATE(D5,"-",E5,"-",F5,"-",G5,"-",TEXT(H5,"0#"),"-",TEXT(I5,"0#"))) -> ITT-T-AD-AN-01 | K5: ANEXO | L5: ITT-POE-03 MATRIZ DE ANALISIS DE RIESGOS
C6: CONVOCATORIA | D6: ='Configuración'!$A$2 -> ITT | E6: T | F6: AD | G6: RG | H6: 1 | I6: 1 | J6: =IF(I6="",CONCATENATE(D6,"-",E6,"-",F6,"-",G6,"-",TEXT(H6,"0#")),CONCATENATE(D6,"-",E6,"-",F6,"-",G6,"-",TEXT(H6,"0#"),"-",TEXT(I6,"0#"))) -> ITT-T-AD-RG-01-01 | K6: REGISTRO | L6: ITT-POE-03-01 CONVOCATORIA
C7: SOLICITUDES | D7: ='Configuración'!$A$2 -> ITT | E7: T | F7: AD | G7: RG | H7: 1 | I7: 2 | J7: =IF(I7="",CONCATENATE(D7,"-",E7,"-",F7,"-",G7,"-",TEXT(H7,"0#")),CONCATENATE(D7,"-",E7,"-",F7,"-",G7,"-",TEXT(H7,"0#"),"-",TEXT(I7,"0#"))) -> ITT-T-AD-RG-01-02 | K7: REGISTRO | L7: ITT-POE-03-02 REGISTRO DE SOLICITANTES
C8: ACTA DE RESULTADOS DE EXAMEN DE OPOSICIÓN | D8: ='Configuración'!$A$2 -> ITT | E8: T | F8: AD | G8: RG | H8: 1 | I8: 3 | J8: =IF(I8="",CONCATENATE(D8,"-",E8,"-",F8,"-",G8,"-",TEXT(H8,"0#")),CONCATENATE(D8,"-",E8,"-",F8,"-",G8,"-",TEXT(H8,"0#"),"-",TEXT(I8,"0#"))) -> ITT-T-AD-RG-01-03 | K8: REGISTRO | L8: ITT- POE-03-03 ACTA DE RESULTADOS DE EXAMEN DE OPOSICIÓN
C9: DICTAMEN | D9: ='Configuración'!$A$2 -> ITT | E9: T | F9: AD | G9: RG | H9: 1 | I9: 4 | J9: =IF(I9="",CONCATENATE(D9,"-",E9,"-",F9,"-",G9,"-",TEXT(H9,"0#")),CONCATENATE(D9,"-",E9,"-",F9,"-",G9,"-",TEXT(H9,"0#"),"-",TEXT(I9,"0#"))) -> ITT-T-AD-RG-01-04 | K9: REGISTRO | L9: ITT- POE-03-04 DICTAMEN
A10: Proceso de Administración de Recursos | B10: CAPACITACIÓN DE PERSONAL DOCENTE | C10: CAPACITACIÓN DE PERSONAL DOCENTE | D10: ='Configuración'!$A$2 -> ITT | E10: T | F10: AD | G10: PR | H10: 2 | J10: =IF(I10="",CONCATENATE(D10,"-",E10,"-",F10,"-",G10,"-",TEXT(H10,"0#")),CONCATENATE(D10,"-",E10,"-",F10,"-",G10,"-",TEXT(H10,"0#"),"-",TEXT(I10,"0#"))) -> ITT-T-AD-PR-02 | K10: PROCEDIMIENTO | L10: ITT-POE-05 - PROCEDIMIENTO PARA CAPACITACIÓN DE PERSONAL DOCENTE
D11: ='Configuración'!$A$2 -> ITT | E11: T | F11: AD | G11: AN | H11: 2 | J11: =IF(I11="",CONCATENATE(D11,"-",E11,"-",F11,"-",G11,"-",TEXT(H11,"0#")),CONCATENATE(D11,"-",E11,"-",F11,"-",G11,"-",TEXT(H11,"0#"),"-",TEXT(I11,"0#"))) -> ITT-T-AD-AN-02 | K11: ANEXO | L11: ITT-POE-05 MATRÍZ DE RIESGOS Y OPORTUNIDADES PARA CAPACITACIÓN DOCENTE
D12: ='Configuración'!$A$2 -> ITT | E12: T | F12: AD | G12: RG | H12: 2 | I12: 1 | J12: =IF(I12="",CONCATENATE(D12,"-",E12,"-",F12,"-",G12,"-",TEXT(H12,"0#")),CONCATENATE(D12,"-",E12,"-",F12,"-",G12,"-",TEXT(H12,"0#"),"-",TEXT(I12,"0#"))) -> ITT-T-AD-RG-02-01 | K12: REGISTRO | L12: ITT-POE-05-01 DIAGNÓSTICO Y CONCENTRADO DE NECESIDADES DE FORMACIÓN Y ACTUALIZACIÓN DOCENTE Y PROFESIONAL
D13: ='Configuración'!$A$2 -> ITT | E13: T | F13: AD | G13: RG | H13: 2 | I13: 2 | J13: =IF(I13="",CONCATENATE(D13,"-",E13,"-",F13,"-",G13,"-",TEXT(H13,"0#")),CONCATENATE(D13,"-",E13,"-",F13,"-",G13,"-",TEXT(H13,"0#"),"-",TEXT(I13,"0#"))) -> ITT-T-AD-RG-02-02 | K13: REGISTRO | L13: ITT-POE-05-02 PROGRAMA INSTITUCIONAL DE FORMACIÓN Y ACTUALIZACIÓN DOCENTE Y PROFESIONAL
D14: ='Configuración'!$A$2 -> ITT | E14: T | F14: AD | G14: RG | H14: 2 | I14: 3 | J14: =IF(I14="",CONCATENATE(D14,"-",E14,"-",F14,"-",G14,"-",TEXT(H14,"0#")),CONCATENATE(D14,"-",E14,"-",F14,"-",G14,"-",TEXT(H14,"0#"),"-",TEXT(I14,"0#"))) -> ITT-T-AD-RG-02-03 | K14: REGISTRO | L14: ITT-POE-05-03 LISTA DE ASISTENCIA
D15: ='Configuración'!$A$2 -> ITT | E15: T | F15: AD | G15: RG | H15: 2 | I15: 4 | J15: =IF(I15="",CONCATENATE(D15,"-",E15,"-",F15,"-",G15,"-",TEXT(H15,"0#")),CONCATENATE(D15,"-",E15,"-",F15,"-",G15,"-",TEXT(H15,"0#"),"-",TEXT(I15,"0#"))) -> ITT-T-AD-RG-02-04 | K15: REGISTRO | L15: ITT-POE-05-04 CÉDULA DE INSCRIPCIÓN
D16: ='Configuración'!$A$2 -> ITT | E16: T | F16: AD | G16: RG | H16: 2 | I16: 5 | J16: =IF(I16="",CONCATENATE(D16,"-",E16,"-",F16,"-",G16,"-",TEXT(H16,"0#")),CONCATENATE(D16,"-",E16,"-",F16,"-",G16,"-",TEXT(H16,"0#"),"-",TEXT(I16,"0#"))) -> ITT-T-AD-RG-02-05 | K16: REGISTRO | L16: ITT-POE-05-05 LISTA DE ACREDITACIÓN
D17: ='Configuración'!$A$2 -> ITT | E17: T | F17: AD | G17: RG | H17: 2 | I17: 6 | J17: =IF(I17="",CONCATENATE(D17,"-",E17,"-",F17,"-",G17,"-",TEXT(H17,"0#")),CONCATENATE(D17,"-",E17,"-",F17,"-",G17,"-",TEXT(H17,"0#"),"-",TEXT(I17,"0#"))) -> ITT-T-AD-RG-02-06 | K17: REGISTRO | L17: ITT-POE-05-06 ENCUESTA DE SATISFACCIÓN PARA PARTICIPANTES INSCRITOS
D18: ='Configuración'!$A$2 -> ITT | E18: T | F18: AD | G18: RG | H18: 2 | I18: 7 | J18: =IF(I18="",CONCATENATE(D18,"-",E18,"-",F18,"-",G18,"-",TEXT(H18,"0#")),CONCATENATE(D18,"-",E18,"-",F18,"-",G18,"-",TEXT(H18,"0#"),"-",TEXT(I18,"0#"))) -> ITT-T-AD-RG-02-07 | K18: REGISTRO | L18: ITT-POE-05-07 ENCUESTA DE EFICACIA CAPACITACIÓN DOCENTE AL JEFE ACADÉMICO
D19: ='Configuración'!$A$2 -> ITT | E19: T | F19: AD | G19: RG | H19: 2 | I19: 8 | J19: =IF(I19="",CONCATENATE(D19,"-",E19,"-",F19,"-",G19,"-",TEXT(H19,"0#")),CONCATENATE(D19,"-",E19,"-",F19,"-",G19,"-",TEXT(H19,"0#"),"-",TEXT(I19,"0#"))) -> ITT-T-AD-RG-02-08 | K19: REGISTRO | L19: ITT-POE-05-08 ENCUESTA DE EFICACIA CAPACITACIÓN DOCENTE AL PARTICIPANTE
A20: Proceso de Administración de Recursos | B20: MANTENIMIENTO DE INFRAESTRUCTURA | C20: MANTENIMIENTO DE INFRAESTRUCTURA | D20: ='Configuración'!$A$2 -> ITT | E20: T | F20: AD | G20: PR | H20: 3 | J20: =IF(I20="",CONCATENATE(D20,"-",E20,"-",F20,"-",G20,"-",TEXT(H20,"0#")),CONCATENATE(D20,"-",E20,"-",F20,"-",G20,"-",TEXT(H20,"0#"),"-",TEXT(I20,"0#"))) -> ITT-T-AD-PR-03 | K20: PROCEDIMIENTO | L20: ITT-POE-06 PROCEDIMIENTO DE MANTENIMIENTO DE INFRAESTRUCTURA
D21: ='Configuración'!$A$2 -> ITT | E21: T | F21: AD | G21: AN | H21: 3 | J21: =IF(I21="",CONCATENATE(D21,"-",E21,"-",F21,"-",G21,"-",TEXT(H21,"0#")),CONCATENATE(D21,"-",E21,"-",F21,"-",G21,"-",TEXT(H21,"0#"),"-",TEXT(I21,"0#"))) -> ITT-T-AD-AN-03 | K21: ANEXO | L21: ITT-POE-06 MATRÍZ DE RIESGO
D22: ='Configuración'!$A$2 -> ITT | E22: T | F22: AD | G22: RG | H22: 3 | I22: 1 | J22: =IF(I22="",CONCATENATE(D22,"-",E22,"-",F22,"-",G22,"-",TEXT(H22,"0#")),CONCATENATE(D22,"-",E22,"-",F22,"-",G22,"-",TEXT(H22,"0#"),"-",TEXT(I22,"0#"))) -> ITT-T-AD-RG-03-01 | K22: REGISTRO | L22: ITT-POE-06-01 LISTA DE VERIFICACIÓN
D23: ='Configuración'!$A$2 -> ITT | E23: T | F23: AD | G23: RG | H23: 3 | I23: 2 | J23: =IF(I23="",CONCATENATE(D23,"-",E23,"-",F23,"-",G23,"-",TEXT(H23,"0#")),CONCATENATE(D23,"-",E23,"-",F23,"-",G23,"-",TEXT(H23,"0#"),"-",TEXT(I23,"0#"))) -> ITT-T-AD-RG-03-02 | K23: REGISTRO | L23: ITT-POE-06-02 SOLICITUD DE MANTENIMIENTO CORRECTIVO
D24: ='Configuración'!$A$2 -> ITT | E24: T | F24: AD | G24: RG | H24: 3 | I24: 3 | J24: =IF(I24="",CONCATENATE(D24,"-",E24,"-",F24,"-",G24,"-",TEXT(H24,"0#")),CONCATENATE(D24,"-",E24,"-",F24,"-",G24,"-",TEXT(H24,"0#"),"-",TEXT(I24,"0#"))) -> ITT-T-AD-RG-03-03 | K24: REGISTRO | L24: ITT-POE-06-03 PROGRAMA DE MANTENIMIENTO PREVENTIVO
D25: ='Configuración'!$A$2 -> ITT | E25: T | F25: AD | G25: RG | H25: 3 | I25: 4 | J25: =IF(I25="",CONCATENATE(D25,"-",E25,"-",F25,"-",G25,"-",TEXT(H25,"0#")),CONCATENATE(D25,"-",E25,"-",F25,"-",G25,"-",TEXT(H25,"0#"),"-",TEXT(I25,"0#"))) -> ITT-T-AD-RG-03-04 | K25: REGISTRO | L25: ITT-POE-06-04 ORDEN DE TRABAJO DE MANTENIMIENTO
A26: Proceso de Administración de Recursos | B26: REALIZACIÓN DE COMPRAS DIRECTAS | C26: REALIZACIÓN DE COMPRAS DIRECTAS | D26: ='Configuración'!$A$2 -> ITT | E26: T | F26: AD | G26: IT | H26: 1 | J26: =IF(I26="",CONCATENATE(D26,"-",E26,"-",F26,"-",G26,"-",TEXT(H26,"0#")),CONCATENATE(D26,"-",E26,"-",F26,"-",G26,"-",TEXT(H26,"0#"),"-",TEXT(I26,"0#"))) -> ITT-T-AD-IT-01 | K26: PROCEDIMIENTO | L26: ITT-ITC-IT-01 INSTRUCTIVO DE TRABAJO PARA LA REALIZACIÓN DE COMPRAS DIRECTAS
D27: ='Configuración'!$A$2 -> ITT | E27: T | F27: AD | G27: AN | H27: 1 | J27: =IF(I27="",CONCATENATE(D27,"-",E27,"-",F27,"-",G27,"-",TEXT(H27,"0#")),CONCATENATE(D27,"-",E27,"-",F27,"-",G27,"-",TEXT(H27,"0#"),"-",TEXT(I27,"0#"))) -> ITT-T-AD-AN-01 | K27: ANEXO | L27: ITT-ITC-FO-01 FORMATO PARA SELECCIÓN DE PROVEEDORES
D28: ='Configuración'!$A$2 -> ITT | E28: T | F28: AD | G28: RG | H28: 1 | I28: 1 | J28: =IF(I28="",CONCATENATE(D28,"-",E28,"-",F28,"-",G28,"-",TEXT(H28,"0#")),CONCATENATE(D28,"-",E28,"-",F28,"-",G28,"-",TEXT(H28,"0#"),"-",TEXT(I28,"0#"))) -> ITT-T-AD-RG-01-01 | K28: REGISTRO | L28: ITT-ITC-FO-02 FORMATO PARA EVALUACIÓN DE PROVEEDORES
D29: ='Configuración'!$A$2 -> ITT | E29: T | F29: AD | G29: RG | H29: 1 | I29: 2 | J29: =IF(I29="",CONCATENATE(D29,"-",E29,"-",F29,"-",G29,"-",TEXT(H29,"0#")),CONCATENATE(D29,"-",E29,"-",F29,"-",G29,"-",TEXT(H29,"0#"),"-",TEXT(I29,"0#"))) -> ITT-T-AD-RG-01-02 | K29: REGISTRO | L29: ITT-ITC-FO-03 FORMATO PARA REQUISICIÓN DE BIENES Y SERVICIOS
D30: ='Configuración'!$A$2 -> ITT | E30: T | F30: AD | G30: RG | H30: 1 | I30: 3 | J30: =IF(I30="",CONCATENATE(D30,"-",E30,"-",F30,"-",G30,"-",TEXT(H30,"0#")),CONCATENATE(D30,"-",E30,"-",F30,"-",G30,"-",TEXT(H30,"0#"),"-",TEXT(I30,"0#"))) -> ITT-T-AD-RG-01-03 | K30: REGISTRO | L30: ITT-ITC-FO-04 FORMATO PARA CATALOGO PROVEEDORES APROBADOS
A31: Proceso de Administración de Recursos | B31: DESARROLLO DE PROYECTO INDIVIDUAL | C31: DESARROLLO DE PROYECTO INDIVIDUAL | D31: ='Configuración'!$A$2 -> ITT | E31: T | F31: AD | G31: PR | H31: 4 | J31: =IF(I31="",CONCATENATE(D31,"-",E31,"-",F31,"-",G31,"-",TEXT(H31,"0#")),CONCATENATE(D31,"-",E31,"-",F31,"-",G31,"-",TEXT(H31,"0#"),"-",TEXT(I31,"0#"))) -> ITT-T-AD-PR-04 | K31: PROCEDIMIENTO | L31: ITT-POC-10 PROCEDIMIENTO PARA DESARROLLO DE PROYECTO INDIVIDUAL
D32: ='Configuración'!$A$2 -> ITT | E32: T | F32: AD | G32: AN | H32: 4 | J32: =IF(I32="",CONCATENATE(D32,"-",E32,"-",F32,"-",G32,"-",TEXT(H32,"0#")),CONCATENATE(D32,"-",E32,"-",F32,"-",G32,"-",TEXT(H32,"0#"),"-",TEXT(I32,"0#"))) -> ITT-T-AD-AN-04 | K32: ANEXO | L32: ITT-POC-10 DIAGRAMA DE FLUJO PROYECTO INDIVIDUAL
D33: ='Configuración'!$A$2 -> ITT | E33: T | F33: AD | G33: RG | H33: 4 | I33: 1 | J33: =IF(I33="",CONCATENATE(D33,"-",E33,"-",F33,"-",G33,"-",TEXT(H33,"0#")),CONCATENATE(D33,"-",E33,"-",F33,"-",G33,"-",TEXT(H33,"0#"),"-",TEXT(I33,"0#"))) -> ITT-T-AD-RG-04-01 | K33: REGISTRO | L33: ITT-POC-10-01 REPORTE DEL PROYECTO INDIVIDUAL DEL DOCENTE
A34: Proceso Académico | B34: INSCRIPCIÓN DEL ESTUDIANTE | C34: INSCRIPCIÓN DEL ESTUDIANTE | D34: ='Configuración'!$A$2 -> ITT | E34: L | F34: AC | G34: PR | H34: 1 | J34: =IF(I34="",CONCATENATE(D34,"-",E34,"-",F34,"-",G34,"-",TEXT(H34,"0#")),CONCATENATE(D34,"-",E34,"-",F34,"-",G34,"-",TEXT(H34,"0#"),"-",TEXT(I34,"0#"))) -> ITT-L-AC-PR-01 | K34: PROCEDIMIENTO | L34: ITT-POE-01 - INSCRIPCIÓN DEL ESTUDIANTE
D35: ='Configuración'!$A$2 -> ITT | E35: L | F35: AC | G35: AN | H35: 1 | J35: =IF(I35="",CONCATENATE(D35,"-",E35,"-",F35,"-",G35,"-",TEXT(H35,"0#")),CONCATENATE(D35,"-",E35,"-",F35,"-",G35,"-",TEXT(H35,"0#"),"-",TEXT(I35,"0#"))) -> ITT-L-AC-AN-01 | K35: ANEXO | L35: ITT-POE-01 - MATRÍZ DE RIESGO - PROCESO DE INSCRIPCIÓN
D36: ='Configuración'!$A$2 -> ITT | E36: L | F36: AC | G36: RG | H36: 1 | I36: 1 | J36: =IF(I36="",CONCATENATE(D36,"-",E36,"-",F36,"-",G36,"-",TEXT(H36,"0#")),CONCATENATE(D36,"-",E36,"-",F36,"-",G36,"-",TEXT(H36,"0#"),"-",TEXT(I36,"0#"))) -> ITT-L-AC-RG-01-01 | K36: REGISTRO | L36: ITT-POE-01-01 - CARTA DE ACEPTACIÓN
D37: ='Configuración'!$A$2 -> ITT | E37: L | F37: AC | G37: RG | H37: 1 | I37: 2 | J37: =IF(I37="",CONCATENATE(D37,"-",E37,"-",F37,"-",G37,"-",TEXT(H37,"0#")),CONCATENATE(D37,"-",E37,"-",F37,"-",G37,"-",TEXT(H37,"0#"),"-",TEXT(I37,"0#"))) -> ITT-L-AC-RG-01-02 | K37: REGISTRO | L37: ITT-POE-01-02 - SOLICITUD DE INSCRIPCIÓN
D38: ='Configuración'!$A$2 -> ITT | E38: L | F38: AC | G38: RG | H38: 1 | I38: 3 | J38: =IF(I38="",CONCATENATE(D38,"-",E38,"-",F38,"-",G38,"-",TEXT(H38,"0#")),CONCATENATE(D38,"-",E38,"-",F38,"-",G38,"-",TEXT(H38,"0#"),"-",TEXT(I38,"0#"))) -> ITT-L-AC-RG-01-03 | K38: REGISTRO | L38: ITT-POE-01-03 - CONTRATO CON EL ALUMNO
D39: ='Configuración'!$A$2 -> ITT | E39: L | F39: AC | G39: RG | H39: 1 | I39: 4 | J39: =IF(I39="",CONCATENATE(D39,"-",E39,"-",F39,"-",G39,"-",TEXT(H39,"0#")),CONCATENATE(D39,"-",E39,"-",F39,"-",G39,"-",TEXT(H39,"0#"),"-",TEXT(I39,"0#"))) -> ITT-L-AC-RG-01-04 | K39: REGISTRO | L39: ITT-POE-01-04 - LIBRO DE REGISTRO DE NÚMEROS DE CONTROL
A40: Proceso Académico | B40: Procedimiento para Ingreso de estudiantes de posgrado | C40: Procedimiento para Ingreso de estudiantes de posgrado | D40: ='Configuración'!$A$2 -> ITT | E40: P | F40: AC | G40: PR | H40: 1 | J40: =IF(I40="",CONCATENATE(D40,"-",E40,"-",F40,"-",G40,"-",TEXT(H40,"0#")),CONCATENATE(D40,"-",E40,"-",F40,"-",G40,"-",TEXT(H40,"0#"),"-",TEXT(I40,"0#"))) -> ITT-P-AC-PR-01 | K40: PROCEDIMIENTO
D41: ='Configuración'!$A$2 -> ITT | E41: P | F41: AC | G41: AN | H41: 1 | J41: =IF(I41="",CONCATENATE(D41,"-",E41,"-",F41,"-",G41,"-",TEXT(H41,"0#")),CONCATENATE(D41,"-",E41,"-",F41,"-",G41,"-",TEXT(H41,"0#"),"-",TEXT(I41,"0#"))) -> ITT-P-AC-AN-01 | K41: ANEXO
A42: Proceso Académico | B42: REINSCRIPCIÓN DEL ESTUDIANTE | C42: REINSCRIPCIÓN DEL ESTUDIANTE | D42: ='Configuración'!$A$2 -> ITT | E42: L | F42: AC | G42: PR | H42: 1 | J42: =IF(I42="",CONCATENATE(D42,"-",E42,"-",F42,"-",G42,"-",TEXT(H42,"0#")),CONCATENATE(D42,"-",E42,"-",F42,"-",G42,"-",TEXT(H42,"0#"),"-",TEXT(I42,"0#"))) -> ITT-L-AC-PR-01 | K42: PROCEDIMIENTO | L42: ITT-POE-02 REINSCRIPCIÓN DEL ESTUDIANTE
D43: ='Configuración'!$A$2 -> ITT | E43: L | F43: AC | G43: AN | H43: 1 | J43: =IF(I43="",CONCATENATE(D43,"-",E43,"-",F43,"-",G43,"-",TEXT(H43,"0#")),CONCATENATE(D43,"-",E43,"-",F43,"-",G43,"-",TEXT(H43,"0#"),"-",TEXT(I43,"0#"))) -> ITT-L-AC-AN-01 | K43: ANEXO | L43: ITT-POE-02 - MATRIZ ANÁLISIS DE RIESGO REINSCRIPCIÓN
A44: Proceso Académico | B44: GESTIÓN DEL CURSO | C44: GESTIÓN DEL CURSO | D44: ='Configuración'!$A$2 -> ITT | E44: L | F44: AC | G44: PR | H44: 2 | J44: =IF(I44="",CONCATENATE(D44,"-",E44,"-",F44,"-",G44,"-",TEXT(H44,"0#")),CONCATENATE(D44,"-",E44,"-",F44,"-",G44,"-",TEXT(H44,"0#"),"-",TEXT(I44,"0#"))) -> ITT-L-AC-PR-02 | K44: PROCEDIMIENTO | L44: ITT-POC-01 - PROCEDIMIENTO PARA LA GESTIÓN DEL CURSO
D45: ='Configuración'!$A$2 -> ITT | E45: L | F45: AC | G45: AN | H45: 2 | J45: =IF(I45="",CONCATENATE(D45,"-",E45,"-",F45,"-",G45,"-",TEXT(H45,"0#")),CONCATENATE(D45,"-",E45,"-",F45,"-",G45,"-",TEXT(H45,"0#"),"-",TEXT(I45,"0#"))) -> ITT-L-AC-AN-02 | K45: ANEXO | L45: ITT-POC-01 - MATRIZ DE ANÁLISIS DE RIESGOS
D46: ='Configuración'!$A$2 -> ITT | E46: L | F46: AC | G46: RG | H46: 2 | I46: 1 | J46: =IF(I46="",CONCATENATE(D46,"-",E46,"-",F46,"-",G46,"-",TEXT(H46,"0#")),CONCATENATE(D46,"-",E46,"-",F46,"-",G46,"-",TEXT(H46,"0#"),"-",TEXT(I46,"0#"))) -> ITT-L-AC-RG-02-01 | K46: REGISTRO | L46: ITT-POC-01-01. INSTRUMENTACIÓN DIDÁCTICA
D47: ='Configuración'!$A$2 -> ITT | E47: L | F47: AC | G47: RG | H47: 2 | I47: 2 | J47: =IF(I47="",CONCATENATE(D47,"-",E47,"-",F47,"-",G47,"-",TEXT(H47,"0#")),CONCATENATE(D47,"-",E47,"-",F47,"-",G47,"-",TEXT(H47,"0#"),"-",TEXT(I47,"0#"))) -> ITT-L-AC-RG-02-02 | K47: REGISTRO | L47: ITT-POC-01-02. SEGUIMIENTO DE ACTIVIDADES DOCENTES
D48: ='Configuración'!$A$2 -> ITT | E48: L | F48: AC | G48: RG | H48: 2 | I48: 3 | J48: =IF(I48="",CONCATENATE(D48,"-",E48,"-",F48,"-",G48,"-",TEXT(H48,"0#")),CONCATENATE(D48,"-",E48,"-",F48,"-",G48,"-",TEXT(H48,"0#"),"-",TEXT(I48,"0#"))) -> ITT-L-AC-RG-02-03 | K48: REGISTRO | L48: ITT-POC-01-03. REPORTE FINAL DEL SEMESTRE
D49: ='Configuración'!$A$2 -> ITT | E49: L | F49: AC | G49: RG | H49: 2 | I49: 4 | J49: =IF(I49="",CONCATENATE(D49,"-",E49,"-",F49,"-",G49,"-",TEXT(H49,"0#")),CONCATENATE(D49,"-",E49,"-",F49,"-",G49,"-",TEXT(H49,"0#"),"-",TEXT(I49,"0#"))) -> ITT-L-AC-RG-02-04 | K49: REGISTRO | L49: ITT-POC-01-04. LIBERACIÓN DE ACTIVIDADES DOCENTES
A50: Proceso Académico | B50: TUTORÍA | C50: TUTORÍA | D50: ='Configuración'!$A$2 -> ITT | E50: L | F50: AC | G50: PR | H50: 3 | J50: =IF(I50="",CONCATENATE(D50,"-",E50,"-",F50,"-",G50,"-",TEXT(H50,"0#")),CONCATENATE(D50,"-",E50,"-",F50,"-",G50,"-",TEXT(H50,"0#"),"-",TEXT(I50,"0#"))) -> ITT-L-AC-PR-03 | K50: PROCEDIMIENTO | L50: ITT-POC-02 PROCEDIMIENTO PARA LA ACREDITACIÓN DE TUTORÍAS
D51: ='Configuración'!$A$2 -> ITT | E51: L | F51: AC | G51: AN | H51: 3 | J51: =IF(I51="",CONCATENATE(D51,"-",E51,"-",F51,"-",G51,"-",TEXT(H51,"0#")),CONCATENATE(D51,"-",E51,"-",F51,"-",G51,"-",TEXT(H51,"0#"),"-",TEXT(I51,"0#"))) -> ITT-L-AC-AN-03 | K51: ANEXO | L51: ITT-POC-02 MATRIZ DE RIESGOS
D52: ='Configuración'!$A$2 -> ITT | E52: L | F52: AC | G52: RG | H52: 3 | I52: 1 | J52: =IF(I52="",CONCATENATE(D52,"-",E52,"-",F52,"-",G52,"-",TEXT(H52,"0#")),CONCATENATE(D52,"-",E52,"-",F52,"-",G52,"-",TEXT(H52,"0#"),"-",TEXT(I52,"0#"))) -> ITT-L-AC-RG-03-01 | K52: REGISTRO | L52: ITT-POC-02-01 PLAN DE ACCIÓN SEMESTRAL TUTORÍAS
D53: ='Configuración'!$A$2 -> ITT | E53: L | F53: AC | G53: RG | H53: 3 | I53: 2 | J53: =IF(I53="",CONCATENATE(D53,"-",E53,"-",F53,"-",G53,"-",TEXT(H53,"0#")),CONCATENATE(D53,"-",E53,"-",F53,"-",G53,"-",TEXT(H53,"0#"),"-",TEXT(I53,"0#"))) -> ITT-L-AC-RG-03-02 | K53: REGISTRO | L53: ITT-POC-02-02 FICHA DE IDENTIFICACIÓN DEL TUTORADO
D54: ='Configuración'!$A$2 -> ITT | E54: L | F54: AC | G54: RG | H54: 3 | I54: 3 | J54: =IF(I54="",CONCATENATE(D54,"-",E54,"-",F54,"-",G54,"-",TEXT(H54,"0#")),CONCATENATE(D54,"-",E54,"-",F54,"-",G54,"-",TEXT(H54,"0#"),"-",TEXT(I54,"0#"))) -> ITT-L-AC-RG-03-03 | K54: REGISTRO | L54: ITT-POC-02-03 FORMATO DE ENTREVISTA
D55: ='Configuración'!$A$2 -> ITT | E55: L | F55: AC | G55: RG | H55: 3 | I55: 4 | J55: =IF(I55="",CONCATENATE(D55,"-",E55,"-",F55,"-",G55,"-",TEXT(H55,"0#")),CONCATENATE(D55,"-",E55,"-",F55,"-",G55,"-",TEXT(H55,"0#"),"-",TEXT(I55,"0#"))) -> ITT-L-AC-RG-03-04 | K55: REGISTRO | L55: ITT-POC-02-04 REPORTE DEL TUTOR
D56: ='Configuración'!$A$2 -> ITT | E56: L | F56: AC | G56: RG | H56: 3 | I56: 5 | J56: =IF(I56="",CONCATENATE(D56,"-",E56,"-",F56,"-",G56,"-",TEXT(H56,"0#")),CONCATENATE(D56,"-",E56,"-",F56,"-",G56,"-",TEXT(H56,"0#"),"-",TEXT(I56,"0#"))) -> ITT-L-AC-RG-03-05 | K56: REGISTRO | L56: ITT-POC-02-05 REPORTE DEL COORDINADOR INSTITUCIONAL DE TUTORIA
A57: Proceso Académico | B57: Seguimiento académico del estudiante doctorado | C57: Seguimiento académico del estudiante doctorado | D57: ='Configuración'!$A$2 -> ITT | E57: P | F57: AC | G57: PR | H57: 4 | J57: =IF(I57="",CONCATENATE(D57,"-",E57,"-",F57,"-",G57,"-",TEXT(H57,"0#")),CONCATENATE(D57,"-",E57,"-",F57,"-",G57,"-",TEXT(H57,"0#"),"-",TEXT(I57,"0#"))) -> ITT-P-AC-PR-04 | K57: PROCEDIMIENTO
D58: ='Configuración'!$A$2 -> ITT | E58: P | F58: AC | G58: AN | H58: 4 | J58: =IF(I58="",CONCATENATE(D58,"-",E58,"-",F58,"-",G58,"-",TEXT(H58,"0#")),CONCATENATE(D58,"-",E58,"-",F58,"-",G58,"-",TEXT(H58,"0#"),"-",TEXT(I58,"0#"))) -> ITT-P-AC-AN-04 | K58: ANEXO
A59: Proceso Académico | B59: Administración y desarrollo de proyectos | C59: Administración y desarrollo de proyectos | D59: ='Configuración'!$A$2 -> ITT | E59: P | F59: AC | G59: PR | H59: 5 | J59: =IF(I59="",CONCATENATE(D59,"-",E59,"-",F59,"-",G59,"-",TEXT(H59,"0#")),CONCATENATE(D59,"-",E59,"-",F59,"-",G59,"-",TEXT(H59,"0#"),"-",TEXT(I59,"0#"))) -> ITT-P-AC-PR-05 | K59: PROCEDIMIENTO
D60: ='Configuración'!$A$2 -> ITT | E60: P | F60: AC | G60: AN | H60: 5 | J60: =IF(I60="",CONCATENATE(D60,"-",E60,"-",F60,"-",G60,"-",TEXT(H60,"0#")),CONCATENATE(D60,"-",E60,"-",F60,"-",G60,"-",TEXT(H60,"0#"),"-",TEXT(I60,"0#"))) -> ITT-P-AC-AN-05 | K60: ANEXO
A61: Proceso Académico | B61: PARA ASESORIA ACADEMICA | C61: PARA ASESORIA ACADEMICA | D61: ='Configuración'!$A$2 -> ITT | E61: L | F61: AC | G61: PR | H61: 6 | J61: =IF(I61="",CONCATENATE(D61,"-",E61,"-",F61,"-",G61,"-",TEXT(H61,"0#")),CONCATENATE(D61,"-",E61,"-",F61,"-",G61,"-",TEXT(H61,"0#"),"-",TEXT(I61,"0#"))) -> ITT-L-AC-PR-06 | K61: PROCEDIMIENTO | L61: ITT-POC-11 PROCEDIMIENTO PARA ASESORIA ACADEMICA
D62: ='Configuración'!$A$2 -> ITT | E62: L | F62: AC | G62: AN | H62: 6 | J62: =IF(I62="",CONCATENATE(D62,"-",E62,"-",F62,"-",G62,"-",TEXT(H62,"0#")),CONCATENATE(D62,"-",E62,"-",F62,"-",G62,"-",TEXT(H62,"0#"),"-",TEXT(I62,"0#"))) -> ITT-L-AC-AN-06 | K62: ANEXO | L62: ITT-POC-11-01 FORMATO PARA REGISTRO DE ASESORÍA ACADÉMICA
D63: ='Configuración'!$A$2 -> ITT | E63: L | F63: AC | G63: RG | H63: 6 | I63: 1 | J63: =IF(I63="",CONCATENATE(D63,"-",E63,"-",F63,"-",G63,"-",TEXT(H63,"0#")),CONCATENATE(D63,"-",E63,"-",F63,"-",G63,"-",TEXT(H63,"0#"),"-",TEXT(I63,"0#"))) -> ITT-L-AC-RG-06-01 | K63: REGISTRO | L63: ITT-POC-11-02 BITACORA DE SESIONES DE ASESORIA
D64: ='Configuración'!$A$2 -> ITT | E64: L | F64: AC | G64: RG | H64: 6 | I64: 2 | J64: =IF(I64="",CONCATENATE(D64,"-",E64,"-",F64,"-",G64,"-",TEXT(H64,"0#")),CONCATENATE(D64,"-",E64,"-",F64,"-",G64,"-",TEXT(H64,"0#"),"-",TEXT(I64,"0#"))) -> ITT-L-AC-RG-06-02 | K64: REGISTRO | L64: ITT-POC-11-03 COORDINADOR Y RELACION DE ASESORES
D65: ='Configuración'!$A$2 -> ITT | E65: L | F65: AC | G65: RG | H65: 6 | I65: 3 | J65: =IF(I65="",CONCATENATE(D65,"-",E65,"-",F65,"-",G65,"-",TEXT(H65,"0#")),CONCATENATE(D65,"-",E65,"-",F65,"-",G65,"-",TEXT(H65,"0#"),"-",TEXT(I65,"0#"))) -> ITT-L-AC-RG-06-03 | K65: REGISTRO | L65: ITT-POC-11-04 SEGUIMIENTO DE ASESORES
A66: Proceso Académico | B66: Presentación de predoctoral | C66: Presentación de predoctoral | D66: ='Configuración'!$A$2 -> ITT | E66: P | F66: AC | G66: PR | H66: 7 | J66: =IF(I66="",CONCATENATE(D66,"-",E66,"-",F66,"-",G66,"-",TEXT(H66,"0#")),CONCATENATE(D66,"-",E66,"-",F66,"-",G66,"-",TEXT(H66,"0#"),"-",TEXT(I66,"0#"))) -> ITT-P-AC-PR-07 | K66: PROCEDIMIENTO
D67: ='Configuración'!$A$2 -> ITT | E67: P | F67: AC | G67: AN | H67: 7 | J67: =IF(I67="",CONCATENATE(D67,"-",E67,"-",F67,"-",G67,"-",TEXT(H67,"0#")),CONCATENATE(D67,"-",E67,"-",F67,"-",G67,"-",TEXT(H67,"0#"),"-",TEXT(I67,"0#"))) -> ITT-P-AC-AN-07 | K67: ANEXO
A68: Proceso de Vinculación | B68: SERVICIO SOCIAL | C68: SERVICIO SOCIAL | D68: ='Configuración'!$A$2 -> ITT | E68: L | F68: VI | G68: PR | H68: 1 | J68: =IF(I68="",CONCATENATE(D68,"-",E68,"-",F68,"-",G68,"-",TEXT(H68,"0#")),CONCATENATE(D68,"-",E68,"-",F68,"-",G68,"-",TEXT(H68,"0#"),"-",TEXT(I68,"0#"))) -> ITT-L-VI-PR-01 | K68: PROCEDIMIENTO | L68: ITT-POC-08 PROCEDIMIENTO PARA SERVICIO SOCIAL
D69: ='Configuración'!$A$2 -> ITT | E69: L | F69: VI | G69: AN | H69: 1 | J69: =IF(I69="",CONCATENATE(D69,"-",E69,"-",F69,"-",G69,"-",TEXT(H69,"0#")),CONCATENATE(D69,"-",E69,"-",F69,"-",G69,"-",TEXT(H69,"0#"),"-",TEXT(I69,"0#"))) -> ITT-L-VI-AN-01 | K69: ANEXO | L69: ITT-POC-08 MATRIZ DE ANÁLISIS DE RIESGO DESARROLLO DE PROYECTOS
D70: ='Configuración'!$A$2 -> ITT | E70: L | F70: VI | G70: RG | H70: 1 | I70: 1 | J70: =IF(I70="",CONCATENATE(D70,"-",E70,"-",F70,"-",G70,"-",TEXT(H70,"0#")),CONCATENATE(D70,"-",E70,"-",F70,"-",G70,"-",TEXT(H70,"0#"),"-",TEXT(I70,"0#"))) -> ITT-L-VI-RG-01-01 | K70: REGISTRO | L70: ITT-POC-08-01 PROGRAMA SEMESTRAL DE TRABAJO DE SERVICIO SOCIAL
D71: ='Configuración'!$A$2 -> ITT | E71: L | F71: VI | G71: RG | H71: 1 | I71: 2 | J71: =IF(I71="",CONCATENATE(D71,"-",E71,"-",F71,"-",G71,"-",TEXT(H71,"0#")),CONCATENATE(D71,"-",E71,"-",F71,"-",G71,"-",TEXT(H71,"0#"),"-",TEXT(I71,"0#"))) -> ITT-L-VI-RG-01-02 | K71: REGISTRO | L71: ITT-POC-08-02 SOLICITUD DE SERVICIO SOCIAL
D72: ='Configuración'!$A$2 -> ITT | E72: L | F72: VI | G72: RG | H72: 1 | I72: 3 | J72: =IF(I72="",CONCATENATE(D72,"-",E72,"-",F72,"-",G72,"-",TEXT(H72,"0#")),CONCATENATE(D72,"-",E72,"-",F72,"-",G72,"-",TEXT(H72,"0#"),"-",TEXT(I72,"0#"))) -> ITT-L-VI-RG-01-03 | K72: REGISTRO | L72: ITT-POC-08-03 CARTA DE PRESENTACIÓN DE SERVICIO SOCIAL
D73: ='Configuración'!$A$2 -> ITT | E73: L | F73: VI | G73: RG | H73: 1 | I73: 4 | J73: =IF(I73="",CONCATENATE(D73,"-",E73,"-",F73,"-",G73,"-",TEXT(H73,"0#")),CONCATENATE(D73,"-",E73,"-",F73,"-",G73,"-",TEXT(H73,"0#"),"-",TEXT(I73,"0#"))) -> ITT-L-VI-RG-01-04 | K73: REGISTRO | L73: ITT-POC-08-04 CARTA DE ASIGNACIÓN-PLAN DE TRABAJO
D74: ='Configuración'!$A$2 -> ITT | E74: L | F74: VI | G74: RG | H74: 1 | I74: 5 | J74: =IF(I74="",CONCATENATE(D74,"-",E74,"-",F74,"-",G74,"-",TEXT(H74,"0#")),CONCATENATE(D74,"-",E74,"-",F74,"-",G74,"-",TEXT(H74,"0#"),"-",TEXT(I74,"0#"))) -> ITT-L-VI-RG-01-05 | K74: REGISTRO | L74: ITT-POC-08-05 CARTA COMPROMISO DE SERVICIO SOCIAL
D75: ='Configuración'!$A$2 -> ITT | E75: L | F75: VI | G75: RG | H75: 1 | I75: 6 | J75: =IF(I75="",CONCATENATE(D75,"-",E75,"-",F75,"-",G75,"-",TEXT(H75,"0#")),CONCATENATE(D75,"-",E75,"-",F75,"-",G75,"-",TEXT(H75,"0#"),"-",TEXT(I75,"0#"))) -> ITT-L-VI-RG-01-06 | K75: REGISTRO | L75: ITT-POC-08-06 REPORTE BIMESTRAL DE SERVICIO SOCIAL
D76: ='Configuración'!$A$2 -> ITT | E76: L | F76: VI | G76: RG | H76: 1 | I76: 7 | J76: =IF(I76="",CONCATENATE(D76,"-",E76,"-",F76,"-",G76,"-",TEXT(H76,"0#")),CONCATENATE(D76,"-",E76,"-",F76,"-",G76,"-",TEXT(H76,"0#"),"-",TEXT(I76,"0#"))) -> ITT-L-VI-RG-01-07 | K76: REGISTRO | L76: ITT-POC-08-07 TARJETA DE CONTROL DE SERVICIO SOCIAL
D77: ='Configuración'!$A$2 -> ITT | E77: L | F77: VI | G77: RG | H77: 1 | I77: 8 | J77: =IF(I77="",CONCATENATE(D77,"-",E77,"-",F77,"-",G77,"-",TEXT(H77,"0#")),CONCATENATE(D77,"-",E77,"-",F77,"-",G77,"-",TEXT(H77,"0#"),"-",TEXT(I77,"0#"))) -> ITT-L-VI-RG-01-08 | K77: REGISTRO | L77: ITT-POC-08-08 CONSTANCIA DE SERVICIO SOCIAL
D78: ='Configuración'!$A$2 -> ITT | E78: L | F78: VI | G78: RG | H78: 1 | I78: 9 | J78: =IF(I78="",CONCATENATE(D78,"-",E78,"-",F78,"-",G78,"-",TEXT(H78,"0#")),CONCATENATE(D78,"-",E78,"-",F78,"-",G78,"-",TEXT(H78,"0#"),"-",TEXT(I78,"0#"))) -> ITT-L-VI-RG-01-09 | K78: REGISTRO | L78: ITT-POC-08-09 EVALUACIÓN RESPONSABLE DEL PROGRAMA
D79: ='Configuración'!$A$2 -> ITT | E79: L | F79: VI | G79: RG | H79: 1 | I79: 10 | J79: =IF(I79="",CONCATENATE(D79,"-",E79,"-",F79,"-",G79,"-",TEXT(H79,"0#")),CONCATENATE(D79,"-",E79,"-",F79,"-",G79,"-",TEXT(H79,"0#"),"-",TEXT(I79,"0#"))) -> ITT-L-VI-RG-01-10 | K79: REGISTRO | L79: ITT-POC-08-10 EVALUACIÓN DEL REPORTE FINAL
D80: ='Configuración'!$A$2 -> ITT | E80: L | F80: VI | G80: RG | H80: 1 | I80: 11 | J80: =IF(I80="",CONCATENATE(D80,"-",E80,"-",F80,"-",G80,"-",TEXT(H80,"0#")),CONCATENATE(D80,"-",E80,"-",F80,"-",G80,"-",TEXT(H80,"0#"),"-",TEXT(I80,"0#"))) -> ITT-L-VI-RG-01-11 | K80: REGISTRO | L80: ITT-POC-08-11 AUTOEVALUACIÓN DEL ALUMNO
A81: Proceso de Vinculación | B81: Seguimiento de Egresados | C81: SEGUIMIENTO DE EGRESADOS | D81: ='Configuración'!$A$2 -> ITT | E81: L | F81: VI | G81: PR | H81: 2 | J81: =IF(I81="",CONCATENATE(D81,"-",E81,"-",F81,"-",G81,"-",TEXT(H81,"0#")),CONCATENATE(D81,"-",E81,"-",F81,"-",G81,"-",TEXT(H81,"0#"),"-",TEXT(I81,"0#"))) -> ITT-L-VI-PR-02 | K81: PROCEDIMIENTO
D82: ='Configuración'!$A$2 -> ITT | E82: L | F82: VI | G82: AN | H82: 2 | J82: =IF(I82="",CONCATENATE(D82,"-",E82,"-",F82,"-",G82,"-",TEXT(H82,"0#")),CONCATENATE(D82,"-",E82,"-",F82,"-",G82,"-",TEXT(H82,"0#"),"-",TEXT(I82,"0#"))) -> ITT-L-VI-AN-02 | K82: ANEXO
A83: Proceso Académico/Vinculación | B83: RESIDENCIA PROFESIONAL | C83: RESIDENCIA PROFESIONAL | D83: ='Configuración'!$A$2 -> ITT | E83: L | F83: VI | G83: PR | H83: 3 | J83: =IF(I83="",CONCATENATE(D83,"-",E83,"-",F83,"-",G83,"-",TEXT(H83,"0#")),CONCATENATE(D83,"-",E83,"-",F83,"-",G83,"-",TEXT(H83,"0#"),"-",TEXT(I83,"0#"))) -> ITT-L-VI-PR-03 | K83: PROCEDIMIENTO | L83: ITT-POC-09 PROCEDIMIENTO RESIDENCIA PROFESIONAL
D84: ='Configuración'!$A$2 -> ITT | E84: L | F84: VI | G84: AN | H84: 3 | J84: =IF(I84="",CONCATENATE(D84,"-",E84,"-",F84,"-",G84,"-",TEXT(H84,"0#")),CONCATENATE(D84,"-",E84,"-",F84,"-",G84,"-",TEXT(H84,"0#"),"-",TEXT(I84,"0#"))) -> ITT-L-VI-AN-03 | K84: ANEXO | L84: ITT-POC-09 MATRÍZ DE RIESGO RESIDENCIA PROFESIONAL
D85: ='Configuración'!$A$2 -> ITT | E85: L | F85: VI | G85: RG | H85: 3 | I85: 1 | J85: =IF(I85="",CONCATENATE(D85,"-",E85,"-",F85,"-",G85,"-",TEXT(H85,"0#")),CONCATENATE(D85,"-",E85,"-",F85,"-",G85,"-",TEXT(H85,"0#"),"-",TEXT(I85,"0#"))) -> ITT-L-VI-RG-03-01 | K85: REGISTRO | L85: ITT-POC-09-01 SOLICITUD DE RESIDENCIA PROFESIONAL
D86: ='Configuración'!$A$2 -> ITT | E86: L | F86: VI | G86: RG | H86: 3 | I86: 2 | J86: =IF(I86="",CONCATENATE(D86,"-",E86,"-",F86,"-",G86,"-",TEXT(H86,"0#")),CONCATENATE(D86,"-",E86,"-",F86,"-",G86,"-",TEXT(H86,"0#"),"-",TEXT(I86,"0#"))) -> ITT-L-VI-RG-03-02 | K86: REGISTRO | L86: ITT-POC-09-02 REPORTE PRELIMINAR DE RESIDENCIA PROFESIONAL
D87: ='Configuración'!$A$2 -> ITT | E87: L | F87: VI | G87: RG | H87: 3 | I87: 3 | J87: =IF(I87="",CONCATENATE(D87,"-",E87,"-",F87,"-",G87,"-",TEXT(H87,"0#")),CONCATENATE(D87,"-",E87,"-",F87,"-",G87,"-",TEXT(H87,"0#"),"-",TEXT(I87,"0#"))) -> ITT-L-VI-RG-03-03 | K87: REGISTRO | L87: ITT-POC-09-03 ASIGNACIÓN DE ASESOR INTERNO DE RESIDENCIA PROFESIONAL
D88: ='Configuración'!$A$2 -> ITT | E88: L | F88: VI | G88: RG | H88: 3 | I88: 4 | J88: =IF(I88="",CONCATENATE(D88,"-",E88,"-",F88,"-",G88,"-",TEXT(H88,"0#")),CONCATENATE(D88,"-",E88,"-",F88,"-",G88,"-",TEXT(H88,"0#"),"-",TEXT(I88,"0#"))) -> ITT-L-VI-RG-03-04 | K88: REGISTRO | L88: ITT-POC-09-04 DICTAMEN DE RESIDENCIA PROFESIONAL
D89: ='Configuración'!$A$2 -> ITT | E89: L | F89: VI | G89: RG | H89: 3 | I89: 5 | J89: =IF(I89="",CONCATENATE(D89,"-",E89,"-",F89,"-",G89,"-",TEXT(H89,"0#")),CONCATENATE(D89,"-",E89,"-",F89,"-",G89,"-",TEXT(H89,"0#"),"-",TEXT(I89,"0#"))) -> ITT-L-VI-RG-03-05 | K89: REGISTRO | L89: ITT-POC-09-05 CARTA DE PRESENTACIÓN A LA EMPRESA
D90: ='Configuración'!$A$2 -> ITT | E90: L | F90: VI | G90: RG | H90: 3 | I90: 6 | J90: =IF(I90="",CONCATENATE(D90,"-",E90,"-",F90,"-",G90,"-",TEXT(H90,"0#")),CONCATENATE(D90,"-",E90,"-",F90,"-",G90,"-",TEXT(H90,"0#"),"-",TEXT(I90,"0#"))) -> ITT-L-VI-RG-03-06 | K90: REGISTRO | L90: ITT-POC-09-06 REGISTRO DE ASESORÍA DE RESIDENCIA PROFESIONAL
D91: ='Configuración'!$A$2 -> ITT | E91: L | F91: VI | G91: RG | H91: 3 | I91: 7 | J91: =IF(I91="",CONCATENATE(D91,"-",E91,"-",F91,"-",G91,"-",TEXT(H91,"0#")),CONCATENATE(D91,"-",E91,"-",F91,"-",G91,"-",TEXT(H91,"0#"),"-",TEXT(I91,"0#"))) -> ITT-L-VI-RG-03-07 | K91: REGISTRO | L91: ITT-POC-09-07 EVALUACIÓN Y SEGUIMIENTO DE RESIDENCIA PROFESIONAL
D92: ='Configuración'!$A$2 -> ITT | E92: L | F92: VI | G92: RG | H92: 3 | I92: 8 | J92: =IF(I92="",CONCATENATE(D92,"-",E92,"-",F92,"-",G92,"-",TEXT(H92,"0#")),CONCATENATE(D92,"-",E92,"-",F92,"-",G92,"-",TEXT(H92,"0#"),"-",TEXT(I92,"0#"))) -> ITT-L-VI-RG-03-08 | K92: REGISTRO | L92: ITT-POC-09-08 EVALUACIÓN DEL INFORME TÉCNICO FINAL DE RESIDENCIA PROFESIONAL
A93: Proceso Académico/Vinculación | B93: Movilidad | C93: MOVILIDAD | D93: ='Configuración'!$A$2 -> ITT | E93: P | F93: VI | G93: PR | H93: 4 | J93: =IF(I93="",CONCATENATE(D93,"-",E93,"-",F93,"-",G93,"-",TEXT(H93,"0#")),CONCATENATE(D93,"-",E93,"-",F93,"-",G93,"-",TEXT(H93,"0#"),"-",TEXT(I93,"0#"))) -> ITT-P-VI-PR-04 | K93: PROCEDIMIENTO
D94: ='Configuración'!$A$2 -> ITT | E94: P | F94: VI | G94: AN | H94: 4 | J94: =IF(I94="",CONCATENATE(D94,"-",E94,"-",F94,"-",G94,"-",TEXT(H94,"0#")),CONCATENATE(D94,"-",E94,"-",F94,"-",G94,"-",TEXT(H94,"0#"),"-",TEXT(I94,"0#"))) -> ITT-P-VI-AN-04 | K94: ANEXO
A95: Proceso de Certificación Académica y Titulación | B95: VALIDACIÓN SEGUNDA LENGUA | C95: VALIDACIÓN SEGUNDA LENGUA | D95: ='Configuración'!$A$2 -> ITT | E95: L | F95: CT | G95: PR | H95: 1 | J95: =IF(I95="",CONCATENATE(D95,"-",E95,"-",F95,"-",G95,"-",TEXT(H95,"0#")),CONCATENATE(D95,"-",E95,"-",F95,"-",G95,"-",TEXT(H95,"0#"),"-",TEXT(I95,"0#"))) -> ITT-L-CT-PR-01 | K95: PROCEDIMIENTO | L95: ITT-POC-06 PROCEDIMIENTO VALIDACIÓN SEGUNDA LENGUA
D96: ='Configuración'!$A$2 -> ITT | E96: L | F96: CT | G96: AN | H96: 1 | J96: =IF(I96="",CONCATENATE(D96,"-",E96,"-",F96,"-",G96,"-",TEXT(H96,"0#")),CONCATENATE(D96,"-",E96,"-",F96,"-",G96,"-",TEXT(H96,"0#"),"-",TEXT(I96,"0#"))) -> ITT-L-CT-AN-01 | K96: ANEXO | L96: ITT-POC-06 MATRIZ ANÁLISIS DE RIESGO VALIDACIÓN DE UNA SEGUNDA LENGUA
A97: Proceso de Certificación Académica y Titulación | B97: GENERAR CERTIFICADO | C97: GENERAR CERTIFICADO | D97: ='Configuración'!$A$2 -> ITT | E97: L | F97: CT | G97: PR | H97: 2 | J97: =IF(I97="",CONCATENATE(D97,"-",E97,"-",F97,"-",G97,"-",TEXT(H97,"0#")),CONCATENATE(D97,"-",E97,"-",F97,"-",G97,"-",TEXT(H97,"0#"),"-",TEXT(I97,"0#"))) -> ITT-L-CT-PR-02 | K97: PROCEDIMIENTO | L97: ITT-POS-01 - PROCESO PARA GENERAR CERTIFICADO
D98: ='Configuración'!$A$2 -> ITT | E98: L | F98: CT | G98: AN | H98: 2 | J98: =IF(I98="",CONCATENATE(D98,"-",E98,"-",F98,"-",G98,"-",TEXT(H98,"0#")),CONCATENATE(D98,"-",E98,"-",F98,"-",G98,"-",TEXT(H98,"0#"),"-",TEXT(I98,"0#"))) -> ITT-L-CT-AN-02 | K98: ANEXO | L98: ITT-POS-01 - MATRÍZ DE RIESGOS - GENERACIÓN DE CERTIFICADO
D99: ='Configuración'!$A$2 -> ITT | E99: L | F99: CT | G99: RG | H99: 2 | I99: 1 | J99: =IF(I99="",CONCATENATE(D99,"-",E99,"-",F99,"-",G99,"-",TEXT(H99,"0#")),CONCATENATE(D99,"-",E99,"-",F99,"-",G99,"-",TEXT(H99,"0#"),"-",TEXT(I99,"0#"))) -> ITT-L-CT-RG-02-01 | K99: REGISTRO | L99: ITT-POS-01 - CERTIFICADO DE ESTUDIOS
A100: Proceso de Certificación Académica y Titulación | B100: ACTO DE RECEPCIÓN | C100: ACTO DE RECEPCIÓN | D100: ='Configuración'!$A$2 -> ITT | E100: L | F100: CT | G100: PR | H100: 3 | J100: =IF(I100="",CONCATENATE(D100,"-",E100,"-",F100,"-",G100,"-",TEXT(H100,"0#")),CONCATENATE(D100,"-",E100,"-",F100,"-",G100,"-",TEXT(H100,"0#"),"-",TEXT(I100,"0#"))) -> ITT-L-CT-PR-03 | K100: PROCEDIMIENTO | L100: ITT-POS-02 - PROCEDIMIENTO PARA ACTO DE RECEPCIÓN
...

Sheet Copia de Hoja 3
A1: MACROPROCESOS | B1: Nombre de proceso | C1: Nombre de documento | D1: Unidad | E1: Proceso | F1: Ámbito | G1: No. Cons | H1: No. Form | I1: Clave documental | J1: TIPO | K1: DOCUMENTOS
A2: Proceso de Planeación | B2: PROGRAMACIÓN Y PRESUPUESTACIÓN DE ACTIVIDADES | C2: PROGRAMACIÓN Y PRESUPUESTACIÓN DE ACTIVIDADES | D2: ='Configuración'!$A$2 -> ITT | E2: PL | F2: T | G2: 1 | I2: =IF(H2="",CONCATENATE(D2,"-",E2,"-",F2,"-",TEXT(G2,"0#")),CONCATENATE(D2,"-",E2,"-",F2,"-",TEXT(G2,"0#"),"-",TEXT(H2,"0#"))) -> ITT-PL-T-01 | J2: PROCEDIMIENTO | K2: PROGRAMACIÓN Y PRESUPUESTACIÓN DE ACTIVIDADES
C3: MATRIZ DE ANÁLISIS DE RIESGO | D3: ='Configuración'!$A$2 -> ITT | E3: PL | F3: T | G3: 1 | I3: =IF(H3="",CONCATENATE(D3,"-",E3,"-",F3,"-",TEXT(G3,"0#")),CONCATENATE(D3,"-",E3,"-",F3,"-",TEXT(G3,"0#"),"-",TEXT(H3,"0#"))) -> ITT-PL-T-01 | J3: ANEXO | K3: MATRIZ ANÁLISIS DE RIESGO
A4: Proceso de Administración de Recursos | B4: RECLUTAMIENTO, SELECCIÓN Y CONTRATACIÓN DE PERSONAL | C4: RECLUTAMIENTO, SELECCIÓN Y CONTRATACIÓN DE PERSONAL | D4: ='Configuración'!$A$2 -> ITT | E4: AD | F4: T | G4: 1 | I4: =IF(H4="",CONCATENATE(D4,"-",E4,"-",F4,"-",TEXT(G4,"0#")),CONCATENATE(D4,"-",E4,"-",F4,"-",TEXT(G4,"0#"),"-",TEXT(H4,"0#"))) -> ITT-AD-T-01 | J4: PROCEDIMIENTO | K4: PROCEDIMIENTO PARA EL RECLUTAMIENTO, SELECCIÓN Y CONTRATACIÓN DE PERSONAL
C5: MATRIZ DE ANÁLISIS DE RIESGO | D5: ='Configuración'!$A$2 -> ITT | E5: AD | F5: T | G5: 1 | I5: =IF(H5="",CONCATENATE(D5,"-",E5,"-",F5,"-",TEXT(G5,"0#")),CONCATENATE(D5,"-",E5,"-",F5,"-",TEXT(G5,"0#"),"-",TEXT(H5,"0#"))) -> ITT-AD-T-01 | J5: ANEXO | K5: ITT-POE-03 MATRIZ DE ANALISIS DE RIESGOS
C6: CONVOCATORIA | D6: ='Configuración'!$A$2 -> ITT | E6: AD | F6: T | G6: 1 | H6: 2 | I6: =IF(H6="",CONCATENATE(D6,"-",E6,"-",F6,"-",TEXT(G6,"0#")),CONCATENATE(D6,"-",E6,"-",F6,"-",TEXT(G6,"0#"),"-",TEXT(H6,"0#"))) -> ITT-AD-T-01-02 | J6: REGISTRO | K6: ITT-POE-03-01 CONVOCATORIA
C7: SOLICITUDES | D7: ='Configuración'!$A$2 -> ITT | E7: AD | F7: T | G7: 1 | H7: 3 | I7: =IF(H7="",CONCATENATE(D7,"-",E7,"-",F7,"-",TEXT(G7,"0#")),CONCATENATE(D7,"-",E7,"-",F7,"-",TEXT(G7,"0#"),"-",TEXT(H7,"0#"))) -> ITT-AD-T-01-03 | J7: REGISTRO | K7: ITT-POE-03-02 REGISTRO DE SOLICITANTES
C8: ACTA DE RESULTADOS DE EXAMEN DE OPOSICIÓN | D8: ='Configuración'!$A$2 -> ITT | I8: =IF(H8="",CONCATENATE(D8,"-",E8,"-",F8,"-",TEXT(G8,"0#")),CONCATENATE(D8,"-",E8,"-",F8,"-",TEXT(G8,"0#"),"-",TEXT(H8,"0#"))) -> ITT---0 | J8: REGISTRO | K8: ITT- POE-03-03 ACTA DE RESULTADOS DE EXAMEN DE OPOSICIÓN
C9: DICTAMEN | D9: ='Configuración'!$A$2 -> ITT | I9: =IF(H9="",CONCATENATE(D9,"-",E9,"-",F9,"-",TEXT(G9,"0#")),CONCATENATE(D9,"-",E9,"-",F9,"-",TEXT(G9,"0#"),"-",TEXT(H9,"0#"))) -> ITT---0 | J9: REGISTRO | K9: ITT- POE-03-04 DICTAMEN
A10: Proceso de Administración de Recursos | B10: CAPACITACIÓN DE PERSONAL DOCENTE | C10: CAPACITACIÓN DE PERSONAL DOCENTE | D10: ='Configuración'!$A$2 -> ITT | I10: =IF(H10="",CONCATENATE(D10,"-",E10,"-",F10,"-",TEXT(G10,"0#")),CONCATENATE(D10,"-",E10,"-",F10,"-",TEXT(G10,"0#"),"-",TEXT(H10,"0#"))) -> ITT---0 | J10: PROCEDIMIENTO | K10: ITT-POE-05 - PROCEDIMIENTO PARA CAPACITACIÓN DE PERSONAL DOCENTE
D11: ='Configuración'!$A$2 -> ITT | I11: =IF(H11="",CONCATENATE(D11,"-",E11,"-",F11,"-",TEXT(G11,"0#")),CONCATENATE(D11,"-",E11,"-",F11,"-",TEXT(G11,"0#"),"-",TEXT(H11,"0#"))) -> ITT---0 | J11: ANEXO | K11: ITT-POE-05 MATRÍZ DE RIESGOS Y OPORTUNIDADES PARA CAPACITACIÓN DOCENTE
D12: ='Configuración'!$A$2 -> ITT | I12: =IF(H12="",CONCATENATE(D12,"-",E12,"-",F12,"-",TEXT(G12,"0#")),CONCATENATE(D12,"-",E12,"-",F12,"-",TEXT(G12,"0#"),"-",TEXT(H12,"0#"))) -> ITT---0 | J12: REGISTRO | K12: ITT-POE-05-01 DIAGNÓSTICO Y CONCENTRADO DE NECESIDADES DE FORMACIÓN Y ACTUALIZACIÓN DOCENTE Y PROFESIONAL
D13: ='Configuración'!$A$2 -> ITT | I13: =IF(H13="",CONCATENATE(D13,"-",E13,"-",F13,"-",TEXT(G13,"0#")),CONCATENATE(D13,"-",E13,"-",F13,"-",TEXT(G13,"0#"),"-",TEXT(H13,"0#"))) -> ITT---0 | J13: REGISTRO | K13: ITT-POE-05-02 PROGRAMA INSTITUCIONAL DE FORMACIÓN Y ACTUALIZACIÓN DOCENTE Y PROFESIONAL
D14: ='Configuración'!$A$2 -> ITT | I14: =IF(H14="",CONCATENATE(D14,"-",E14,"-",F14,"-",TEXT(G14,"0#")),CONCATENATE(D14,"-",E14,"-",F14,"-",TEXT(G14,"0#"),"-",TEXT(H14,"0#"))) -> ITT---0 | J14: REGISTRO | K14: ITT-POE-05-03 LISTA DE ASISTENCIA
D15: ='Configuración'!$A$2 -> ITT | I15: =IF(H15="",CONCATENATE(D15,"-",E15,"-",F15,"-",TEXT(G15,"0#")),CONCATENATE(D15,"-",E15,"-",F15,"-",TEXT(G15,"0#"),"-",TEXT(H15,"0#"))) -> ITT---0 | J15: REGISTRO | K15: ITT-POE-05-04 CÉDULA DE INSCRIPCIÓN
D16: ='Configuración'!$A$2 -> ITT | I16: =IF(H16="",CONCATENATE(D16,"-",E16,"-",F16,"-",TEXT(G16,"0#")),CONCATENATE(D16,"-",E16,"-",F16,"-",TEXT(G16,"0#"),"-",TEXT(H16,"0#"))) -> ITT---0 | J16: REGISTRO | K16: ITT-POE-05-05 LISTA DE ACREDITACIÓN
D17: ='Configuración'!$A$2 -> ITT | I17: =IF(H17="",CONCATENATE(D17,"-",E17,"-",F17,"-",TEXT(G17,"0#")),CONCATENATE(D17,"-",E17,"-",F17,"-",TEXT(G17,"0#"),"-",TEXT(H17,"0#"))) -> ITT---0 | J17: REGISTRO | K17: ITT-POE-05-06 ENCUESTA DE SATISFACCIÓN PARA PARTICIPANTES INSCRITOS
D18: ='Configuración'!$A$2 -> ITT | I18: =IF(H18="",CONCATENATE(D18,"-",E18,"-",F18,"-",TEXT(G18,"0#")),CONCATENATE(D18,"-",E18,"-",F18,"-",TEXT(G18,"0#"),"-",TEXT(H18,"0#"))) -> ITT---0 | J18: REGISTRO | K18: ITT-POE-05-07 ENCUESTA DE EFICACIA CAPACITACIÓN DOCENTE AL JEFE ACADÉMICO
D19: ='Configuración'!$A$2 -> ITT | I19: =IF(H19="",CONCATENATE(D19,"-",E19,"-",F19,"-",TEXT(G19,"0#")),CONCATENATE(D19,"-",E19,"-",F19,"-",TEXT(G19,"0#"),"-",TEXT(H19,"0#"))) -> ITT---0 | J19: REGISTRO | K19: ITT-POE-05-08 ENCUESTA DE EFICACIA CAPACITACIÓN DOCENTE AL PARTICIPANTE
A20: Proceso de Administración de Recursos | B20: MANTENIMIENTO DE INFRAESTRUCTURA | C20: MANTENIMIENTO DE INFRAESTRUCTURA | D20: ='Configuración'!$A$2 -> ITT | I20: =IF(H20="",CONCATENATE(D20,"-",E20,"-",F20,"-",TEXT(G20,"0#")),CONCATENATE(D20,"-",E20,"-",F20,"-",TEXT(G20,"0#"),"-",TEXT(H20,"0#"))) -> ITT---0 | J20: PROCEDIMIENTO | K20: ITT-POE-06 PROCEDIMIENTO DE MANTENIMIENTO DE INFRAESTRUCTURA
D21: ='Configuración'!$A$2 -> ITT | I21: =IF(H21="",CONCATENATE(D21,"-",E21,"-",F21,"-",TEXT(G21,"0#")),CONCATENATE(D21,"-",E21,"-",F21,"-",TEXT(G21,"0#"),"-",TEXT(H21,"0#"))) -> ITT---0 | J21: ANEXO | K21: ITT-POE-06 MATRÍZ DE RIESGO
D22: ='Configuración'!$A$2 -> ITT | I22: =IF(H22="",CONCATENATE(D22,"-",E22,"-",F22,"-",TEXT(G22,"0#")),CONCATENATE(D22,"-",E22,"-",F22,"-",TEXT(G22,"0#"),"-",TEXT(H22,"0#"))) -> ITT---0 | J22: REGISTRO | K22: ITT-POE-06-01 LISTA DE VERIFICACIÓN
D23: ='Configuración'!$A$2 -> ITT | I23: =IF(H23="",CONCATENATE(D23,"-",E23,"-",F23,"-",TEXT(G23,"0#")),CONCATENATE(D23,"-",E23,"-",F23,"-",TEXT(G23,"0#"),"-",TEXT(H23,"0#"))) -> ITT---0 | J23: REGISTRO | K23: ITT-POE-06-02 SOLICITUD DE MANTENIMIENTO CORRECTIVO
D24: ='Configuración'!$A$2 -> ITT | I24: =IF(H24="",CONCATENATE(D24,"-",E24,"-",F24,"-",TEXT(G24,"0#")),CONCATENATE(D24,"-",E24,"-",F24,"-",TEXT(G24,"0#"),"-",TEXT(H24,"0#"))) -> ITT---0 | J24: REGISTRO | K24: ITT-POE-06-03 PROGRAMA DE MANTENIMIENTO PREVENTIVO
D25: ='Configuración'!$A$2 -> ITT | I25: =IF(H25="",CONCATENATE(D25,"-",E25,"-",F25,"-",TEXT(G25,"0#")),CONCATENATE(D25,"-",E25,"-",F25,"-",TEXT(G25,"0#"),"-",TEXT(H25,"0#"))) -> ITT---0 | J25: REGISTRO | K25: ITT-POE-06-04 ORDEN DE TRABAJO DE MANTENIMIENTO
A26: Proceso de Administración de Recursos | B26: REALIZACIÓN DE COMPRAS DIRECTAS | C26: REALIZACIÓN DE COMPRAS DIRECTAS | D26: ='Configuración'!$A$2 -> ITT | I26: =IF(H26="",CONCATENATE(D26,"-",E26,"-",F26,"-",TEXT(G26,"0#")),CONCATENATE(D26,"-",E26,"-",F26,"-",TEXT(G26,"0#"),"-",TEXT(H26,"0#"))) -> ITT---0 | J26: PROCEDIMIENTO | K26: ITT-ITC-IT-01 INSTRUCTIVO DE TRABAJO PARA LA REALIZACIÓN DE COMPRAS DIRECTAS
D27: ='Configuración'!$A$2 -> ITT | I27: =IF(H27="",CONCATENATE(D27,"-",E27,"-",F27,"-",TEXT(G27,"0#")),CONCATENATE(D27,"-",E27,"-",F27,"-",TEXT(G27,"0#"),"-",TEXT(H27,"0#"))) -> ITT---0 | J27: ANEXO | K27: ITT-ITC-FO-01 FORMATO PARA SELECCIÓN DE PROVEEDORES
D28: ='Configuración'!$A$2 -> ITT | I28: =IF(H28="",CONCATENATE(D28,"-",E28,"-",F28,"-",TEXT(G28,"0#")),CONCATENATE(D28,"-",E28,"-",F28,"-",TEXT(G28,"0#"),"-",TEXT(H28,"0#"))) -> ITT---0 | J28: REGISTRO | K28: ITT-ITC-FO-02 FORMATO PARA EVALUACIÓN DE PROVEEDORES
D29: ='Configuración'!$A$2 -> ITT | I29: =IF(H29="",CONCATENATE(D29,"-",E29,"-",F29,"-",TEXT(G29,"0#")),CONCATENATE(D29,"-",E29,"-",F29,"-",TEXT(G29,"0#"),"-",TEXT(H29,"0#"))) -> ITT---0 | J29: REGISTRO | K29: ITT-ITC-FO-03 FORMATO PARA REQUISICIÓN DE BIENES Y SERVICIOS
D30: ='Configuración'!$A$2 -> ITT | I30: =IF(H30="",CONCATENATE(D30,"-",E30,"-",F30,"-",TEXT(G30,"0#")),CONCATENATE(D30,"-",E30,"-",F30,"-",TEXT(G30,"0#"),"-",TEXT(H30,"0#"))) -> ITT---0 | J30: REGISTRO | K30: ITT-ITC-FO-04 FORMATO PARA CATALOGO PROVEEDORES APROBADOS
A31: Proceso de Administración de Recursos | B31: DESARROLLO DE PROYECTO INDIVIDUAL | C31: DESARROLLO DE PROYECTO INDIVIDUAL | D31: ='Configuración'!$A$2 -> ITT | I31: =IF(H31="",CONCATENATE(D31,"-",E31,"-",F31,"-",TEXT(G31,"0#")),CONCATENATE(D31,"-",E31,"-",F31,"-",TEXT(G31,"0#"),"-",TEXT(H31,"0#"))) -> ITT---0 | J31: PROCEDIMIENTO | K31: ITT-POC-10 PROCEDIMIENTO PARA DESARROLLO DE PROYECTO INDIVIDUAL
D32: ='Configuración'!$A$2 -> ITT | I32: =IF(H32="",CONCATENATE(D32,"-",E32,"-",F32,"-",TEXT(G32,"0#")),CONCATENATE(D32,"-",E32,"-",F32,"-",TEXT(G32,"0#"),"-",TEXT(H32,"0#"))) -> ITT---0 | J32: ANEXO | K32: ITT-POC-10 DIAGRAMA DE FLUJO PROYECTO INDIVIDUAL
D33: ='Configuración'!$A$2 -> ITT | I33: =IF(H33="",CONCATENATE(D33,"-",E33,"-",F33,"-",TEXT(G33,"0#")),CONCATENATE(D33,"-",E33,"-",F33,"-",TEXT(G33,"0#"),"-",TEXT(H33,"0#"))) -> ITT---0 | J33: REGISTRO | K33: ITT-POC-10-01 REPORTE DEL PROYECTO INDIVIDUAL DEL DOCENTE
A34: Proceso Académico | B34: INSCRIPCIÓN DEL ESTUDIANTE | C34: INSCRIPCIÓN DEL ESTUDIANTE | D34: ='Configuración'!$A$2 -> ITT | I34: =IF(H34="",CONCATENATE(D34,"-",E34,"-",F34,"-",TEXT(G34,"0#")),CONCATENATE(D34,"-",E34,"-",F34,"-",TEXT(G34,"0#"),"-",TEXT(H34,"0#"))) -> ITT---0 | J34: PROCEDIMIENTO | K34: ITT-POE-01 - INSCRIPCIÓN DEL ESTUDIANTE
D35: ='Configuración'!$A$2 -> ITT | I35: =IF(H35="",CONCATENATE(D35,"-",E35,"-",F35,"-",TEXT(G35,"0#")),CONCATENATE(D35,"-",E35,"-",F35,"-",TEXT(G35,"0#"),"-",TEXT(H35,"0#"))) -> ITT---0 | J35: ANEXO | K35: ITT-POE-01 - MATRÍZ DE RIESGO - PROCESO DE INSCRIPCIÓN
D36: ='Configuración'!$A$2 -> ITT | I36: =IF(H36="",CONCATENATE(D36,"-",E36,"-",F36,"-",TEXT(G36,"0#")),CONCATENATE(D36,"-",E36,"-",F36,"-",TEXT(G36,"0#"),"-",TEXT(H36,"0#"))) -> ITT---0 | J36: REGISTRO | K36: ITT-POE-01-01 - CARTA DE ACEPTACIÓN
D37: ='Configuración'!$A$2 -> ITT | I37: =IF(H37="",CONCATENATE(D37,"-",E37,"-",F37,"-",TEXT(G37,"0#")),CONCATENATE(D37,"-",E37,"-",F37,"-",TEXT(G37,"0#"),"-",TEXT(H37,"0#"))) -> ITT---0 | J37: REGISTRO | K37: ITT-POE-01-02 - SOLICITUD DE INSCRIPCIÓN
D38: ='Configuración'!$A$2 -> ITT | I38: =IF(H38="",CONCATENATE(D38,"-",E38,"-",F38,"-",TEXT(G38,"0#")),CONCATENATE(D38,"-",E38,"-",F38,"-",TEXT(G38,"0#"),"-",TEXT(H38,"0#"))) -> ITT---0 | J38: REGISTRO | K38: ITT-POE-01-03 - CONTRATO CON EL ALUMNO
D39: ='Configuración'!$A$2 -> ITT | I39: =IF(H39="",CONCATENATE(D39,"-",E39,"-",F39,"-",TEXT(G39,"0#")),CONCATENATE(D39,"-",E39,"-",F39,"-",TEXT(G39,"0#"),"-",TEXT(H39,"0#"))) -> ITT---0 | J39: REGISTRO | K39: ITT-POE-01-04 - LIBRO DE REGISTRO DE NÚMEROS DE CONTROL
A40: Proceso Académico | B40: Procedimiento para Ingreso de estudiantes de posgrado | C40: Procedimiento para Ingreso de estudiantes de posgrado | D40: ='Configuración'!$A$2 -> ITT | I40: =IF(H40="",CONCATENATE(D40,"-",E40,"-",F40,"-",TEXT(G40,"0#")),CONCATENATE(D40,"-",E40,"-",F40,"-",TEXT(G40,"0#"),"-",TEXT(H40,"0#"))) -> ITT---0
A41: Proceso Académico | B41: REINSCRIPCIÓN DEL ESTUDIANTE | C41: REINSCRIPCIÓN DEL ESTUDIANTE | D41: ='Configuración'!$A$2 -> ITT | I41: =IF(H41="",CONCATENATE(D41,"-",E41,"-",F41,"-",TEXT(G41,"0#")),CONCATENATE(D41,"-",E41,"-",F41,"-",TEXT(G41,"0#"),"-",TEXT(H41,"0#"))) -> ITT---0 | J41: PROCEDIMIENTO | K41: ITT-POE-02 REINSCRIPCIÓN DEL ESTUDIANTE
D42: ='Configuración'!$A$2 -> ITT | I42: =IF(H42="",CONCATENATE(D42,"-",E42,"-",F42,"-",TEXT(G42,"0#")),CONCATENATE(D42,"-",E42,"-",F42,"-",TEXT(G42,"0#"),"-",TEXT(H42,"0#"))) -> ITT---0 | J42: ANEXO | K42: ITT-POE-02 - MATRIZ ANÁLISIS DE RIESGO REINSCRIPCIÓN
A43: Proceso Académico | B43: GESTIÓN DEL CURSO | C43: GESTIÓN DEL CURSO | D43: ='Configuración'!$A$2 -> ITT | I43: =IF(H43="",CONCATENATE(D43,"-",E43,"-",F43,"-",TEXT(G43,"0#")),CONCATENATE(D43,"-",E43,"-",F43,"-",TEXT(G43,"0#"),"-",TEXT(H43,"0#"))) -> ITT---0 | J43: PROCEDIMIENTO | K43: ITT-POC-01 - PROCEDIMIENTO PARA LA GESTIÓN DEL CURSO
D44: ='Configuración'!$A$2 -> ITT | I44: =IF(H44="",CONCATENATE(D44,"-",E44,"-",F44,"-",TEXT(G44,"0#")),CONCATENATE(D44,"-",E44,"-",F44,"-",TEXT(G44,"0#"),"-",TEXT(H44,"0#"))) -> ITT---0 | J44: ANEXO | K44: ITT-POC-01 - MATRIZ DE ANÁLISIS DE RIESGOS
D45: ='Configuración'!$A$2 -> ITT | I45: =IF(H45="",CONCATENATE(D45,"-",E45,"-",F45,"-",TEXT(G45,"0#")),CONCATENATE(D45,"-",E45,"-",F45,"-",TEXT(G45,"0#"),"-",TEXT(H45,"0#"))) -> ITT---0 | J45: REGISTRO | K45: ITT-POC-01-01. INSTRUMENTACIÓN DIDÁCTICA
D46: ='Configuración'!$A$2 -> ITT | I46: =IF(H46="",CONCATENATE(D46,"-",E46,"-",F46,"-",TEXT(G46,"0#")),CONCATENATE(D46,"-",E46,"-",F46,"-",TEXT(G46,"0#"),"-",TEXT(H46,"0#"))) -> ITT---0 | J46: REGISTRO | K46: ITT-POC-01-02. SEGUIMIENTO DE ACTIVIDADES DOCENTES
D47: ='Configuración'!$A$2 -> ITT | I47: =IF(H47="",CONCATENATE(D47,"-",E47,"-",F47,"-",TEXT(G47,"0#")),CONCATENATE(D47,"-",E47,"-",F47,"-",TEXT(G47,"0#"),"-",TEXT(H47,"0#"))) -> ITT---0 | J47: REGISTRO | K47: ITT-POC-01-03. REPORTE FINAL DEL SEMESTRE
D48: ='Configuración'!$A$2 -> ITT | I48: =IF(H48="",CONCATENATE(D48,"-",E48,"-",F48,"-",TEXT(G48,"0#")),CONCATENATE(D48,"-",E48,"-",F48,"-",TEXT(G48,"0#"),"-",TEXT(H48,"0#"))) -> ITT---0 | J48: REGISTRO | K48: ITT-POC-01-04. LIBERACIÓN DE ACTIVIDADES DOCENTES
A49: Proceso Académico | B49: TUTORÍA | C49: TUTORÍA | D49: ='Configuración'!$A$2 -> ITT | I49: =IF(H49="",CONCATENATE(D49,"-",E49,"-",F49,"-",TEXT(G49,"0#")),CONCATENATE(D49,"-",E49,"-",F49,"-",TEXT(G49,"0#"),"-",TEXT(H49,"0#"))) -> ITT---0 | J49: PROCEDIMIENTO | K49: ITT-POC-02 PROCEDIMIENTO PARA LA ACREDITACIÓN DE TUTORÍAS
D50: ='Configuración'!$A$2 -> ITT | I50: =IF(H50="",CONCATENATE(D50,"-",E50,"-",F50,"-",TEXT(G50,"0#")),CONCATENATE(D50,"-",E50,"-",F50,"-",TEXT(G50,"0#"),"-",TEXT(H50,"0#"))) -> ITT---0 | J50: ANEXO | K50: ITT-POC-02 MATRIZ DE RIESGOS
D51: ='Configuración'!$A$2 -> ITT | I51: =IF(H51="",CONCATENATE(D51,"-",E51,"-",F51,"-",TEXT(G51,"0#")),CONCATENATE(D51,"-",E51,"-",F51,"-",TEXT(G51,"0#"),"-",TEXT(H51,"0#"))) -> ITT---0 | J51: REGISTRO | K51: ITT-POC-02-01 PLAN DE ACCIÓN SEMESTRAL TUTORÍAS
D52: ='Configuración'!$A$2 -> ITT | I52: =IF(H52="",CONCATENATE(D52,"-",E52,"-",F52,"-",TEXT(G52,"0#")),CONCATENATE(D52,"-",E52,"-",F52,"-",TEXT(G52,"0#"),"-",TEXT(H52,"0#"))) -> ITT---0 | J52: REGISTRO | K52: ITT-POC-02-02 FICHA DE IDENTIFICACIÓN DEL TUTORADO
D53: ='Configuración'!$A$2 -> ITT | I53: =IF(H53="",CONCATENATE(D53,"-",E53,"-",F53,"-",TEXT(G53,"0#")),CONCATENATE(D53,"-",E53,"-",F53,"-",TEXT(G53,"0#"),"-",TEXT(H53,"0#"))) -> ITT---0 | J53: REGISTRO | K53: ITT-POC-02-03 FORMATO DE ENTREVISTA
D54: ='Configuración'!$A$2 -> ITT | I54: =IF(H54="",CONCATENATE(D54,"-",E54,"-",F54,"-",TEXT(G54,"0#")),CONCATENATE(D54,"-",E54,"-",F54,"-",TEXT(G54,"0#"),"-",TEXT(H54,"0#"))) -> ITT---0 | J54: REGISTRO | K54: ITT-POC-02-04 REPORTE DEL TUTOR
D55: ='Configuración'!$A$2 -> ITT | I55: =IF(H55="",CONCATENATE(D55,"-",E55,"-",F55,"-",TEXT(G55,"0#")),CONCATENATE(D55,"-",E55,"-",F55,"-",TEXT(G55,"0#"),"-",TEXT(H55,"0#"))) -> ITT---0 | J55: REGISTRO | K55: ITT-POC-02-05 REPORTE DEL COORDINADOR INSTITUCIONAL DE TUTORIA
A56: Proceso Académico | B56: Seguimiento académico del estudiante doctorado | C56: Seguimiento académico del estudiante doctorado | D56: ='Configuración'!$A$2 -> ITT | I56: =IF(H56="",CONCATENATE(D56,"-",E56,"-",F56,"-",TEXT(G56,"0#")),CONCATENATE(D56,"-",E56,"-",F56,"-",TEXT(G56,"0#"),"-",TEXT(H56,"0#"))) -> ITT---0
A57: Proceso Académico | B57: Administración y desarrollo de proyectos | C57: Administración y desarrollo de proyectos | D57: ='Configuración'!$A$2 -> ITT | I57: =IF(H57="",CONCATENATE(D57,"-",E57,"-",F57,"-",TEXT(G57,"0#")),CONCATENATE(D57,"-",E57,"-",F57,"-",TEXT(G57,"0#"),"-",TEXT(H57,"0#"))) -> ITT---0
A58: Proceso Académico | B58: PARA ASESORIA ACADEMICA | C58: PARA ASESORIA ACADEMICA | D58: ='Configuración'!$A$2 -> ITT | I58: =IF(H58="",CONCATENATE(D58,"-",E58,"-",F58,"-",TEXT(G58,"0#")),CONCATENATE(D58,"-",E58,"-",F58,"-",TEXT(G58,"0#"),"-",TEXT(H58,"0#"))) -> ITT---0 | J58: PROCEDIMIENTO | K58: ITT-POC-11 PROCEDIMIENTO PARA ASESORIA ACADEMICA
D59: ='Configuración'!$A$2 -> ITT | I59: =IF(H59="",CONCATENATE(D59,"-",E59,"-",F59,"-",TEXT(G59,"0#")),CONCATENATE(D59,"-",E59,"-",F59,"-",TEXT(G59,"0#"),"-",TEXT(H59,"0#"))) -> ITT---0 | J59: ANEXO | K59: ITT-POC-11-01 FORMATO PARA REGISTRO DE ASESORÍA ACADÉMICA
D60: ='Configuración'!$A$2 -> ITT | I60: =IF(H60="",CONCATENATE(D60,"-",E60,"-",F60,"-",TEXT(G60,"0#")),CONCATENATE(D60,"-",E60,"-",F60,"-",TEXT(G60,"0#"),"-",TEXT(H60,"0#"))) -> ITT---0 | J60: REGISTRO | K60: ITT-POC-11-02 BITACORA DE SESIONES DE ASESORIA
D61: ='Configuración'!$A$2 -> ITT | I61: =IF(H61="",CONCATENATE(D61,"-",E61,"-",F61,"-",TEXT(G61,"0#")),CONCATENATE(D61,"-",E61,"-",F61,"-",TEXT(G61,"0#"),"-",TEXT(H61,"0#"))) -> ITT---0 | J61: REGISTRO | K61: ITT-POC-11-03 COORDINADOR Y RELACION DE ASESORES
D62: ='Configuración'!$A$2 -> ITT | I62: =IF(H62="",CONCATENATE(D62,"-",E62,"-",F62,"-",TEXT(G62,"0#")),CONCATENATE(D62,"-",E62,"-",F62,"-",TEXT(G62,"0#"),"-",TEXT(H62,"0#"))) -> ITT---0 | J62: REGISTRO | K62: ITT-POC-11-04 SEGUIMIENTO DE ASESORES
A63: Proceso Académico | B63: Presentación de predoctoral | C63: Presentación de predoctoral | D63: ='Configuración'!$A$2 -> ITT | I63: =IF(H63="",CONCATENATE(D63,"-",E63,"-",F63,"-",TEXT(G63,"0#")),CONCATENATE(D63,"-",E63,"-",F63,"-",TEXT(G63,"0#"),"-",TEXT(H63,"0#"))) -> ITT---0
A64: Proceso de Vinculación | B64: SERVICIO SOCIAL | C64: SERVICIO SOCIAL | D64: ='Configuración'!$A$2 -> ITT | I64: =IF(H64="",CONCATENATE(D64,"-",E64,"-",F64,"-",TEXT(G64,"0#")),CONCATENATE(D64,"-",E64,"-",F64,"-",TEXT(G64,"0#"),"-",TEXT(H64,"0#"))) -> ITT---0 | J64: PROCEDIMIENTO | K64: ITT-POC-08 PROCEDIMIENTO PARA SERVICIO SOCIAL
D65: ='Configuración'!$A$2 -> ITT | I65: =IF(H65="",CONCATENATE(D65,"-",E65,"-",F65,"-",TEXT(G65,"0#")),CONCATENATE(D65,"-",E65,"-",F65,"-",TEXT(G65,"0#"),"-",TEXT(H65,"0#"))) -> ITT---0 | J65: ANEXO | K65: ITT-POC-08 MATRIZ DE ANÁLISIS DE RIESGO DESARROLLO DE PROYECTOS
D66: ='Configuración'!$A$2 -> ITT | I66: =IF(H66="",CONCATENATE(D66,"-",E66,"-",F66,"-",TEXT(G66,"0#")),CONCATENATE(D66,"-",E66,"-",F66,"-",TEXT(G66,"0#"),"-",TEXT(H66,"0#"))) -> ITT---0 | J66: REGISTRO | K66: ITT-POC-08-01 PROGRAMA SEMESTRAL DE TRABAJO DE SERVICIO SOCIAL
D67: ='Configuración'!$A$2 -> ITT | I67: =IF(H67="",CONCATENATE(D67,"-",E67,"-",F67,"-",TEXT(G67,"0#")),CONCATENATE(D67,"-",E67,"-",F67,"-",TEXT(G67,"0#"),"-",TEXT(H67,"0#"))) -> ITT---0 | J67: REGISTRO | K67: ITT-POC-08-02 SOLICITUD DE SERVICIO SOCIAL
D68: ='Configuración'!$A$2 -> ITT | I68: =IF(H68="",CONCATENATE(D68,"-",E68,"-",F68,"-",TEXT(G68,"0#")),CONCATENATE(D68,"-",E68,"-",F68,"-",TEXT(G68,"0#"),"-",TEXT(H68,"0#"))) -> ITT---0 | J68: REGISTRO | K68: ITT-POC-08-03 CARTA DE PRESENTACIÓN DE SERVICIO SOCIAL
D69: ='Configuración'!$A$2 -> ITT | I69: =IF(H69="",CONCATENATE(D69,"-",E69,"-",F69,"-",TEXT(G69,"0#")),CONCATENATE(D69,"-",E69,"-",F69,"-",TEXT(G69,"0#"),"-",TEXT(H69,"0#"))) -> ITT---0 | J69: REGISTRO | K69: ITT-POC-08-04 CARTA DE ASIGNACIÓN-PLAN DE TRABAJO
D70: ='Configuración'!$A$2 -> ITT | I70: =IF(H70="",CONCATENATE(D70,"-",E70,"-",F70,"-",TEXT(G70,"0#")),CONCATENATE(D70,"-",E70,"-",F70,"-",TEXT(G70,"0#"),"-",TEXT(H70,"0#"))) -> ITT---0 | J70: REGISTRO | K70: ITT-POC-08-05 CARTA COMPROMISO DE SERVICIO SOCIAL
D71: ='Configuración'!$A$2 -> ITT | I71: =IF(H71="",CONCATENATE(D71,"-",E71,"-",F71,"-",TEXT(G71,"0#")),CONCATENATE(D71,"-",E71,"-",F71,"-",TEXT(G71,"0#"),"-",TEXT(H71,"0#"))) -> ITT---0 | J71: REGISTRO | K71: ITT-POC-08-06 REPORTE BIMESTRAL DE SERVICIO SOCIAL
D72: ='Configuración'!$A$2 -> ITT | I72: =IF(H72="",CONCATENATE(D72,"-",E72,"-",F72,"-",TEXT(G72,"0#")),CONCATENATE(D72,"-",E72,"-",F72,"-",TEXT(G72,"0#"),"-",TEXT(H72,"0#"))) -> ITT---0 | J72: REGISTRO | K72: ITT-POC-08-07 TARJETA DE CONTROL DE SERVICIO SOCIAL
D73: ='Configuración'!$A$2 -> ITT | I73: =IF(H73="",CONCATENATE(D73,"-",E73,"-",F73,"-",TEXT(G73,"0#")),CONCATENATE(D73,"-",E73,"-",F73,"-",TEXT(G73,"0#"),"-",TEXT(H73,"0#"))) -> ITT---0 | J73: REGISTRO | K73: ITT-POC-08-08 CONSTANCIA DE SERVICIO SOCIAL
D74: ='Configuración'!$A$2 -> ITT | I74: =IF(H74="",CONCATENATE(D74,"-",E74,"-",F74,"-",TEXT(G74,"0#")),CONCATENATE(D74,"-",E74,"-",F74,"-",TEXT(G74,"0#"),"-",TEXT(H74,"0#"))) -> ITT---0 | J74: REGISTRO | K74: ITT-POC-08-09 EVALUACIÓN RESPONSABLE DEL PROGRAMA
D75: ='Configuración'!$A$2 -> ITT | I75: =IF(H75="",CONCATENATE(D75,"-",E75,"-",F75,"-",TEXT(G75,"0#")),CONCATENATE(D75,"-",E75,"-",F75,"-",TEXT(G75,"0#"),"-",TEXT(H75,"0#"))) -> ITT---0 | J75: REGISTRO | K75: ITT-POC-08-10 EVALUACIÓN DEL REPORTE FINAL
D76: ='Configuración'!$A$2 -> ITT | I76: =IF(H76="",CONCATENATE(D76,"-",E76,"-",F76,"-",TEXT(G76,"0#")),CONCATENATE(D76,"-",E76,"-",F76,"-",TEXT(G76,"0#"),"-",TEXT(H76,"0#"))) -> ITT---0 | J76: REGISTRO | K76: ITT-POC-08-11 AUTOEVALUACIÓN DEL ALUMNO
A77: Proceso de Vinculación | B77: Seguimiento de Egresados | C77: Seguimiento de Egresados | D77: ='Configuración'!$A$2 -> ITT | I77: =IF(H77="",CONCATENATE(D77,"-",E77,"-",F77,"-",TEXT(G77,"0#")),CONCATENATE(D77,"-",E77,"-",F77,"-",TEXT(G77,"0#"),"-",TEXT(H77,"0#"))) -> ITT---0
D78: ='Configuración'!$A$2 -> ITT | I78: =IF(H78="",CONCATENATE(D78,"-",E78,"-",F78,"-",TEXT(G78,"0#")),CONCATENATE(D78,"-",E78,"-",F78,"-",TEXT(G78,"0#"),"-",TEXT(H78,"0#"))) -> ITT---0
A79: Proceso Académico/Vinculación | B79: RESIDENCIA PROFESIONAL | C79: RESIDENCIA PROFESIONAL | D79: ='Configuración'!$A$2 -> ITT | I79: =IF(H79="",CONCATENATE(D79,"-",E79,"-",F79,"-",TEXT(G79,"0#")),CONCATENATE(D79,"-",E79,"-",F79,"-",TEXT(G79,"0#"),"-",TEXT(H79,"0#"))) -> ITT---0 | J79: PROCEDIMIENTO | K79: ITT-POC-09 PROCEDIMIENTO RESIDENCIA PROFESIONAL
D80: ='Configuración'!$A$2 -> ITT | I80: =IF(H80="",CONCATENATE(D80,"-",E80,"-",F80,"-",TEXT(G80,"0#")),CONCATENATE(D80,"-",E80,"-",F80,"-",TEXT(G80,"0#"),"-",TEXT(H80,"0#"))) -> ITT---0 | J80: ANEXO | K80: ITT-POC-09 MATRÍZ DE RIESGO RESIDENCIA PROFESIONAL
D81: ='Configuración'!$A$2 -> ITT | I81: =IF(H81="",CONCATENATE(D81,"-",E81,"-",F81,"-",TEXT(G81,"0#")),CONCATENATE(D81,"-",E81,"-",F81,"-",TEXT(G81,"0#"),"-",TEXT(H81,"0#"))) -> ITT---0 | J81: REGISTRO | K81: ITT-POC-09-01 SOLICITUD DE RESIDENCIA PROFESIONAL
D82: ='Configuración'!$A$2 -> ITT | I82: =IF(H82="",CONCATENATE(D82,"-",E82,"-",F82,"-",TEXT(G82,"0#")),CONCATENATE(D82,"-",E82,"-",F82,"-",TEXT(G82,"0#"),"-",TEXT(H82,"0#"))) -> ITT---0 | J82: REGISTRO | K82: ITT-POC-09-02 REPORTE PRELIMINAR DE RESIDENCIA PROFESIONAL
D83: ='Configuración'!$A$2 -> ITT | I83: =IF(H83="",CONCATENATE(D83,"-",E83,"-",F83,"-",TEXT(G83,"0#")),CONCATENATE(D83,"-",E83,"-",F83,"-",TEXT(G83,"0#"),"-",TEXT(H83,"0#"))) -> ITT---0 | J83: REGISTRO | K83: ITT-POC-09-03 ASIGNACIÓN DE ASESOR INTERNO DE RESIDENCIA PROFESIONAL
D84: ='Configuración'!$A$2 -> ITT | I84: =IF(H84="",CONCATENATE(D84,"-",E84,"-",F84,"-",TEXT(G84,"0#")),CONCATENATE(D84,"-",E84,"-",F84,"-",TEXT(G84,"0#"),"-",TEXT(H84,"0#"))) -> ITT---0 | J84: REGISTRO | K84: ITT-POC-09-04 DICTAMEN DE RESIDENCIA PROFESIONAL
D85: ='Configuración'!$A$2 -> ITT | I85: =IF(H85="",CONCATENATE(D85,"-",E85,"-",F85,"-",TEXT(G85,"0#")),CONCATENATE(D85,"-",E85,"-",F85,"-",TEXT(G85,"0#"),"-",TEXT(H85,"0#"))) -> ITT---0 | J85: REGISTRO | K85: ITT-POC-09-05 CARTA DE PRESENTACIÓN A LA EMPRESA
D86: ='Configuración'!$A$2 -> ITT | I86: =IF(H86="",CONCATENATE(D86,"-",E86,"-",F86,"-",TEXT(G86,"0#")),CONCATENATE(D86,"-",E86,"-",F86,"-",TEXT(G86,"0#"),"-",TEXT(H86,"0#"))) -> ITT---0 | J86: REGISTRO | K86: ITT-POC-09-06 REGISTRO DE ASESORÍA DE RESIDENCIA PROFESIONAL
D87: ='Configuración'!$A$2 -> ITT | I87: =IF(H87="",CONCATENATE(D87,"-",E87,"-",F87,"-",TEXT(G87,"0#")),CONCATENATE(D87,"-",E87,"-",F87,"-",TEXT(G87,"0#"),"-",TEXT(H87,"0#"))) -> ITT---0 | J87: REGISTRO | K87: ITT-POC-09-07 EVALUACIÓN Y SEGUIMIENTO DE RESIDENCIA PROFESIONAL
D88: ='Configuración'!$A$2 -> ITT | I88: =IF(H88="",CONCATENATE(D88,"-",E88,"-",F88,"-",TEXT(G88,"0#")),CONCATENATE(D88,"-",E88,"-",F88,"-",TEXT(G88,"0#"),"-",TEXT(H88,"0#"))) -> ITT---0 | J88: REGISTRO | K88: ITT-POC-09-08 EVALUACIÓN DEL INFORME TÉCNICO FINAL DE RESIDENCIA PROFESIONAL
A89: Proceso Académico/Vinculación | B89: Movilidad | C89: Movilidad | D89: ='Configuración'!$A$2 -> ITT | I89: =IF(H89="",CONCATENATE(D89,"-",E89,"-",F89,"-",TEXT(G89,"0#")),CONCATENATE(D89,"-",E89,"-",F89,"-",TEXT(G89,"0#"),"-",TEXT(H89,"0#"))) -> ITT---0
A90: Proceso de Certificación Académica y Titulación | B90: VALIDACIÓN SEGUNDA LENGUA | C90: VALIDACIÓN SEGUNDA LENGUA | D90: ='Configuración'!$A$2 -> ITT | I90: =IF(H90="",CONCATENATE(D90,"-",E90,"-",F90,"-",TEXT(G90,"0#")),CONCATENATE(D90,"-",E90,"-",F90,"-",TEXT(G90,"0#"),"-",TEXT(H90,"0#"))) -> ITT---0 | J90: PROCEDIMIENTO | K90: ITT-POC-06 PROCEDIMIENTO VALIDACIÓN SEGUNDA LENGUA
D91: ='Configuración'!$A$2 -> ITT | I91: =IF(H91="",CONCATENATE(D91,"-",E91,"-",F91,"-",TEXT(G91,"0#")),CONCATENATE(D91,"-",E91,"-",F91,"-",TEXT(G91,"0#"),"-",TEXT(H91,"0#"))) -> ITT---0 | J91: ANEXO | K91: ITT-POC-06 MATRIZ ANÁLISIS DE RIESGO VALIDACIÓN DE UNA SEGUNDA LENGUA
A92: Proceso de Certificación Académica y Titulación | B92: GENERAR CERTIFICADO | C92: GENERAR CERTIFICADO | D92: ='Configuración'!$A$2 -> ITT | I92: =IF(H92="",CONCATENATE(D92,"-",E92,"-",F92,"-",TEXT(G92,"0#")),CONCATENATE(D92,"-",E92,"-",F92,"-",TEXT(G92,"0#"),"-",TEXT(H92,"0#"))) -> ITT---0 | J92: PROCEDIMIENTO | K92: ITT-POS-01 - PROCESO PARA GENERAR CERTIFICADO
D93: ='Configuración'!$A$2 -> ITT | I93: =IF(H93="",CONCATENATE(D93,"-",E93,"-",F93,"-",TEXT(G93,"0#")),CONCATENATE(D93,"-",E93,"-",F93,"-",TEXT(G93,"0#"),"-",TEXT(H93,"0#"))) -> ITT---0 | J93: ANEXO | K93: ITT-POS-01 - MATRÍZ DE RIESGOS - GENERACIÓN DE CERTIFICADO
D94: ='Configuración'!$A$2 -> ITT | I94: =IF(H94="",CONCATENATE(D94,"-",E94,"-",F94,"-",TEXT(G94,"0#")),CONCATENATE(D94,"-",E94,"-",F94,"-",TEXT(G94,"0#"),"-",TEXT(H94,"0#"))) -> ITT---0 | J94: REGISTRO | K94: ITT-POS-01 - CERTIFICADO DE ESTUDIOS
A95: Proceso de Certificación Académica y Titulación | B95: ACTO DE RECEPCIÓN | C95: ACTO DE RECEPCIÓN | D95: ='Configuración'!$A$2 -> ITT | I95: =IF(H95="",CONCATENATE(D95,"-",E95,"-",F95,"-",TEXT(G95,"0#")),CONCATENATE(D95,"-",E95,"-",F95,"-",TEXT(G95,"0#"),"-",TEXT(H95,"0#"))) -> ITT---0 | J95: PROCEDIMIENTO | K95: ITT-POS-02 - PROCEDIMIENTO PARA ACTO DE RECEPCIÓN
D96: ='Configuración'!$A$2 -> ITT | I96: =IF(H96="",CONCATENATE(D96,"-",E96,"-",F96,"-",TEXT(G96,"0#")),CONCATENATE(D96,"-",E96,"-",F96,"-",TEXT(G96,"0#"),"-",TEXT(H96,"0#"))) -> ITT---0 | J96: ANEXO | K96: ITT-POS-02 - MATRÍZ ANÁLISIS DE RIESGO ACTO PROTOCOLARIO
D97: ='Configuración'!$A$2 -> ITT | I97: =IF(H97="",CONCATENATE(D97,"-",E97,"-",F97,"-",TEXT(G97,"0#")),CONCATENATE(D97,"-",E97,"-",F97,"-",TEXT(G97,"0#"),"-",TEXT(H97,"0#"))) -> ITT---0 | J97: REGISTRO | K97: ITT-POS-02-01 - SOLICITUD DE ACTO PROTOCOLARIO
D98: ='Configuración'!$A$2 -> ITT | I98: =IF(H98="",CONCATENATE(D98,"-",E98,"-",F98,"-",TEXT(G98,"0#")),CONCATENATE(D98,"-",E98,"-",F98,"-",TEXT(G98,"0#"),"-",TEXT(H98,"0#"))) -> ITT---0 | J98: REGISTRO | K98: ITT-POS-02-02 - OFICIO DE REGISTRO DE PROYECTO
D99: ='Configuración'!$A$2 -> ITT | I99: =IF(H99="",CONCATENATE(D99,"-",E99,"-",F99,"-",TEXT(G99,"0#")),CONCATENATE(D99,"-",E99,"-",F99,"-",TEXT(G99,"0#"),"-",TEXT(H99,"0#"))) -> ITT---0 | J99: REGISTRO | K99: ITT-POS-02-03 - OFICIO DE LIBERACIÓN DE PROYECTO
D100: ='Configuración'!$A$2 -> ITT | I100: =IF(H100="",CONCATENATE(D100,"-",E100,"-",F100,"-",TEXT(G100,"0#")),CONCATENATE(D100,"-",E100,"-",F100,"-",TEXT(G100,"0#"),"-",TEXT(H100,"0#"))) -> ITT---0 | J100: REGISTRO | K100: ITT-POS-02-04 - GUIA ACTO PROTOCOLARIO
...
