Workbook

Sheet Control de cambios ITT-T-CA-32-
A1: TIPO DE DOCUMENTO | B1: MÉTODO DE IDENTIFICACIÓN DE LOS CAMBIOS Y ESTADO DE REVISIÓN DE LOS MISMOS.
A2: Procedimiento | B2: Los cambios se solicitan por medio de un oficio dirigido al RD, el cual debe incluir; justificación y anexa la copia del documento señalando en él con tinta roja el cambio sugerido. Una vez aprobado el cambio por las mismas personas que autorizaron y revisaron el documento, cuando proceda, según las políticas establecidas en el Procedimiento para el Control de Documentos. (ITT-T-CA-32-PR-01), se asigna su nuevo número de revisión. Los cambios se identifican en la sección “Control de cambios” en cada documento.
A3: Anexo
A4: Registro
A5: Formato s/proced.
A6: Formato Electrónico
A7: Instructivo de trabajo
A8: Instructivos de laboratorios*
A9: Catálogos y manuales
A10: Otros documentos

Sheet Codificación
A1: Unidad Responsable | B1: Clave | C1: Aplica | D1: Clave | E1: Proceso Estratégico | F1: Clave | G1: Consecutivo subproceso | H1: + | I1: Tipo de documento | J1: Clave | K1: Consecutivo
A2: Instituto Tecnológico de Tepic | B2: ITT | C2: Institución | D2: T | E2: Planeación | F2: PL | G2: 01 a 0n | I2: Procedimiento | J2: PR | K2: 01 a 0n
C3: Institución | D3: T | E3: Administración de los Recursos | F3: AD | I3: Anexo | J3: AN
C4: Licenciatura | D4: L | E4: Académico | F4: AC | I4: Registro | J4: RG
C5: Posgrado | D5: P | I5: Formato s/proced. | J5: FO
C6: Licenciatura | D6: L | E6: Vinculación | F6: VI | I6: Formato Electrónico | J6: FE
C7: Posgrado | D7: P | I7: Instructivo de trabajo | J7: IT
C8: Licenciatura | D8: L | E8: Certificación Académica y Titulación | F8: CT | I8: Instructivos de laboratorios* | J8: DT
C9: Posgrado | D9: P | I9: Catálogos y manuales | J9: Nombre Propio
C10: Institución | D10: T | E10: Calidad | F10: CA | I10: Otros documentos | J10: Nombre propio

Sheet Configuración
A1: Unidad | B1: Proceso | C1: Ámbito | D1: Documento | E1: Nombre | F1: Número
A2: ITT | B2: PL | C2: T | D2: PR | E2: Procedimiento | F2: SP
B3: AC | C3: L | D3: AN | E3: Anexo | F3: 1
B4: CT | C4: P | D4: RG | E4: Registro | F4: 2
B5: VI | D5: FO | E5: Formato s/proced. | F5: 3
B6: AD | D6: FE | E6: Formato Electrónico | F6: 4
B7: CA | D7: IT | E7: Instructivo de trabajo | F7: 5
D8: DT | E8: Instructivos de laboratorios* | F8: 6
F9: 7
F10: 8
F11: 9
F12: 10
F13: 11
F14: 12
F15: 13
F16: 14
F17: 15
F18: 16
F19: 17
F20: 18
... F42: 40

Sheet Copia de Asignación de códigos 
A1: Unidad Responsable | B1: Clave | C1: Ámbito de aplicación | D1: Clave | E1: Proceso Estratégico | F1: Clave | G1: Tipo de documento | H1: Clave | I1: Consecutivo
A2: Instituto Tecnológico de Tepic | B2: ITT | C2: Institución | D2: T | E2: Planeación | F2: PL | G2: PROCEDIMIENTO | H2: PR | I2: 01 a 0n
C3: Licenciatura | D3: L | E3: Académico | F3: AC | G3: ANEXOS | H3: AN
C4: Posgrado | D4: P | G4: REGISTRO | H4: RG
E5: Certificación Académica y Titulación | F5: CT | G5: Formato s/proced. | H5: FO
G6: Formato Electrónico | H6: FE
E7: Vinculación | F7: VI | G7: Instructivo de trabajo | H7: IT
E8: Administración de los Recursos | F8: AD | G8: Instructivos de laboratorios* | H8: DT
E9: Calidad | F9: CA
G11: Catálogos y manuales | H11: Nombre Propio
G12: Otros documentos | H12: Nombre propio

Sheet Asignación de códigos 2026 ITT-
A1: Proceso Estratégico | B1: Responsable del proceso | C1: Subproceso | D1: Responsable del subproceso | E1: Nombre de documento | F1: Unidad | G1: Ámbito | H1: P. est. | I1: No. Subpro | J1: Documento | K1: No. Cons | L1: Clave documental | M1: Código-nombre de documento | N1: Revisión | O1: Fecha de revisión | P1: Link de archivo DOC | Q1: PDF: “Toda copia en PAPEL es un Documento No Controlado a excepción del original”
A2: Proceso de Planeación | B2: M.C. Israel Arjona Vizcaíno | C2: PROGRAMACIÓN Y PRESUPUESTACIÓN DE ACTIVIDADES | D2: Arq. Rommel Rodríguez Garay | E2: PROGRAMACIÓN Y PRESUPUESTACIÓN DE ACTIVIDADES | F2: ='Configuración'!$A$2 -> ITT | G2: T | H2: PL | I2: 1 | J2: PR | K2: 1 | L2: =CONCATENATE(F2,"-",G2,"-",H2,"-",TEXT(I2,"0#"),"-",J2,"-",TEXT(K2,"0#")) -> ITT-T-PL-01-PR-01 | M2: =L2&"-"&E2 -> ITT-T-PL-01-PR-01-PROGRAMACIÓN Y PRESUPUESTACIÓN DE ACTIVIDADES | N2: 2 | O2: 46090 | P2: https://docs.google.com/document/d/1faRvWXdWVKvszMDEdjavg_ST1pwD0yn3GgaU6Pn9PA0/edit?usp=drive_link | Q2: https://drive.google.com/file/d/1udIS2fuQwk1-71hdm-3U1xLcunezGZnb/view?usp=drive_link
E3: MATRIZ DE ANÁLISIS DE RIESGO | F3: ='Configuración'!$A$2 -> ITT | G3: T | H3: PL | I3: =IF(C3="",I2,I2+1) -> 1 | J3: AN | K3: 1 | L3: =CONCATENATE(F3,"-",G3,"-",H3,"-",TEXT(I3,"0#"),"-",J3,"-",TEXT(K3,"0#")) -> ITT-T-PL-01-AN-01 | M3: =L3&"-"&E3 -> ITT-T-PL-01-AN-01-MATRIZ DE ANÁLISIS DE RIESGO | N3: 2 | O3: 46093 | P3: https://docs.google.com/spreadsheets/d/1drSiCzHr7MoWX_7Hja_pr60iIcEIKvj3/edit?usp=drive_link&ouid=112467577828699602815&rtpof=true&sd=true | Q3: https://docs.google.com/spreadsheets/d/1drSiCzHr7MoWX_7Hja_pr60iIcEIKvj3/edit?usp=drive_link&ouid=112467577828699602815&rtpof=true&sd=true
A4: Proceso de Administración de Recursos | B4: Lic. Daniel Alejandro García Banda | C4: RECLUTAMIENTO, SELECCIÓN Y CONTRATACIÓN DE PERSONAL | D4: Ing. Adriana Yarim González Ramos | E4: RECLUTAMIENTO, SELECCIÓN Y CONTRATACIÓN DE PERSONAL | F4: ='Configuración'!$A$2 -> ITT | G4: T | H4: AD | I4: =IF(C4="",I3,I3+1) -> 2 | J4: PR | K4: 1 | L4: =CONCATENATE(F4,"-",G4,"-",H4,"-",TEXT(I4,"0#"),"-",J4,"-",TEXT(K4,"0#")) -> ITT-T-AD-02-PR-01 | M4: =L4&"-"&E4 -> ITT-T-AD-02-PR-01-RECLUTAMIENTO, SELECCIÓN Y CONTRATACIÓN DE PERSONAL | N4: 0 | O4: 46093 | P4: https://docs.google.com/document/d/1GasJiSvHnqcLbGjehjpBw_4kJ--Tp3ptciqYRlETWVo/edit?usp=drive_link | Q4: https://drive.google.com/file/d/1wrLFZ24ONf6_KBOS6dD1NQ_K-vhoG7rL/view?usp=drive_link
E5: MATRIZ DE ANÁLISIS DE RIESGO | F5: ='Configuración'!$A$2 -> ITT | G5: T | H5: AD | I5: =IF(C5="",I4,I4+1) -> 2 | J5: AN | K5: 1 | L5: =CONCATENATE(F5,"-",G5,"-",H5,"-",TEXT(I5,"0#"),"-",J5,"-",TEXT(K5,"0#")) -> ITT-T-AD-02-AN-01 | M5: =L5&"-"&E5 -> ITT-T-AD-02-AN-01-MATRIZ DE ANÁLISIS DE RIESGO | N5: 0 | O5: 46107 | P5: https://docs.google.com/spreadsheets/d/1mJ6Xb8MWNmJtfVWAVwlcLFlUq2mWtR3P/edit?usp=drive_link&ouid=112467577828699602815&rtpof=true&sd=true | Q5: https://docs.google.com/spreadsheets/d/1mJ6Xb8MWNmJtfVWAVwlcLFlUq2mWtR3P/edit?usp=drive_link&ouid=112467577828699602815&rtpof=true&sd=true
E6: CONVOCATORIA | F6: ='Configuración'!$A$2 -> ITT | G6: T | H6: AD | I6: =IF(C6="",I5,I5+1) -> 2 | J6: RG | K6: 1 | L6: =CONCATENATE(F6,"-",G6,"-",H6,"-",TEXT(I6,"0#"),"-",J6,"-",TEXT(K6,"0#")) -> ITT-T-AD-02-RG-01 | M6: =L6&"-"&E6 -> ITT-T-AD-02-RG-01-CONVOCATORIA | N6: 0 | O6: 46125 | P6: https://docs.google.com/document/d/1YhiZ3TfzL6NTr0FBp9huWw1lWFXSwv914zt2_ejHRI8/edit?usp=drive_link | Q6: https://drive.google.com/file/d/1OcmWkYlsmG6KPml0ScpNv8ibDyMMsyFt/view?usp=drive_link
E7: REGISTRO DE SOLICITANTES | F7: ='Configuración'!$A$2 -> ITT | G7: T | H7: AD | I7: =IF(C7="",I6,I6+1) -> 2 | J7: RG | K7: 2 | L7: =CONCATENATE(F7,"-",G7,"-",H7,"-",TEXT(I7,"0#"),"-",J7,"-",TEXT(K7,"0#")) -> ITT-T-AD-02-RG-02 | M7: =L7&"-"&E7 -> ITT-T-AD-02-RG-02-REGISTRO DE SOLICITANTES | N7: 1 | O7: 46125 | P7: https://docs.google.com/document/d/1GYCl13zgVmGqqhLdodduQanW-j2zkhO3BtMTRKwAa_o/edit?usp=drive_link | Q7: https://drive.google.com/file/d/1IC_QG_KMnzznuvYhG3mfPNKp2Uqtbk68/view?usp=drive_link
E8: ACTA DE RESULTADOS DE EXAMEN DE OPOSICIÓN | F8: ='Configuración'!$A$2 -> ITT | G8: T | H8: AD | I8: =IF(C8="",I7,I7+1) -> 2 | J8: RG | K8: 3 | L8: =CONCATENATE(F8,"-",G8,"-",H8,"-",TEXT(I8,"0#"),"-",J8,"-",TEXT(K8,"0#")) -> ITT-T-AD-02-RG-03 | M8: =L8&"-"&E8 -> ITT-T-AD-02-RG-03-ACTA DE RESULTADOS DE EXAMEN DE OPOSICIÓN | N8: 0 | O8: 46125 | P8: https://docs.google.com/document/d/1JmLIrV-2XpyUQwJZvqLVbtaWyJkoXipDAXyTsVsI_kA/edit?usp=sharing | Q8: https://drive.google.com/file/d/116nO2rU0xCPX5cOfj420Q_O8_RYyUQv-/view?usp=drive_link
E9: DICTAMEN | F9: ='Configuración'!$A$2 -> ITT | G9: T | H9: AD | I9: =IF(C9="",I8,I8+1) -> 2 | J9: RG | K9: 4 | L9: =CONCATENATE(F9,"-",G9,"-",H9,"-",TEXT(I9,"0#"),"-",J9,"-",TEXT(K9,"0#")) -> ITT-T-AD-02-RG-04 | M9: =L9&"-"&E9 -> ITT-T-AD-02-RG-04-DICTAMEN | N9: 0 | O9: 46125 | P9: https://docs.google.com/document/d/17YQ2PP1Hzn1QimkyLTKR9n8IQgrO9YP9z8Bkrv_EXLg/edit?usp=drive_link | Q9: https://drive.google.com/file/d/1IGYkRbJw1-JtqZy7CctMh-Gg7Fl9BlXM/view?usp=drive_link
A10: Proceso de Administración de Recursos | B10: Lic. Daniel Alejandro García Banda | C10: CAPACITACIÓN DE PERSONAL DOCENTE | D10: Dra. Nydia Teresa Luna Vázquez | E10: CAPACITACIÓN DE PERSONAL DOCENTE | F10: ='Configuración'!$A$2 -> ITT | G10: T | H10: AD | I10: =IF(C10="",I9,I9+1) -> 3 | J10: PR | K10: 1 | L10: =CONCATENATE(F10,"-",G10,"-",H10,"-",TEXT(I10,"0#"),"-",J10,"-",TEXT(K10,"0#")) -> ITT-T-AD-03-PR-01 | M10: =L10&"-"&E10 -> ITT-T-AD-03-PR-01-CAPACITACIÓN DE PERSONAL DOCENTE | N10: 1 | O10: 46097 | P10: https://docs.google.com/document/d/1FSeXx0p4V4uYNzUrh5akBBPb8ekTHt6L9xfsvgX-vO8/edit?usp=drive_link | Q10: https://drive.google.com/file/d/1HNCzQj9Cgh4Q_mLjwCIi3KtYCT9AJP_c/view?usp=drive_link
E11: MATRIZ DE ANÁLISIS DE RIESGO | F11: ='Configuración'!$A$2 -> ITT | G11: T | H11: AD | I11: =IF(C11="",I10,I10+1) -> 3 | J11: AN | K11: 1 | L11: =CONCATENATE(F11,"-",G11,"-",H11,"-",TEXT(I11,"0#"),"-",J11,"-",TEXT(K11,"0#")) -> ITT-T-AD-03-AN-01 | M11: =L11&"-"&E11 -> ITT-T-AD-03-AN-01-MATRIZ DE ANÁLISIS DE RIESGO | N11: 0 | O11: 46096 | P11: https://docs.google.com/spreadsheets/d/1I028he5QvrwvJIvnIREGsOxDfDGkg5b3/edit?usp=drive_link&ouid=112467577828699602815&rtpof=true&sd=true | Q11: https://docs.google.com/spreadsheets/d/1I028he5QvrwvJIvnIREGsOxDfDGkg5b3/edit?usp=drive_link&ouid=112467577828699602815&rtpof=true&sd=true
E12: DIAGNÓSTICO Y CONCENTRADO DE NECESIDADES DE FORMACIÓN Y ACTUALIZACIÓN DOCENTE Y PROFESIONAL | F12: ='Configuración'!$A$2 -> ITT | G12: T | H12: AD | I12: =IF(C12="",I11,I11+1) -> 3 | J12: RG | K12: 1 | L12: =CONCATENATE(F12,"-",G12,"-",H12,"-",TEXT(I12,"0#"),"-",J12,"-",TEXT(K12,"0#")) -> ITT-T-AD-03-RG-01 | M12: =L12&"-"&E12 -> ITT-T-AD-03-RG-01-DIAGNÓSTICO Y CONCENTRADO DE NECESIDADES DE FORMACIÓN Y ACTUALIZACIÓN DOCENTE Y PROFESIONAL | N12: 1 | O12: 46125 | P12: https://docs.google.com/document/d/1OW1ZrdXWzh3rs1xA1qLBCzHB23kVA-Xl_DPE6N8T0LM/edit?usp=sharing | Q12: https://drive.google.com/file/d/1xLP7WaQV4Q3iGjgTqJk2p8SwS3MK33qb/view?usp=drive_link
E13: PROGRAMA INSTITUCIONAL DE FORMACIÓN Y ACTUALIZACIÓN DOCENTE Y PROFESIONAL | F13: ='Configuración'!$A$2 -> ITT | G13: T | H13: AD | I13: =IF(C13="",I12,I12+1) -> 3 | J13: RG | K13: 2 | L13: =CONCATENATE(F13,"-",G13,"-",H13,"-",TEXT(I13,"0#"),"-",J13,"-",TEXT(K13,"0#")) -> ITT-T-AD-03-RG-02 | M13: =L13&"-"&E13 -> ITT-T-AD-03-RG-02-PROGRAMA INSTITUCIONAL DE FORMACIÓN Y ACTUALIZACIÓN DOCENTE Y PROFESIONAL | N13: 1 | O13: 46125 | P13: https://docs.google.com/document/d/1DoJ4tgvkvgPAn6dSd0islC29AJAyXKnNbH0fgQMQXzA/edit?usp=sharing | Q13: https://drive.google.com/file/d/1JC8ur_T48QM-rFZyJAN4vlO36nP5crEj/view?usp=drive_link
E14: LISTA DE ASISTENCIA | F14: ='Configuración'!$A$2 -> ITT | G14: T | H14: AD | I14: =IF(C14="",I13,I13+1) -> 3 | J14: RG | K14: 3 | L14: =CONCATENATE(F14,"-",G14,"-",H14,"-",TEXT(I14,"0#"),"-",J14,"-",TEXT(K14,"0#")) -> ITT-T-AD-03-RG-03 | M14: =L14&"-"&E14 -> ITT-T-AD-03-RG-03-LISTA DE ASISTENCIA | N14: 1 | O14: 46125 | P14: https://docs.google.com/document/d/1wXKpCzXUskL-gaDDI3Y_LnG6uEd59PB8ew7kj5123t0/edit?usp=sharing | Q14: https://drive.google.com/file/d/1D6lHbvE4hv96HrTi19bWjxbE7_f31z8m/view?usp=drive_link
E15: CÉDULA DE INSCRIPCIÓN | F15: ='Configuración'!$A$2 -> ITT | G15: T | H15: AD | I15: =IF(C15="",I14,I14+1) -> 3 | J15: RG | K15: 4 | L15: =CONCATENATE(F15,"-",G15,"-",H15,"-",TEXT(I15,"0#"),"-",J15,"-",TEXT(K15,"0#")) -> ITT-T-AD-03-RG-04 | M15: =L15&"-"&E15 -> ITT-T-AD-03-RG-04-CÉDULA DE INSCRIPCIÓN | N15: 1 | O15: 46125 | P15: https://docs.google.com/document/d/1I7eCJYIFHThHjBYK2AcpBjR3YkvdWqABbiNfpSKwGho/edit?usp=sharing | Q15: https://drive.google.com/file/d/10Ryfar05TytNE8GdgmHF0fFgs_hZmjPJ/view?usp=drive_link
E16: LISTA DE ACREDITACIÓN | F16: ='Configuración'!$A$2 -> ITT | G16: T | H16: AD | I16: =IF(C16="",I15,I15+1) -> 3 | J16: RG | K16: 5 | L16: =CONCATENATE(F16,"-",G16,"-",H16,"-",TEXT(I16,"0#"),"-",J16,"-",TEXT(K16,"0#")) -> ITT-T-AD-03-RG-05 | M16: =L16&"-"&E16 -> ITT-T-AD-03-RG-05-LISTA DE ACREDITACIÓN | N16: 1 | O16: 46125 | P16: https://docs.google.com/document/d/1zQGvkx4QZ0wvkPHFOSDaEBPDTBwD0SuoKrUR9TyFPTw/edit?usp=sharing | Q16: https://drive.google.com/file/d/1ZFk0b9TnruPhI9ZIXWmdOZ9IbQuH9vaJ/view?usp=drive_link
E17: ENCUESTA DE SATISFACCIÓN PARA PARTICIPANTES INSCRITOS | F17: ='Configuración'!$A$2 -> ITT | G17: T | H17: AD | I17: =IF(C17="",I16,I16+1) -> 3 | J17: RG | K17: 6 | L17: =CONCATENATE(F17,"-",G17,"-",H17,"-",TEXT(I17,"0#"),"-",J17,"-",TEXT(K17,"0#")) -> ITT-T-AD-03-RG-06 | M17: =L17&"-"&E17 -> ITT-T-AD-03-RG-06-ENCUESTA DE SATISFACCIÓN PARA PARTICIPANTES INSCRITOS | N17: 1 | O17: 46125 | P17: https://docs.google.com/document/d/1M0Y2B8S01-XQC6M_M3V8cQQxioyf_tw3tw4yjLG-Zec/edit?usp=sharing | Q17: https://drive.google.com/file/d/1iCiBu_YoBnyXwxViaZVJLox6pTaiBrD5/view?usp=drive_link
E18: ENCUESTA DE EFICACIA CAPACITACIÓN DOCENTE AL JEFE ACADÉMICO | F18: ='Configuración'!$A$2 -> ITT | G18: T | H18: AD | I18: =IF(C18="",I17,I17+1) -> 3 | J18: RG | K18: 7 | L18: =CONCATENATE(F18,"-",G18,"-",H18,"-",TEXT(I18,"0#"),"-",J18,"-",TEXT(K18,"0#")) -> ITT-T-AD-03-RG-07 | M18: =L18&"-"&E18 -> ITT-T-AD-03-RG-07-ENCUESTA DE EFICACIA CAPACITACIÓN DOCENTE AL JEFE ACADÉMICO | N18: 0 | O18: 46125 | P18: https://docs.google.com/document/d/1socOlLWDuVkUaq4dHOlHrswBc4WkHHPWYZc7SGlLFKM/edit?usp=sharing | Q18: https://drive.google.com/file/d/140c2rSRQL4sm3bEOxoqtEzbf1OwOxAJ0/view?usp=drive_link
E19: ENCUESTA DE EFICACIA CAPACITACIÓN DOCENTE AL PARTICIPANTE | F19: ='Configuración'!$A$2 -> ITT | G19: T | H19: AD | I19: =IF(C19="",I18,I18+1) -> 3 | J19: RG | K19: 8 | L19: =CONCATENATE(F19,"-",G19,"-",H19,"-",TEXT(I19,"0#"),"-",J19,"-",TEXT(K19,"0#")) -> ITT-T-AD-03-RG-08 | M19: =L19&"-"&E19 -> ITT-T-AD-03-RG-08-ENCUESTA DE EFICACIA CAPACITACIÓN DOCENTE AL PARTICIPANTE | N19: 0 | O19: 46125 | P19: https://docs.google.com/document/d/1iLbSXRl19pbilmjfdwNcGmjgshZkDd35jeuHbmNDlgo/edit?usp=sharing | Q19: https://drive.google.com/file/d/1p3olay7cGEeauxMrA9pSUrY6u9wNHEbl/view?usp=drive_link
A20: Proceso de Administración de Recursos | B20: Lic. Daniel Alejandro García Banda | C20: MANTENIMIENTO DE INFRAESTRUCTURA | D20: Dr. Salvador Salas Carlock | E20: MANTENIMIENTO DE INFRAESTRUCTURA | F20: ='Configuración'!$A$2 -> ITT | G20: T | H20: AD | I20: =IF(C20="",I19,I19+1) -> 4 | J20: PR | K20: 1 | L20: =CONCATENATE(F20,"-",G20,"-",H20,"-",TEXT(I20,"0#"),"-",J20,"-",TEXT(K20,"0#")) -> ITT-T-AD-04-PR-01 | M20: =L20&"-"&E20 -> ITT-T-AD-04-PR-01-MANTENIMIENTO DE INFRAESTRUCTURA | N20: 1 | O20: 46093 | P20: https://docs.google.com/document/d/1omMFdvjEqXiJtGeWTCx1_UlbQMJ9Ph16IQ3CWmuYRuw/edit?usp=drive_link | Q20: https://drive.google.com/file/d/1akhL3j8yXi5KFUq2OKq8VX6GAVcp6tzO/view?usp=drive_link
E21: MATRIZ DE ANÁLISIS DE RIESGO | F21: ='Configuración'!$A$2 -> ITT | G21: T | H21: AD | I21: =IF(C21="",I20,I20+1) -> 4 | J21: AN | K21: 1 | L21: =CONCATENATE(F21,"-",G21,"-",H21,"-",TEXT(I21,"0#"),"-",J21,"-",TEXT(K21,"0#")) -> ITT-T-AD-04-AN-01 | M21: =L21&"-"&E21 -> ITT-T-AD-04-AN-01-MATRIZ DE ANÁLISIS DE RIESGO | N21: 0 | O21: 46094 | P21: https://docs.google.com/spreadsheets/d/1VFNyeIp9GRX8Bxk5UyWDSjy8P3O2DIqY/edit?usp=drive_link&ouid=112467577828699602815&rtpof=true&sd=true | Q21: https://docs.google.com/spreadsheets/d/1VFNyeIp9GRX8Bxk5UyWDSjy8P3O2DIqY/edit?usp=drive_link&ouid=112467577828699602815&rtpof=true&sd=true
E22: LISTA DE VERIFICACIÓN | F22: ='Configuración'!$A$2 -> ITT | G22: T | H22: AD | I22: =IF(C22="",I21,I21+1) -> 4 | J22: RG | K22: 1 | L22: =CONCATENATE(F22,"-",G22,"-",H22,"-",TEXT(I22,"0#"),"-",J22,"-",TEXT(K22,"0#")) -> ITT-T-AD-04-RG-01 | M22: =L22&"-"&E22 -> ITT-T-AD-04-RG-01-LISTA DE VERIFICACIÓN | N22: 2 | O22: 46125 | P22: https://docs.google.com/document/d/1CAiCTpjFRIvfslfaMV0nK1DJL_rToPkOxUrmjJR-noc/edit?usp=sharing | Q22: https://drive.google.com/file/d/1h_vhmlIf76OyKMAuatX_536WQ4GB3Dvt/view?usp=drive_link
E23: SOLICITUD DE MANTENIMIENTO CORRECTIVO | F23: ='Configuración'!$A$2 -> ITT | G23: T | H23: AD | I23: =IF(C23="",I22,I22+1) -> 4 | J23: RG | K23: 2 | L23: =CONCATENATE(F23,"-",G23,"-",H23,"-",TEXT(I23,"0#"),"-",J23,"-",TEXT(K23,"0#")) -> ITT-T-AD-04-RG-02 | M23: =L23&"-"&E23 -> ITT-T-AD-04-RG-02-SOLICITUD DE MANTENIMIENTO CORRECTIVO | N23: 2 | O23: 46125 | P23: https://docs.google.com/document/d/14LF5Lzz032c3TtlVcjb-xWtPxtzEw5C4u7VdhC4lHqc/edit?usp=sharing | Q23: https://drive.google.com/file/d/1HQjOaZpP8ZwNo94AdAXRM0g0qDoeKj7F/view?usp=drive_link
E24: PROGRAMA DE MANTENIMIENTO PREVENTIVO | F24: ='Configuración'!$A$2 -> ITT | G24: T | H24: AD | I24: =IF(C24="",I23,I23+1) -> 4 | J24: RG | K24: 3 | L24: =CONCATENATE(F24,"-",G24,"-",H24,"-",TEXT(I24,"0#"),"-",J24,"-",TEXT(K24,"0#")) -> ITT-T-AD-04-RG-03 | M24: =L24&"-"&E24 -> ITT-T-AD-04-RG-03-PROGRAMA DE MANTENIMIENTO PREVENTIVO | N24: 1 | O24: 46125 | P24: https://docs.google.com/document/d/1au-S3pjliBxGnAsaZBQvSMGQi1Fi8FM269QEJ42-BDQ/edit?usp=sharing | Q24: https://drive.google.com/file/d/1vKlkzIpoDViYEl-rqZEMJj29nNkKXQTC/view?usp=drive_link
E25: ORDEN DE TRABAJO DE MANTENIMIENTO | F25: ='Configuración'!$A$2 -> ITT | G25: T | H25: AD | I25: =IF(C25="",I24,I24+1) -> 4 | J25: RG | K25: 4 | L25: =CONCATENATE(F25,"-",G25,"-",H25,"-",TEXT(I25,"0#"),"-",J25,"-",TEXT(K25,"0#")) -> ITT-T-AD-04-RG-04 | M25: =L25&"-"&E25 -> ITT-T-AD-04-RG-04-ORDEN DE TRABAJO DE MANTENIMIENTO | N25: 2 | O25: 46125 | P25: https://docs.google.com/document/d/1hLU0_ztEwX1HDRaQOFNNkUEP-hJ0wXAu_0BpAcx45c8/edit?usp=sharing | Q25: https://drive.google.com/file/d/1cf-od0MimebGYWeqcOcuyEA-4FSFs8XP/view?usp=drive_link
A26: Proceso de Administración de Recursos | B26: Lic. Daniel Alejandro García Banda | C26: REALIZACIÓN DE COMPRAS DIRECTAS | D26: Ing. José Antonio García Madrigal | E26: REALIZACIÓN DE COMPRAS DIRECTAS | F26: ='Configuración'!$A$2 -> ITT | G26: T | H26: AD | I26: =IF(C26="",I25,I25+1) -> 5 | J26: IT | K26: 1 | L26: =CONCATENATE(F26,"-",G26,"-",H26,"-",TEXT(I26,"0#"),"-",J26,"-",TEXT(K26,"0#")) -> ITT-T-AD-05-IT-01 | M26: =L26&"-"&E26 -> ITT-T-AD-05-IT-01-REALIZACIÓN DE COMPRAS DIRECTAS | N26: 0 | O26: 42606 | P26: https://drive.google.com/file/d/1f4OoXoadv0wAVESfGWQbEPVquT7YsV0e/view?usp=drive_link | Q26: https://drive.google.com/file/d/1f4OoXoadv0wAVESfGWQbEPVquT7YsV0e/view?usp=drive_link
E27: FORMATO PARA SELECCIÓN DE PROVEEDORES | F27: ='Configuración'!$A$2 -> ITT | G27: T | H27: AD | I27: =IF(C27="",I26,I26+1) -> 5 | J27: RG | K27: 1 | L27: =CONCATENATE(F27,"-",G27,"-",H27,"-",TEXT(I27,"0#"),"-",J27,"-",TEXT(K27,"0#")) -> ITT-T-AD-05-RG-01 | M27: =L27&"-"&E27 -> ITT-T-AD-05-RG-01-FORMATO PARA SELECCIÓN DE PROVEEDORES | N27: 1 | O27: 13-abrili-2026 | P27: https://docs.google.com/document/d/1dgqqernIDU1YTrUfw84WVbUxlx_u7t557RWlLqAiRo0/edit?usp=sharing | Q27: https://drive.google.com/file/d/1umRO4L0nQucVd42K0YE5mlRhvprpDrLg/view?usp=drive_link
E28: FORMATO PARA EVALUACIÓN DE PROVEEDORES | F28: ='Configuración'!$A$2 -> ITT | G28: T | H28: AD | I28: =IF(C28="",I27,I27+1) -> 5 | J28: RG | K28: 2 | L28: =CONCATENATE(F28,"-",G28,"-",H28,"-",TEXT(I28,"0#"),"-",J28,"-",TEXT(K28,"0#")) -> ITT-T-AD-05-RG-02 | M28: =L28&"-"&E28 -> ITT-T-AD-05-RG-02-FORMATO PARA EVALUACIÓN DE PROVEEDORES | N28: 1 | O28: 46125 | P28: https://docs.google.com/document/d/1TroHoFaEyHBUp2qZhTrFGnSHnQ2elOfknnSqnybNqzA/edit?usp=sharing | Q28: https://drive.google.com/file/d/1_aGh3SAjLo8D4NnykdbdIr5_qfoDodE6/view?usp=drive_link
E29: FORMATO PARA REQUISICIÓN DE BIENES Y SERVICIOS | F29: ='Configuración'!$A$2 -> ITT | G29: T | H29: AD | I29: =IF(C29="",I28,I28+1) -> 5 | J29: RG | K29: 3 | L29: =CONCATENATE(F29,"-",G29,"-",H29,"-",TEXT(I29,"0#"),"-",J29,"-",TEXT(K29,"0#")) -> ITT-T-AD-05-RG-03 | M29: =L29&"-"&E29 -> ITT-T-AD-05-RG-03-FORMATO PARA REQUISICIÓN DE BIENES Y SERVICIOS | N29: 0 | O29: 46125 | P29: https://docs.google.com/document/d/1zdrGZ8eNXHQxeeo32Ayds124pRrNOrQR9wvz4w748mk/edit?usp=sharing | Q29: https://drive.google.com/file/d/1f-zuBfkR92ladlPJMhl42OdclPFHy7dK/view?usp=drive_link
E30: FORMATO PARA CATALOGO PROVEEDORES APROBADOS | F30: ='Configuración'!$A$2 -> ITT | G30: T | H30: AD | I30: =IF(C30="",I29,I29+1) -> 5 | J30: RG | K30: 4 | L30: =CONCATENATE(F30,"-",G30,"-",H30,"-",TEXT(I30,"0#"),"-",J30,"-",TEXT(K30,"0#")) -> ITT-T-AD-05-RG-04 | M30: =L30&"-"&E30 -> ITT-T-AD-05-RG-04-FORMATO PARA CATALOGO PROVEEDORES APROBADOS | N30: 1 | O30: 46125 | P30: https://docs.google.com/document/d/1rf0tVEWpTZDI_MoMdTPbbiQt3ZlI89jThN5dR0nR9Gk/edit?usp=sharing | Q30: https://drive.google.com/file/d/1Nb4KVyslRkVTjRxndQyiva26EVjqMGH_/view?usp=drive_link
A31: Proceso de Administración de Recursos | B31: Lic. Daniel Alejandro García Banda | C31: PROYECTO INDIVIDUAL | D31: Departamentos Académicos | E31: DESARROLLO DE PROYECTO INDIVIDUAL | F31: ='Configuración'!$A$2 -> ITT | G31: T | H31: AD | I31: =IF(C31="",I30,I30+1) -> 6 | J31: IT | K31: 1 | L31: =CONCATENATE(F31,"-",G31,"-",H31,"-",TEXT(I31,"0#"),"-",J31,"-",TEXT(K31,"0#")) -> ITT-T-AD-06-IT-01 | M31: =L31&"-"&E31 -> ITT-T-AD-06-IT-01-DESARROLLO DE PROYECTO INDIVIDUAL | N31: 0 | O31: 46125 | P31: https://docs.google.com/document/d/1puSvuDWh-Y6wUp1x9tpKY8lEJVM0cqkg7M5BTbfyziQ/edit?usp=sharing | Q31: https://drive.google.com/file/d/1CwfyRmZcPCN8RlnxGoNHUZHUl6alpGh5/view?usp=drive_link
E32: REPORTE DEL PROYECTO INDIVIDUAL DEL DOCENTE | F32: ='Configuración'!$A$2 -> ITT | G32: T | H32: AD | I32: =IF(C32="",I31,I31+1) -> 6 | J32: RG | K32: 1 | L32: =CONCATENATE(F32,"-",G32,"-",H32,"-",TEXT(I32,"0#"),"-",J32,"-",TEXT(K32,"0#")) -> ITT-T-AD-06-RG-01 | M32: =L32&"-"&E32 -> ITT-T-AD-06-RG-01-REPORTE DEL PROYECTO INDIVIDUAL DEL DOCENTE | N32: 0 | O32: 46125 | P32: https://docs.google.com/document/d/1_nV8z6RJ2RuEAKpiLuRvcI7O0ouwYVYUSwnYSo3uS5k/edit?usp=sharing | Q32: https://drive.google.com/file/d/14VNR7gS941ex6Qv_blo2iqi13MLQWehC/view?usp=drive_link
A33: Proceso Académico | B33: Ing. Olivia Guadalupe Treviño Montemayor | C33: INSCRIPCIÓN DEL ESTUDIANTE | D33: M.C. Jesús Francisco Limón Tirado | E33: INSCRIPCIÓN DEL ESTUDIANTE | F33: ='Configuración'!$A$2 -> ITT | G33: L | H33: AC | I33: =IF(C33="",I32,I32+1) -> 7 | J33: PR | K33: 1 | L33: =CONCATENATE(F33,"-",G33,"-",H33,"-",TEXT(I33,"0#"),"-",J33,"-",TEXT(K33,"0#")) -> ITT-L-AC-07-PR-01 | M33: =L33&"-"&E33 -> ITT-L-AC-07-PR-01-INSCRIPCIÓN DEL ESTUDIANTE | N33: 8 | O33: 46098 | P33: https://docs.google.com/document/d/18nSrtTiG63ecPOLk0ViymQ3zk2x6e425YraPGWiyYpI/edit?usp=drive_link | Q33: https://drive.google.com/file/d/1l7VR9wzGEZwUdslzEDMJnc6Wdbc2TWcd/view?usp=drive_link
E34: MATRIZ DE ANÁLISIS DE RIESGO | F34: ='Configuración'!$A$2 -> ITT | G34: L | H34: AC | I34: =IF(C34="",I33,I33+1) -> 7 | J34: AN | K34: 1 | L34: =CONCATENATE(F34,"-",G34,"-",H34,"-",TEXT(I34,"0#"),"-",J34,"-",TEXT(K34,"0#")) -> ITT-L-AC-07-AN-01 | M34: =L34&"-"&E34 -> ITT-L-AC-07-AN-01-MATRIZ DE ANÁLISIS DE RIESGO | N34: 0 | O34: 46098 | P34: https://docs.google.com/spreadsheets/d/10vJYrsmNzITkypqiNGck-Uw2_kmGcI9u/edit?usp=drive_link&ouid=112467577828699602815&rtpof=true&sd=true | Q34: https://docs.google.com/spreadsheets/d/10vJYrsmNzITkypqiNGck-Uw2_kmGcI9u/edit?usp=drive_link&ouid=112467577828699602815&rtpof=true&sd=true
E35: CARTA DE ACEPTACIÓN | F35: ='Configuración'!$A$2 -> ITT | G35: L | H35: AC | I35: =IF(C35="",I34,I34+1) -> 7 | J35: RG | K35: 1 | L35: =CONCATENATE(F35,"-",G35,"-",H35,"-",TEXT(I35,"0#"),"-",J35,"-",TEXT(K35,"0#")) -> ITT-L-AC-07-RG-01 | M35: =L35&"-"&E35 -> ITT-L-AC-07-RG-01-CARTA DE ACEPTACIÓN | N35: 0 | O35: 46097 | P35: https://docs.google.com/document/d/1X-ogTZiJgzPXtr5YAtxNeM3L6nyJyG15db-Ramm0xZE/edit?usp=sharing | Q35: https://drive.google.com/file/d/1_wrAtBqirX0xZ42YnstZTgIlZjomGunA/view?usp=drive_link
E36: SOLICITUD DE INSCRIPCIÓN | F36: ='Configuración'!$A$2 -> ITT | G36: L | H36: AC | I36: =IF(C36="",I35,I35+1) -> 7 | J36: RG | K36: 2 | L36: =CONCATENATE(F36,"-",G36,"-",H36,"-",TEXT(I36,"0#"),"-",J36,"-",TEXT(K36,"0#")) -> ITT-L-AC-07-RG-02 | M36: =L36&"-"&E36 -> ITT-L-AC-07-RG-02-SOLICITUD DE INSCRIPCIÓN | N36: 0 | O36: 46125 | P36: https://docs.google.com/document/d/1yRErR159eYUhp7XPkDGhiBZ369Rrdj2NA6XitB4iAD0/edit?usp=drive_link | Q36: https://drive.google.com/file/d/1SIsc9PPu58BYbdY5MnSzhaIPlgTJBmTj/view?usp=drive_link
E37: CONTRATO CON EL ALUMNO | F37: ='Configuración'!$A$2 -> ITT | G37: L | H37: AC | I37: =IF(C37="",I36,I36+1) -> 7 | J37: RG | K37: 3 | L37: =CONCATENATE(F37,"-",G37,"-",H37,"-",TEXT(I37,"0#"),"-",J37,"-",TEXT(K37,"0#")) -> ITT-L-AC-07-RG-03 | M37: =L37&"-"&E37 -> ITT-L-AC-07-RG-03-CONTRATO CON EL ALUMNO | N37: 0 | O37: 46125 | P37: https://docs.google.com/document/d/1DAKnhYRV99Ag1qI-w-M_Nem1o2FCrTFtT_L6QGM-zgw/edit?usp=sharing | Q37: https://drive.google.com/file/d/16YGF8Bo0AZEkRGwfUQEUFGg8KAYHi7Ct/view?usp=drive_link
E38: LIBRO DE REGISTRO DE NÚMEROS DE CONTROL | F38: ='Configuración'!$A$2 -> ITT | G38: L | H38: AC | I38: =IF(C38="",I37,I37+1) -> 7 | J38: RG | K38: 4 | L38: =CONCATENATE(F38,"-",G38,"-",H38,"-",TEXT(I38,"0#"),"-",J38,"-",TEXT(K38,"0#")) -> ITT-L-AC-07-RG-04 | M38: =L38&"-"&E38 -> ITT-L-AC-07-RG-04-LIBRO DE REGISTRO DE NÚMEROS DE CONTROL | N38: 0 | O38: 46125 | P38: https://docs.google.com/document/d/1uzcFOZI82UWsnR2qBz_JBr80ea_CmsAMTEDgIiGD4Ag/edit?usp=sharing | Q38: https://drive.google.com/file/d/1_kLrOORm04uh3Rv42QCyCIpJhqcaY2Im/view?usp=drive_link
A39: Proceso Académico | B39: Ing. Olivia Guadalupe Treviño Montemayor | C39: INGRESO DE ESTUDIANTES DE POSGRADO | D39: M.C. Luz del Carmen Romero Islas | E39: INGRESO DE ESTUDIANTES DE POSGRADO | F39: ='Configuración'!$A$2 -> ITT | G39: P | H39: AC | I39: =IF(C39="",I38,I38+1) -> 8 | J39: PR | K39: 1 | L39: =CONCATENATE(F39,"-",G39,"-",H39,"-",TEXT(I39,"0#"),"-",J39,"-",TEXT(K39,"0#")) -> ITT-P-AC-08-PR-01 | M39: =L39&"-"&E39 -> ITT-P-AC-08-PR-01-INGRESO DE ESTUDIANTES DE POSGRADO | N39: 0 | O39: 46092 | P39: https://docs.google.com/document/d/1aQ2fdZGwewllQJ51kRbeHSvHQCQyMo6iLxSHfmjRAEA/edit?usp=drive_link | Q39: https://drive.google.com/file/d/1bDW5tEdHFAG6hdfAchH6tXjrDnVZGwxv/view?usp=drive_link
E40: MATRIZ DE ANÁLISIS DE RIESGO | F40: ='Configuración'!$A$2 -> ITT | G40: P | H40: AC | I40: =IF(C40="",I39,I39+1) -> 8 | J40: AN | K40: 1 | L40: =CONCATENATE(F40,"-",G40,"-",H40,"-",TEXT(I40,"0#"),"-",J40,"-",TEXT(K40,"0#")) -> ITT-P-AC-08-AN-01 | M40: =L40&"-"&E40 -> ITT-P-AC-08-AN-01-MATRIZ DE ANÁLISIS DE RIESGO | N40: 0 | O40: 6620468 | P40: https://docs.google.com/spreadsheets/d/15D9l-xk6uv5JnT-UdIJnl83Pj8eV_xLQ/edit?usp=drive_link&ouid=112467577828699602815&rtpof=true&sd=true | Q40: https://docs.google.com/spreadsheets/d/15D9l-xk6uv5JnT-UdIJnl83Pj8eV_xLQ/edit?usp=drive_link&ouid=112467577828699602815&rtpof=true&sd=true
...

Sheet Matriz de Responsabilidades ANE
A1: Reg. | B1: PROCESO | C1: CÓDIGO DE PROCEDIMIENTO | D1: NOMBRE DEL PROCEDIMIENTO | E1: Responsable | F1: Dirección TecNM | G1: Dirección | H1: Sub. Académica | I1: Sub. Planeación | J1: Sub. Servicios Administrativos | K1: Deptos. Académicos | L1: División Estudios Profesionales | M1: División Estudios de Posgrado | N1: Desarrollo Académico | O1: Centro de Cómputo | P1: Mantenimiento de equipo | Q1: Recursos Financieros | R1: Recursos Humanos | S1: Recursos Materiales | T1: Actividades Extraescolares | U1: Centro de Información | V1: Comunicación y Difusión | W1: Gestión Tecnológica | X1: Cooridnación de Lenguas Extranjeras | Y1: Planeación, Prog. Y Presupuestación | Z1: Servicios Escolares | AA1: RD | AB1: Académicos
A2: 1 | B2: Proceso de Planeación | C2: ITT-T-PL-01-PR-01 | D2: ITT-T-PL-01-PR-01-PROGRAMACIÓN Y PRESUPUESTACIÓN DE ACTIVIDADES | E2: Arq. Rommel Rodríguez Garay | F2: P | G2: P | H2: P | I2: P | J2: P | K2: P | L2: P | M2: P | N2: P | O2: P | P2: P | Q2: P | R2: P | S2: P | T2: P | U2: P | V2: P | W2: P | X2: P | Y2: R | Z2: P | AA2: P
A3: 2 | B3: Proceso de Administración de Recursos | C3: ITT-T-AD-02-PR-01 | D3: ITT-T-AD-02-PR-01-RECLUTAMIENTO, SELECCIÓN Y CONTRATACIÓN DE PERSONAL | E3: Ing. Adriana Yarim González Ramos | G3: P | R3: R | AB3: P
A4: 3 | B4: Proceso de Administración de Recursos | C4: ITT-T-AD-03-PR-01 | D4: ITT-T-AD-03-PR-01-CAPACITACIÓN DE PERSONAL DOCENTE | E4: Dra. Nydia Teresa Luna Vázquez | K4: P | N4: R | V4: P | AB4: P
A5: 4 | B5: Proceso de Administración de Recursos | C5: ITT-T-AD-04-PR-01 | D5: ITT-T-AD-04-PR-01-MANTENIMIENTO DE INFRAESTRUCTURA | E5: Dr. Salvador Salas Carlock | J5: P | K5: P | L5: P | M5: P | N5: P | O5: P | P5: R | Q5: P | R5: P | S5: P | T5: P | U5: P | V5: P | W5: P | Y5: P | Z5: P
A6: 5 | B6: Proceso de Administración de Recursos | C6: ITT-T-AD-05-IT-01 | D6: ITT-T-AD-05-IT-01-REALIZACIÓN DE COMPRAS DIRECTAS | E6: Ing. José Antonio García Madrigal | G6: P | H6: P | I6: P | J6: P | Q6: P | S6: R
A7: 6 | B7: Proceso de Administración de Recursos | C7: ITT-T-AD-06-IT-01 | D7: ITT-T-AD-06-IT-01-DESARROLLO DE PROYECTO INDIVIDUAL | E7: Departamentos Académicos | K7: R | R7: P | AB7: P
A8: 7 | B8: Proceso Académico | C8: ITT-L-AC-07-PR-01 | D8: ITT-L-AC-07-PR-01-INSCRIPCIÓN DEL ESTUDIANTE | E8: M.C. Jesús Francisco Limón Tirado | L8: R | N8: P | Z8: P
A9: 8 | B9: Proceso Académico | C9: ITT-P-AC-08-PR-01 | D9: ITT-P-AC-08-PR-01-INGRESO DE ESTUDIANTES DE POSGRADO | E9: M.C. Luz del Carmen Romero Islas | M9: R | AB9: P
A10: 9 | B10: Proceso Académico | C10: ITT-L-AC-09-PR-01 | D10: ITT-L-AC-09-PR-01-REINSCRIPCIÓN DEL ESTUDIANTE | E10: M.C. Jesús Francisco Limón Tirado | L10: R
A11: 10 | B11: Proceso Académico | C11: ITT-P-AC-10-PR-01 | D11: ITT-P-AC-10-PR-01-SEGUIMIENTO ACADÉMICO A ESTUDIANTES DE MAESTRÍA | E11: M.C. Luz del Carmen Romero Islas | M11: R | AB11: P
A12: 11 | B12: Proceso Académico | C12: ITT-P-AC-11-PR-01 | D12: ITT-P-AC-11-PR-01-SEGUIMIENTO ACADÉMICO A ESTUDIANTES DE DOCTORADO | E12: M.C. Luz del Carmen Romero Islas | M12: R | AB12: P
A13: 12 | B13: Proceso Académico | C13: ITT-L-AC-12-PR-01 | D13: ITT-L-AC-12-PR-01-GESTIÓN DEL CURSO | E13: Departamentos Académicos | K13: R | AB13: P
A14: 13 | B14: Proceso Académico | C14: ITT-L-AC-13-PR-01 | D14: ITT-L-AC-13-PR-01-ACREDITACIÓN DE TUTORÍAS | E14: Dra. Nydia Teresa Luna Vázquez | K14: P | N14: R | AB14: P
A15: 14 | B15: Proceso Académico | C15: ITT-P-AC-14-PR-01 | D15: ITT-P-AC-14-PR-01-ADMINISTRACIÓN Y DESARROLLO DE PROYECTOS | E15: M.C. Luz del Carmen Romero Islas | M15: R | AB15: P
A16: 15 | B16: Proceso Académico | C16: ITT-L-AC-15-PR-01 | D16: ITT-L-AC-15-PR-01-ASESORIA ACADEMICA | E16: Departamentos Académicos | K16: R | AB16: P
A17: 16 | B17: Proceso Académico | C17: ITT-P-AC-16-PR-01 | D17: ITT-P-AC-16-PR-01-PRESENTACIÓN PREDOCTORAL | E17: M.C. Luz del Carmen Romero Islas | M17: R | AB17: P
A18: 17 | B18: Proceso Académico | C18: ITT-P-AC-17-PR-01 | D18: ITT-P-AC-17-PR-01-CAMBIO DE DIRECTOR DE TESIS | E18: M.C. Luz del Carmen Romero Islas | M18: R | AB18: P
A19: 18 | B19: Proceso de Vinculación | C19: ITT-L-VI-18-PR-01 | D19: ITT-L-VI-18-PR-01-SERVICIO SOCIAL | E19: Ing. Moises Garcés Martínez | I19: P | W19: R
A20: 19 | B20: Proceso de Vinculación | C20: ITT-L-VI-19-PR-01 | D20: ITT-L-VI-19-PR-01-SEGUIMIENTO DE EGRESADOS | E20: Ing. Moises Garcés Martínez | K20: P | W20: R
A21: 20 | B21: Proceso Académico/Vinculación | C21: ITT-L-VI-20-PR-01 | D21: ITT-L-VI-20-PR-01-RESIDENCIAS PROFESIONALES | E21: Ing. Moises Garcés Martínez | K21: P | L21: P | W21: R | Z21: P | AB21: P
A22: 21 | B22: Proceso Académico/Vinculación | C22: ITT-P-VI-21-PR-01 | D22: ITT-P-VI-21-PR-01-MOVILIDAD DE POSGRADO | E22: M.C. Luz del Carmen Romero Islas | G22: P | M22: R | AB22: P
A23: 22 | B23: Proceso de Certificación Académica y Titulación | C23: ITT-L-CT-22-PR-01 | D23: ITT-L-CT-22-PR-01-VALIDACIÓN SEGUNDA LENGUA | E23: Lic. Neidy Delgado San Román | X23: R
A24: 23 | B24: Proceso de Certificación Académica y Titulación | C24: ITT-L-CT-23-PR-01 | D24: ITT-L-CT-23-PR-01-GENERAR CERTIFICADO | E24: Mtra. Zoila Raquel Aguirre González | Z24: R
A25: 24 | B25: Proceso de Certificación Académica y Titulación | C25: ITT-L-CT-24-PR-01 | D25: ITT-L-CT-24-PR-01-ACTO DE RECEPCIÓN | E25: M.C. Jesús Francisco Limón Tirado | K25: P | L25: R | Z25: P
A26: 25 | B26: Proceso de Certificación Académica y Titulación | C26: ITT-L-CT-24-IT-01 | D26: ITT-L-CT-24-IT-01-GUIA ACTO PROTOCOLARIO | E26: M.C. Jesús Francisco Limón Tirado | L26: R
A27: 26 | B27: Proceso de Certificación Académica y Titulación | C27: ITT-L-CT-25-PR-01 | D27: ITT-L-CT-25-PR-01-GESTIÓN DE TÍTULO | E27: Mtra. Zoila Raquel Aguirre González | M27: R | Z27: P
A28: 27 | B28: Proceso de Certificación Académica y Titulación | C28: ITT-P-CT-26-PR-01 | D28: ITT-P-CT-26-PR-01-PROGRAMACIÓN ACTO RECEPCIONAL Y OBTENCIÓN DE GRADO | E28: M.C. Luz del Carmen Romero Islas | M28: R | AB28: P
A29: 28 | B29: Proceso de Calidad | C29: ITT-T-CA-27-PR-01 | D29: ITT-T-CA-27-PR-01-ELABORACIÓN DE PROCEDIMIENTOS | E29: Responsable del SGC | G29: P | H29: P | I29: P | J29: P | K29: P | L29: P | M29: P | N29: P | O29: P | P29: P | Q29: P | R29: P | S29: P | T29: P | U29: P | V29: P | W29: P | X29: P | Y29: P | Z29: P | AA29: R
A30: 29 | B30: Proceso de Calidad | C30: ITT-T-CA-28-PR-01 | D30: ITT-T-CA-28-PR-01-ENCUESTA DE SATISFACCIÓN | E30: Responsable del SGC | G30: P | L30: P | M30: P | N30: P | O30: P | Q30: P | T30: P | U30: P | W30: P | X30: P | Z30: P | AA30: R
A31: 30 | B31: Proceso de Calidad | C31: ITT-T-CA-29-PR-01 | D31: ITT-T-CA-29-PR-01-AUDITORÍA INTERNA | E31: Responsable del SGC | G31: P | K31: P | P31: P | AA31: R
A32: 31 | B32: Proceso de Calidad | C32: ITT-T-CA-30-PR-01 | D32: ITT-T-CA-30-PR-01-CONTROL DE SALIDAS NO CONFORMES | E32: Responsable del SGC | G32: P | H32: P | I32: P | J32: P | K32: P | L32: P | M32: P | N32: P | O32: P | P32: P | Q32: P | R32: P | S32: P | T32: P | U32: P | V32: P | W32: P | Y32: P | Z32: P | AA32: R
A33: 32 | B33: Proceso de Calidad | C33: ITT-T-CA-31-PR-01 | D33: ITT-T-CA-31-PR-01-ACCIONES CORRECTIVAS | E33: Responsable del SGC | G33: P | H33: P | I33: P | J33: P | K33: P | L33: P | M33: P | N33: P | O33: P | P33: P | Q33: P | R33: P | S33: P | T33: P | U33: P | V33: P | W33: P | X33: P | Y33: P | Z33: P | AA33: R
A34: 33 | B34: Proceso de Calidad | C34: ITT-T-CA-32-PR-01 | D34: ITT-T-CA-32-PR-01-CONTROL DOCUMENTAL | E34: Ing. Roberto Carlos Villalobos Montiel | O34: P | AA34: R
A35: 34 | B35: Proceso Académico | C35: ITT-T-AC-33-PR-01 | D35: ITT-T-AC-33-PR-01-ACTIVIDADES DEPORTIVAS | E35: M.C.E. Ángel Javier Chacón Pantoja | T35: R
A36: 35 | B36: Proceso Académico | C36: ITT-T-AC-33-PR-02 | D36: ITT-T-AC-33-PR-02-ACTIVIDADES CULTURALES | E36: M.C.E. Ángel Javier Chacón Pantoja | T36: R
A37: 36 | B37: Proceso Académico/Vinculación | C37: ITT-T-VI-34-PR-01 | D37: ITT-T-VI-34-PR-01-VISITA A EMPRESAS | E37: Ing. Moises Garcés Martínez | K37: P | Q37: P | S37: P | W37: R | Z37: P | AB37: P
A38: 37 | B38: Proceso de Calidad | C38: ITT-T-CA-35-PR-01 | D38: ITT-T-CA-35-PR-01-GESTIÓN DE LA MEJORA CONTINUA | E38: Responsable del SGC | G38: P | H38: P | I38: P | J38: P | K38: P | L38: P | M38: P | N38: P | O38: P | P38: P | Q38: P | R38: P | S38: P | T38: P | U38: P | V38: P | W38: P | Y38: P | Z38: P | AA38: R
A39: 38 | B39: PROCESO PLANEACIÓN
A40: 39 | B40: PROCESO PLANEACIÓN
...

Sheet Copia de Codificación
A1: Proceso Estratégico | B1: Subproceso | C1: Nombre de documento | D1: Unidad | E1: Ámbito | F1: P. est. | G1: No. Subpro | H1: Documento | I1: No. Cons | J1: Clave documental | K1: Código-nombre de documento | L1: Link de archivo | M1: TIPO | N1: DOCUMENTOS
A2: Proceso de Planeación | B2: PROGRAMACIÓN Y PRESUPUESTACIÓN DE ACTIVIDADES | C2: PROGRAMACIÓN Y PRESUPUESTACIÓN DE ACTIVIDADES | D2: ='Configuración'!$A$2 -> ITT | E2: T | F2: PL | G2: 1 | H2: PR | I2: 1 | J2: =CONCATENATE(D2,"-",E2,"-",F2,"-",TEXT(G2,"0#"),"-",H2,"-",TEXT(I2,"0#")) -> ITT-T-PL-01-PR-01 | K2: =J2&"-"&C2 -> ITT-T-PL-01-PR-01-PROGRAMACIÓN Y PRESUPUESTACIÓN DE ACTIVIDADES | L2: https://docs.google.com/document/d/1faRvWXdWVKvszMDEdjavg_ST1pwD0yn3GgaU6Pn9PA0/edit?usp=drive_link | M2: PROCEDIMIENTO | N2: PROGRAMACIÓN Y PRESUPUESTACIÓN DE ACTIVIDADES
C3: MATRIZ DE ANÁLISIS DE RIESGO | D3: ='Configuración'!$A$2 -> ITT | E3: T | F3: PL | G3: =IF(B3="",G2,G2+1) -> 1 | H3: AN | I3: 1 | J3: =CONCATENATE(D3,"-",E3,"-",F3,"-",TEXT(G3,"0#"),"-",H3,"-",TEXT(I3,"0#")) -> ITT-T-PL-01-AN-01 | K3: =J3&"-"&C3 -> ITT-T-PL-01-AN-01-MATRIZ DE ANÁLISIS DE RIESGO | L3: https://docs.google.com/spreadsheets/d/1drSiCzHr7MoWX_7Hja_pr60iIcEIKvj3/edit?usp=drive_link&ouid=112467577828699602815&rtpof=true&sd=true | M3: ANEXO | N3: MATRIZ ANÁLISIS DE RIESGO
A4: Proceso de Administración de Recursos | B4: RECLUTAMIENTO, SELECCIÓN Y CONTRATACIÓN DE PERSONAL | C4: RECLUTAMIENTO, SELECCIÓN Y CONTRATACIÓN DE PERSONAL | D4: ='Configuración'!$A$2 -> ITT | E4: T | F4: AD | G4: =IF(B4="",G3,G3+1) -> 2 | H4: PR | I4: 1 | J4: =CONCATENATE(D4,"-",E4,"-",F4,"-",TEXT(G4,"0#"),"-",H4,"-",TEXT(I4,"0#")) -> ITT-T-AD-02-PR-01 | K4: =J4&"-"&C4 -> ITT-T-AD-02-PR-01-RECLUTAMIENTO, SELECCIÓN Y CONTRATACIÓN DE PERSONAL | L4: https://docs.google.com/document/d/1JwedenSXR2QeKxp_r2_5TmgryaU9BXJ9/edit?usp=drive_link&ouid=112467577828699602815&rtpof=true&sd=true | M4: PROCEDIMIENTO | N4: PROCEDIMIENTO PARA EL RECLUTAMIENTO, SELECCIÓN Y CONTRATACIÓN DE PERSONAL
C5: MATRIZ DE ANÁLISIS DE RIESGO | D5: ='Configuración'!$A$2 -> ITT | E5: T | F5: AD | G5: =IF(B5="",G4,G4+1) -> 2 | H5: AN | I5: 1 | J5: =CONCATENATE(D5,"-",E5,"-",F5,"-",TEXT(G5,"0#"),"-",H5,"-",TEXT(I5,"0#")) -> ITT-T-AD-02-AN-01 | K5: =J5&"-"&C5 -> ITT-T-AD-02-AN-01-MATRIZ DE ANÁLISIS DE RIESGO | L5: https://docs.google.com/spreadsheets/d/1mJ6Xb8MWNmJtfVWAVwlcLFlUq2mWtR3P/edit?usp=drive_link&ouid=112467577828699602815&rtpof=true&sd=true | M5: ANEXO | N5: ITT-POE-03 MATRIZ DE ANALISIS DE RIESGOS
C6: CONVOCATORIA | D6: ='Configuración'!$A$2 -> ITT | E6: T | F6: AD | G6: =IF(B6="",G5,G5+1) -> 2 | H6: RG | I6: 1 | J6: =CONCATENATE(D6,"-",E6,"-",F6,"-",TEXT(G6,"0#"),"-",H6,"-",TEXT(I6,"0#")) -> ITT-T-AD-02-RG-01 | K6: =J6&"-"&C6 -> ITT-T-AD-02-RG-01-CONVOCATORIA | L6: https://docs.google.com/document/d/1YhiZ3TfzL6NTr0FBp9huWw1lWFXSwv914zt2_ejHRI8/edit?usp=drive_link | M6: REGISTRO | N6: ITT-POE-03-01 CONVOCATORIA
C7: REGISTRO DE SOLICITANTES | D7: ='Configuración'!$A$2 -> ITT | E7: T | F7: AD | G7: =IF(B7="",G6,G6+1) -> 2 | H7: RG | I7: 2 | J7: =CONCATENATE(D7,"-",E7,"-",F7,"-",TEXT(G7,"0#"),"-",H7,"-",TEXT(I7,"0#")) -> ITT-T-AD-02-RG-02 | K7: =J7&"-"&C7 -> ITT-T-AD-02-RG-02-REGISTRO DE SOLICITANTES | L7: https://docs.google.com/document/d/1-3569lTFROG3ZLMocu2PsFSj45Q7XrbSjDaL20ucdzM/edit?usp=sharing | M7: REGISTRO | N7: ITT-POE-03-02 REGISTRO DE SOLICITANTES
C8: ACTA DE RESULTADOS DE EXAMEN DE OPOSICIÓN | D8: ='Configuración'!$A$2 -> ITT | E8: T | F8: AD | G8: =IF(B8="",G7,G7+1) -> 2 | H8: RG | I8: 3 | J8: =CONCATENATE(D8,"-",E8,"-",F8,"-",TEXT(G8,"0#"),"-",H8,"-",TEXT(I8,"0#")) -> ITT-T-AD-02-RG-03 | K8: =J8&"-"&C8 -> ITT-T-AD-02-RG-03-ACTA DE RESULTADOS DE EXAMEN DE OPOSICIÓN | L8: https://docs.google.com/document/d/1JmLIrV-2XpyUQwJZvqLVbtaWyJkoXipDAXyTsVsI_kA/edit?usp=sharing | M8: REGISTRO | N8: ITT- POE-03-03 ACTA DE RESULTADOS DE EXAMEN DE OPOSICIÓN
C9: DICTAMEN | D9: ='Configuración'!$A$2 -> ITT | E9: T | F9: AD | G9: =IF(B9="",G8,G8+1) -> 2 | H9: RG | I9: 4 | J9: =CONCATENATE(D9,"-",E9,"-",F9,"-",TEXT(G9,"0#"),"-",H9,"-",TEXT(I9,"0#")) -> ITT-T-AD-02-RG-04 | K9: =J9&"-"&C9 -> ITT-T-AD-02-RG-04-DICTAMEN | L9: https://docs.google.com/document/d/1SQg4FEA5TJAnRILQ8teNWbUmLGG0T9DuWK7dErvhbe8/edit?usp=sharing | M9: REGISTRO | N9: ITT- POE-03-04 DICTAMEN
A10: Proceso de Administración de Recursos | B10: CAPACITACIÓN DE PERSONAL DOCENTE | C10: CAPACITACIÓN DE PERSONAL DOCENTE | D10: ='Configuración'!$A$2 -> ITT | E10: T | F10: AD | G10: =IF(B10="",G9,G9+1) -> 3 | H10: PR | I10: 1 | J10: =CONCATENATE(D10,"-",E10,"-",F10,"-",TEXT(G10,"0#"),"-",H10,"-",TEXT(I10,"0#")) -> ITT-T-AD-03-PR-01 | K10: =J10&"-"&C10 -> ITT-T-AD-03-PR-01-CAPACITACIÓN DE PERSONAL DOCENTE | L10: https://docs.google.com/document/d/1AmYxTUwHP9iO-YITOu6Se5E4bzw-cuaZ/edit?usp=drive_link&ouid=112467577828699602815&rtpof=true&sd=true | M10: PROCEDIMIENTO | N10: ITT-POE-05 - PROCEDIMIENTO PARA CAPACITACIÓN DE PERSONAL DOCENTE
C11: MATRIZ DE ANÁLISIS DE RIESGO | D11: ='Configuración'!$A$2 -> ITT | E11: T | F11: AD | G11: =IF(B11="",G10,G10+1) -> 3 | H11: AN | I11: 1 | J11: =CONCATENATE(D11,"-",E11,"-",F11,"-",TEXT(G11,"0#"),"-",H11,"-",TEXT(I11,"0#")) -> ITT-T-AD-03-AN-01 | K11: =J11&"-"&C11 -> ITT-T-AD-03-AN-01-MATRIZ DE ANÁLISIS DE RIESGO | L11: https://docs.google.com/spreadsheets/d/1I028he5QvrwvJIvnIREGsOxDfDGkg5b3/edit?usp=drive_link&ouid=112467577828699602815&rtpof=true&sd=true | M11: ANEXO | N11: ITT-POE-05 MATRÍZ DE RIESGOS Y OPORTUNIDADES PARA CAPACITACIÓN DOCENTE
C12: DIAGNÓSTICO Y CONCENTRADO DE NECESIDADES DE FORMACIÓN Y ACTUALIZACIÓN DOCENTE Y PROFESIONAL | D12: ='Configuración'!$A$2 -> ITT | E12: T | F12: AD | G12: =IF(B12="",G11,G11+1) -> 3 | H12: RG | I12: 1 | J12: =CONCATENATE(D12,"-",E12,"-",F12,"-",TEXT(G12,"0#"),"-",H12,"-",TEXT(I12,"0#")) -> ITT-T-AD-03-RG-01 | K12: =J12&"-"&C12 -> ITT-T-AD-03-RG-01-DIAGNÓSTICO Y CONCENTRADO DE NECESIDADES DE FORMACIÓN Y ACTUALIZACIÓN DOCENTE Y PROFESIONAL | L12: https://docs.google.com/document/d/1OW1ZrdXWzh3rs1xA1qLBCzHB23kVA-Xl_DPE6N8T0LM/edit?usp=sharing | M12: REGISTRO | N12: ITT-POE-05-01 DIAGNÓSTICO Y CONCENTRADO DE NECESIDADES DE FORMACIÓN Y ACTUALIZACIÓN DOCENTE Y PROFESIONAL
C13: PROGRAMA INSTITUCIONAL DE FORMACIÓN Y ACTUALIZACIÓN DOCENTE Y PROFESIONAL | D13: ='Configuración'!$A$2 -> ITT | E13: T | F13: AD | G13: =IF(B13="",G12,G12+1) -> 3 | H13: RG | I13: 2 | J13: =CONCATENATE(D13,"-",E13,"-",F13,"-",TEXT(G13,"0#"),"-",H13,"-",TEXT(I13,"0#")) -> ITT-T-AD-03-RG-02 | K13: =J13&"-"&C13 -> ITT-T-AD-03-RG-02-PROGRAMA INSTITUCIONAL DE FORMACIÓN Y ACTUALIZACIÓN DOCENTE Y PROFESIONAL | L13: https://docs.google.com/document/d/1DoJ4tgvkvgPAn6dSd0islC29AJAyXKnNbH0fgQMQXzA/edit?usp=sharing | M13: REGISTRO | N13: ITT-POE-05-02 PROGRAMA INSTITUCIONAL DE FORMACIÓN Y ACTUALIZACIÓN DOCENTE Y PROFESIONAL
C14: LISTA DE ASISTENCIA | D14: ='Configuración'!$A$2 -> ITT | E14: T | F14: AD | G14: =IF(B14="",G13,G13+1) -> 3 | H14: RG | I14: 3 | J14: =CONCATENATE(D14,"-",E14,"-",F14,"-",TEXT(G14,"0#"),"-",H14,"-",TEXT(I14,"0#")) -> ITT-T-AD-03-RG-03 | K14: =J14&"-"&C14 -> ITT-T-AD-03-RG-03-LISTA DE ASISTENCIA | L14: https://docs.google.com/document/d/1wXKpCzXUskL-gaDDI3Y_LnG6uEd59PB8ew7kj5123t0/edit?usp=sharing | M14: REGISTRO | N14: ITT-POE-05-03 LISTA DE ASISTENCIA
C15: CÉDULA DE INSCRIPCIÓN | D15: ='Configuración'!$A$2 -> ITT | E15: T | F15: AD | G15: =IF(B15="",G14,G14+1) -> 3 | H15: RG | I15: 4 | J15: =CONCATENATE(D15,"-",E15,"-",F15,"-",TEXT(G15,"0#"),"-",H15,"-",TEXT(I15,"0#")) -> ITT-T-AD-03-RG-04 | K15: =J15&"-"&C15 -> ITT-T-AD-03-RG-04-CÉDULA DE INSCRIPCIÓN | L15: https://docs.google.com/document/d/1I7eCJYIFHThHjBYK2AcpBjR3YkvdWqABbiNfpSKwGho/edit?usp=sharing | M15: REGISTRO | N15: ITT-POE-05-04 CÉDULA DE INSCRIPCIÓN
C16: LISTA DE ACREDITACIÓN | D16: ='Configuración'!$A$2 -> ITT | E16: T | F16: AD | G16: =IF(B16="",G15,G15+1) -> 3 | H16: RG | I16: 5 | J16: =CONCATENATE(D16,"-",E16,"-",F16,"-",TEXT(G16,"0#"),"-",H16,"-",TEXT(I16,"0#")) -> ITT-T-AD-03-RG-05 | K16: =J16&"-"&C16 -> ITT-T-AD-03-RG-05-LISTA DE ACREDITACIÓN | L16: https://docs.google.com/document/d/1zQGvkx4QZ0wvkPHFOSDaEBPDTBwD0SuoKrUR9TyFPTw/edit?usp=sharing | M16: REGISTRO | N16: ITT-POE-05-05 LISTA DE ACREDITACIÓN
C17: ENCUESTA DE SATISFACCIÓN PARA PARTICIPANTES INSCRITOS | D17: ='Configuración'!$A$2 -> ITT | E17: T | F17: AD | G17: =IF(B17="",G16,G16+1) -> 3 | H17: RG | I17: 6 | J17: =CONCATENATE(D17,"-",E17,"-",F17,"-",TEXT(G17,"0#"),"-",H17,"-",TEXT(I17,"0#")) -> ITT-T-AD-03-RG-06 | K17: =J17&"-"&C17 -> ITT-T-AD-03-RG-06-ENCUESTA DE SATISFACCIÓN PARA PARTICIPANTES INSCRITOS | L17: https://docs.google.com/document/d/1M0Y2B8S01-XQC6M_M3V8cQQxioyf_tw3tw4yjLG-Zec/edit?usp=sharing | M17: REGISTRO | N17: ITT-POE-05-06 ENCUESTA DE SATISFACCIÓN PARA PARTICIPANTES INSCRITOS
C18: ENCUESTA DE EFICACIA CAPACITACIÓN DOCENTE AL JEFE ACADÉMICO | D18: ='Configuración'!$A$2 -> ITT | E18: T | F18: AD | G18: =IF(B18="",G17,G17+1) -> 3 | H18: RG | I18: 7 | J18: =CONCATENATE(D18,"-",E18,"-",F18,"-",TEXT(G18,"0#"),"-",H18,"-",TEXT(I18,"0#")) -> ITT-T-AD-03-RG-07 | K18: =J18&"-"&C18 -> ITT-T-AD-03-RG-07-ENCUESTA DE EFICACIA CAPACITACIÓN DOCENTE AL JEFE ACADÉMICO | L18: https://docs.google.com/document/d/1socOlLWDuVkUaq4dHOlHrswBc4WkHHPWYZc7SGlLFKM/edit?usp=sharing | M18: REGISTRO | N18: ITT-POE-05-07 ENCUESTA DE EFICACIA CAPACITACIÓN DOCENTE AL JEFE ACADÉMICO
C19: ENCUESTA DE EFICACIA CAPACITACIÓN DOCENTE AL PARTICIPANTE | D19: ='Configuración'!$A$2 -> ITT | E19: T | F19: AD | G19: =IF(B19="",G18,G18+1) -> 3 | H19: RG | I19: 8 | J19: =CONCATENATE(D19,"-",E19,"-",F19,"-",TEXT(G19,"0#"),"-",H19,"-",TEXT(I19,"0#")) -> ITT-T-AD-03-RG-08 | K19: =J19&"-"&C19 -> ITT-T-AD-03-RG-08-ENCUESTA DE EFICACIA CAPACITACIÓN DOCENTE AL PARTICIPANTE | L19: https://docs.google.com/document/d/1iLbSXRl19pbilmjfdwNcGmjgshZkDd35jeuHbmNDlgo/edit?usp=sharing | M19: REGISTRO | N19: ITT-POE-05-08 ENCUESTA DE EFICACIA CAPACITACIÓN DOCENTE AL PARTICIPANTE
A20: Proceso de Administración de Recursos | B20: MANTENIMIENTO DE INFRAESTRUCTURA | C20: MANTENIMIENTO DE INFRAESTRUCTURA | D20: ='Configuración'!$A$2 -> ITT | E20: T | F20: AD | G20: =IF(B20="",G19,G19+1) -> 4 | H20: PR | I20: 1 | J20: =CONCATENATE(D20,"-",E20,"-",F20,"-",TEXT(G20,"0#"),"-",H20,"-",TEXT(I20,"0#")) -> ITT-T-AD-04-PR-01 | K20: =J20&"-"&C20 -> ITT-T-AD-04-PR-01-MANTENIMIENTO DE INFRAESTRUCTURA | L20: https://docs.google.com/document/d/1omMFdvjEqXiJtGeWTCx1_UlbQMJ9Ph16IQ3CWmuYRuw/edit?usp=drive_link | M20: PROCEDIMIENTO | N20: ITT-POE-06 PROCEDIMIENTO DE MANTENIMIENTO DE INFRAESTRUCTURA
C21: MATRIZ DE ANÁLISIS DE RIESGO | D21: ='Configuración'!$A$2 -> ITT | E21: T | F21: AD | G21: =IF(B21="",G20,G20+1) -> 4 | H21: AN | I21: 1 | J21: =CONCATENATE(D21,"-",E21,"-",F21,"-",TEXT(G21,"0#"),"-",H21,"-",TEXT(I21,"0#")) -> ITT-T-AD-04-AN-01 | K21: =J21&"-"&C21 -> ITT-T-AD-04-AN-01-MATRIZ DE ANÁLISIS DE RIESGO | L21: https://docs.google.com/spreadsheets/d/1VFNyeIp9GRX8Bxk5UyWDSjy8P3O2DIqY/edit?usp=drive_link&ouid=112467577828699602815&rtpof=true&sd=true | M21: ANEXO | N21: ITT-POE-06 MATRÍZ DE RIESGO
C22: LISTA DE VERIFICACIÓN | D22: ='Configuración'!$A$2 -> ITT | E22: T | F22: AD | G22: =IF(B22="",G21,G21+1) -> 4 | H22: RG | I22: 1 | J22: =CONCATENATE(D22,"-",E22,"-",F22,"-",TEXT(G22,"0#"),"-",H22,"-",TEXT(I22,"0#")) -> ITT-T-AD-04-RG-01 | K22: =J22&"-"&C22 -> ITT-T-AD-04-RG-01-LISTA DE VERIFICACIÓN | L22: https://docs.google.com/document/d/1CAiCTpjFRIvfslfaMV0nK1DJL_rToPkOxUrmjJR-noc/edit?usp=sharing | M22: REGISTRO | N22: ITT-POE-06-01 LISTA DE VERIFICACIÓN
C23: SOLICITUD DE MANTENIMIENTO CORRECTIVO | D23: ='Configuración'!$A$2 -> ITT | E23: T | F23: AD | G23: =IF(B23="",G22,G22+1) -> 4 | H23: RG | I23: 2 | J23: =CONCATENATE(D23,"-",E23,"-",F23,"-",TEXT(G23,"0#"),"-",H23,"-",TEXT(I23,"0#")) -> ITT-T-AD-04-RG-02 | K23: =J23&"-"&C23 -> ITT-T-AD-04-RG-02-SOLICITUD DE MANTENIMIENTO CORRECTIVO | L23: https://docs.google.com/document/d/14LF5Lzz032c3TtlVcjb-xWtPxtzEw5C4u7VdhC4lHqc/edit?usp=sharing | M23: REGISTRO | N23: ITT-POE-06-02 SOLICITUD DE MANTENIMIENTO CORRECTIVO
C24: PROGRAMA DE MANTENIMIENTO PREVENTIVO | D24: ='Configuración'!$A$2 -> ITT | E24: T | F24: AD | G24: =IF(B24="",G23,G23+1) -> 4 | H24: RG | I24: 3 | J24: =CONCATENATE(D24,"-",E24,"-",F24,"-",TEXT(G24,"0#"),"-",H24,"-",TEXT(I24,"0#")) -> ITT-T-AD-04-RG-03 | K24: =J24&"-"&C24 -> ITT-T-AD-04-RG-03-PROGRAMA DE MANTENIMIENTO PREVENTIVO | L24: https://docs.google.com/document/d/1au-S3pjliBxGnAsaZBQvSMGQi1Fi8FM269QEJ42-BDQ/edit?usp=sharing | M24: REGISTRO | N24: ITT-POE-06-03 PROGRAMA DE MANTENIMIENTO PREVENTIVO
C25: ORDEN DE TRABAJO DE MANTENIMIENTO | D25: ='Configuración'!$A$2 -> ITT | E25: T | F25: AD | G25: =IF(B25="",G24,G24+1) -> 4 | H25: RG | I25: 4 | J25: =CONCATENATE(D25,"-",E25,"-",F25,"-",TEXT(G25,"0#"),"-",H25,"-",TEXT(I25,"0#")) -> ITT-T-AD-04-RG-04 | K25: =J25&"-"&C25 -> ITT-T-AD-04-RG-04-ORDEN DE TRABAJO DE MANTENIMIENTO | L25: https://docs.google.com/document/d/1hLU0_ztEwX1HDRaQOFNNkUEP-hJ0wXAu_0BpAcx45c8/edit?usp=sharing | M25: REGISTRO | N25: ITT-POE-06-04 ORDEN DE TRABAJO DE MANTENIMIENTO
A26: Proceso de Administración de Recursos | B26: REALIZACIÓN DE COMPRAS DIRECTAS | C26: REALIZACIÓN DE COMPRAS DIRECTAS | D26: ='Configuración'!$A$2 -> ITT | E26: T | F26: AD | G26: =IF(B26="",G25,G25+1) -> 5 | H26: IT | I26: 1 | J26: =CONCATENATE(D26,"-",E26,"-",F26,"-",TEXT(G26,"0#"),"-",H26,"-",TEXT(I26,"0#")) -> ITT-T-AD-05-IT-01 | K26: =J26&"-"&C26 -> ITT-T-AD-05-IT-01-REALIZACIÓN DE COMPRAS DIRECTAS | L26: https://drive.google.com/file/d/1f4OoXoadv0wAVESfGWQbEPVquT7YsV0e/view?usp=drive_link | M26: PROCEDIMIENTO | N26: ITT-ITC-IT-01 INSTRUCTIVO DE TRABAJO PARA LA REALIZACIÓN DE COMPRAS DIRECTAS
C27: FORMATO PARA SELECCIÓN DE PROVEEDORES | D27: ='Configuración'!$A$2 -> ITT | E27: T | F27: AD | G27: =IF(B27="",G26,G26+1) -> 5 | H27: RG | I27: 1 | J27: =CONCATENATE(D27,"-",E27,"-",F27,"-",TEXT(G27,"0#"),"-",H27,"-",TEXT(I27,"0#")) -> ITT-T-AD-05-RG-01 | K27: =J27&"-"&C27 -> ITT-T-AD-05-RG-01-FORMATO PARA SELECCIÓN DE PROVEEDORES | L27: https://docs.google.com/document/d/1dgqqernIDU1YTrUfw84WVbUxlx_u7t557RWlLqAiRo0/edit?usp=sharing | M27: REGISTRO | N27: ITT-ITC-FO-01 FORMATO PARA SELECCIÓN DE PROVEEDORES
C28: FORMATO PARA EVALUACIÓN DE PROVEEDORES | D28: ='Configuración'!$A$2 -> ITT | E28: T | F28: AD | G28: =IF(B28="",G27,G27+1) -> 5 | H28: RG | I28: 2 | J28: =CONCATENATE(D28,"-",E28,"-",F28,"-",TEXT(G28,"0#"),"-",H28,"-",TEXT(I28,"0#")) -> ITT-T-AD-05-RG-02 | K28: =J28&"-"&C28 -> ITT-T-AD-05-RG-02-FORMATO PARA EVALUACIÓN DE PROVEEDORES | L28: https://docs.google.com/document/d/1TroHoFaEyHBUp2qZhTrFGnSHnQ2elOfknnSqnybNqzA/edit?usp=sharing | M28: REGISTRO | N28: ITT-ITC-FO-02 FORMATO PARA EVALUACIÓN DE PROVEEDORES
C29: FORMATO PARA REQUISICIÓN DE BIENES Y SERVICIOS | D29: ='Configuración'!$A$2 -> ITT | E29: T | F29: AD | G29: =IF(B29="",G28,G28+1) -> 5 | H29: RG | I29: 3 | J29: =CONCATENATE(D29,"-",E29,"-",F29,"-",TEXT(G29,"0#"),"-",H29,"-",TEXT(I29,"0#")) -> ITT-T-AD-05-RG-03 | K29: =J29&"-"&C29 -> ITT-T-AD-05-RG-03-FORMATO PARA REQUISICIÓN DE BIENES Y SERVICIOS | L29: https://docs.google.com/document/d/1zdrGZ8eNXHQxeeo32Ayds124pRrNOrQR9wvz4w748mk/edit?usp=sharing | M29: REGISTRO | N29: ITT-ITC-FO-03 FORMATO PARA REQUISICIÓN DE BIENES Y SERVICIOS
C30: FORMATO PARA CATALOGO PROVEEDORES APROBADOS | D30: ='Configuración'!$A$2 -> ITT | E30: T | F30: AD | G30: =IF(B30="",G29,G29+1) -> 5 | H30: RG | I30: 4 | J30: =CONCATENATE(D30,"-",E30,"-",F30,"-",TEXT(G30,"0#"),"-",H30,"-",TEXT(I30,"0#")) -> ITT-T-AD-05-RG-04 | K30: =J30&"-"&C30 -> ITT-T-AD-05-RG-04-FORMATO PARA CATALOGO PROVEEDORES APROBADOS | L30: https://docs.google.com/document/d/1rf0tVEWpTZDI_MoMdTPbbiQt3ZlI89jThN5dR0nR9Gk/edit?usp=sharing | M30: REGISTRO | N30: ITT-ITC-FO-04 FORMATO PARA CATALOGO PROVEEDORES APROBADOS
A31: Proceso de Administración de Recursos | B31: DESARROLLO DE PROYECTO INDIVIDUAL | C31: DESARROLLO DE PROYECTO INDIVIDUAL | D31: ='Configuración'!$A$2 -> ITT | E31: T | F31: AD | G31: =IF(B31="",G30,G30+1) -> 6 | H31: IT | I31: 1 | J31: =CONCATENATE(D31,"-",E31,"-",F31,"-",TEXT(G31,"0#"),"-",H31,"-",TEXT(I31,"0#")) -> ITT-T-AD-06-IT-01 | K31: =J31&"-"&C31 -> ITT-T-AD-06-IT-01-DESARROLLO DE PROYECTO INDIVIDUAL | L31: https://docs.google.com/document/d/1puSvuDWh-Y6wUp1x9tpKY8lEJVM0cqkg7M5BTbfyziQ/edit?usp=sharing | M31: PROCEDIMIENTO | N31: ITT-POC-10 PROCEDIMIENTO PARA DESARROLLO DE PROYECTO INDIVIDUAL
C32: MATRIZ DE ANÁLISIS DE RIESGO | D32: ='Configuración'!$A$2 -> ITT | E32: T | F32: AD | G32: =IF(B32="",G31,G31+1) -> 6 | H32: AN | I32: 1 | J32: =CONCATENATE(D32,"-",E32,"-",F32,"-",TEXT(G32,"0#"),"-",H32,"-",TEXT(I32,"0#")) -> ITT-T-AD-06-AN-01 | K32: =J32&"-"&C32 -> ITT-T-AD-06-AN-01-MATRIZ DE ANÁLISIS DE RIESGO | M32: ANEXO
C33: REPORTE DEL PROYECTO INDIVIDUAL DEL DOCENTE | D33: ='Configuración'!$A$2 -> ITT | E33: T | F33: AD | G33: =IF(B33="",G32,G32+1) -> 6 | H33: RG | I33: 2 | J33: =CONCATENATE(D33,"-",E33,"-",F33,"-",TEXT(G33,"0#"),"-",H33,"-",TEXT(I33,"0#")) -> ITT-T-AD-06-RG-02 | K33: =J33&"-"&C33 -> ITT-T-AD-06-RG-02-REPORTE DEL PROYECTO INDIVIDUAL DEL DOCENTE | L33: https://docs.google.com/document/d/1_nV8z6RJ2RuEAKpiLuRvcI7O0ouwYVYUSwnYSo3uS5k/edit?usp=sharing | M33: REGISTRO | N33: ITT-POC-10-01 REPORTE DEL PROYECTO INDIVIDUAL DEL DOCENTE
A34: Proceso Académico | B34: INSCRIPCIÓN DEL ESTUDIANTE | C34: INSCRIPCIÓN DEL ESTUDIANTE | D34: ='Configuración'!$A$2 -> ITT | E34: L | F34: AC | G34: =IF(B34="",G33,G33+1) -> 7 | H34: PR | I34: 1 | J34: =CONCATENATE(D34,"-",E34,"-",F34,"-",TEXT(G34,"0#"),"-",H34,"-",TEXT(I34,"0#")) -> ITT-L-AC-07-PR-01 | K34: =J34&"-"&C34 -> ITT-L-AC-07-PR-01-INSCRIPCIÓN DEL ESTUDIANTE | L34: https://docs.google.com/document/d/13Zea0lZnhU6e-GXe4XJDtOdX1oPzQKTJ/edit?usp=drive_link&ouid=112467577828699602815&rtpof=true&sd=true | M34: PROCEDIMIENTO | N34: ITT-POE-01 - INSCRIPCIÓN DEL ESTUDIANTE
C35: MATRIZ DE ANÁLISIS DE RIESGO | D35: ='Configuración'!$A$2 -> ITT | E35: L | F35: AC | G35: =IF(B35="",G34,G34+1) -> 7 | H35: AN | I35: 1 | J35: =CONCATENATE(D35,"-",E35,"-",F35,"-",TEXT(G35,"0#"),"-",H35,"-",TEXT(I35,"0#")) -> ITT-L-AC-07-AN-01 | K35: =J35&"-"&C35 -> ITT-L-AC-07-AN-01-MATRIZ DE ANÁLISIS DE RIESGO | L35: https://docs.google.com/spreadsheets/d/10vJYrsmNzITkypqiNGck-Uw2_kmGcI9u/edit?usp=drive_link&ouid=112467577828699602815&rtpof=true&sd=true | M35: ANEXO | N35: ITT-POE-01 - MATRÍZ DE RIESGO - PROCESO DE INSCRIPCIÓN
C36: CARTA DE ACEPTACIÓN | D36: ='Configuración'!$A$2 -> ITT | E36: L | F36: AC | G36: =IF(B36="",G35,G35+1) -> 7 | H36: RG | I36: 1 | J36: =CONCATENATE(D36,"-",E36,"-",F36,"-",TEXT(G36,"0#"),"-",H36,"-",TEXT(I36,"0#")) -> ITT-L-AC-07-RG-01 | K36: =J36&"-"&C36 -> ITT-L-AC-07-RG-01-CARTA DE ACEPTACIÓN | L36: https://docs.google.com/document/d/1X-ogTZiJgzPXtr5YAtxNeM3L6nyJyG15db-Ramm0xZE/edit?usp=sharing | M36: REGISTRO | N36: ITT-POE-01-01 - CARTA DE ACEPTACIÓN
C37: SOLICITUD DE INSCRIPCIÓN | D37: ='Configuración'!$A$2 -> ITT | E37: L | F37: AC | G37: =IF(B37="",G36,G36+1) -> 7 | H37: RG | I37: 2 | J37: =CONCATENATE(D37,"-",E37,"-",F37,"-",TEXT(G37,"0#"),"-",H37,"-",TEXT(I37,"0#")) -> ITT-L-AC-07-RG-02 | K37: =J37&"-"&C37 -> ITT-L-AC-07-RG-02-SOLICITUD DE INSCRIPCIÓN | L37: https://docs.google.com/document/d/1yRErR159eYUhp7XPkDGhiBZ369Rrdj2NA6XitB4iAD0/edit?usp=drive_link | M37: REGISTRO | N37: ITT-POE-01-02 - SOLICITUD DE INSCRIPCIÓN
C38: CONTRATO CON EL ALUMNO | D38: ='Configuración'!$A$2 -> ITT | E38: L | F38: AC | G38: =IF(B38="",G37,G37+1) -> 7 | H38: RG | I38: 3 | J38: =CONCATENATE(D38,"-",E38,"-",F38,"-",TEXT(G38,"0#"),"-",H38,"-",TEXT(I38,"0#")) -> ITT-L-AC-07-RG-03 | K38: =J38&"-"&C38 -> ITT-L-AC-07-RG-03-CONTRATO CON EL ALUMNO | L38: https://docs.google.com/document/d/1DAKnhYRV99Ag1qI-w-M_Nem1o2FCrTFtT_L6QGM-zgw/edit?usp=sharing | M38: REGISTRO | N38: ITT-POE-01-03 - CONTRATO CON EL ALUMNO
C39: LIBRO DE REGISTRO DE NÚMEROS DE CONTROL | D39: ='Configuración'!$A$2 -> ITT | E39: L | F39: AC | G39: =IF(B39="",G38,G38+1) -> 7 | H39: RG | I39: 4 | J39: =CONCATENATE(D39,"-",E39,"-",F39,"-",TEXT(G39,"0#"),"-",H39,"-",TEXT(I39,"0#")) -> ITT-L-AC-07-RG-04 | K39: =J39&"-"&C39 -> ITT-L-AC-07-RG-04-LIBRO DE REGISTRO DE NÚMEROS DE CONTROL | L39: https://docs.google.com/document/d/1uzcFOZI82UWsnR2qBz_JBr80ea_CmsAMTEDgIiGD4Ag/edit?usp=sharing | M39: REGISTRO | N39: ITT-POE-01-04 - LIBRO DE REGISTRO DE NÚMEROS DE CONTROL
A40: Proceso Académico | B40: INGRESO DE ESTUDIANTES DE POSGRADO | C40: INGRESO DE ESTUDIANTES DE POSGRADO | D40: ='Configuración'!$A$2 -> ITT | E40: P | F40: AC | G40: =IF(B40="",G39,G39+1) -> 8 | H40: PR | I40: 2 | J40: =CONCATENATE(D40,"-",E40,"-",F40,"-",TEXT(G40,"0#"),"-",H40,"-",TEXT(I40,"0#")) -> ITT-P-AC-08-PR-02 | K40: =J40&"-"&C40 -> ITT-P-AC-08-PR-02-INGRESO DE ESTUDIANTES DE POSGRADO | L40: https://docs.google.com/document/d/1gnuUh6198XPeQGlmfZVXLTTiRHUdTmu0/edit?usp=drive_link&ouid=112467577828699602815&rtpof=true&sd=true | M40: PROCEDIMIENTO
...

Sheet Hoja 5
B7: No. | C7: PROCESOS | D7: No, | E7: SUBPROCESOS
B8: 1 | C8: Proceso de Planeación | D8: 1 | E8: PROGRAMACIÓN Y PRESUPUESTACIÓN DE ACTIVIDADES | G8: Proceso de Planeación | H8: PROGRAMACIÓN Y PRESUPUESTACIÓN DE ACTIVIDADES
B9: 2 | C9: Proceso de Administración de Recursos | D9: 2 | E9: RECLUTAMIENTO, SELECCIÓN Y CONTRATACIÓN DE PERSONAL | G9: Proceso de Administración de Recursos | H9: RECLUTAMIENTO, SELECCIÓN Y CONTRATACIÓN DE PERSONAL
D10: 3 | E10: CAPACITACIÓN DE PERSONAL DOCENTE | G10: Proceso de Administración de Recursos | H10: CAPACITACIÓN DE PERSONAL DOCENTE
D11: 4 | E11: MANTENIMIENTO DE INFRAESTRUCTURA | G11: Proceso de Administración de Recursos | H11: MANTENIMIENTO DE INFRAESTRUCTURA
D12: 5 | E12: REALIZACIÓN DE COMPRAS DIRECTAS | G12: Proceso de Administración de Recursos | H12: REALIZACIÓN DE COMPRAS DIRECTAS
D13: 6 | E13: DESARROLLO DE PROYECTO INDIVIDUAL | G13: Proceso de Administración de Recursos | H13: DESARROLLO DE PROYECTO INDIVIDUAL
B14: 3 | C14: Proceso Académico | D14: 7 | E14: INSCRIPCIÓN DEL ESTUDIANTE | G14: Proceso Académico | H14: INSCRIPCIÓN DEL ESTUDIANTE
D15: 8 | E15: INGRESO DE ESTUDIANTES DE POSGRADO | H15: INGRESO DE ESTUDIANTES DE POSGRADO
D16: 9 | E16: REINSCRIPCIÓN DEL ESTUDIANTE | G16: Proceso Académico | H16: REINSCRIPCIÓN DEL ESTUDIANTE
D17: 10 | E17: SEGUIMIENTO ACADÉMICO A ESTUDIANTES DE MAESTRÍA | H17: SEGUIMIENTO ACADÉMICO A ESTUDIANTES DE MAESTRÍA
D18: 11 | E18: SEGUIMIENTO ACADÉMICO A ESTUDIANTES DE DOCTORADO | H18: SEGUIMIENTO ACADÉMICO A ESTUDIANTES DE DOCTORADO
D19: 12 | E19: GESTIÓN DEL CURSO | G19: Proceso Académico | H19: GESTIÓN DEL CURSO
D20: 13 | E20: TUTORÍA | G20: Proceso Académico | H20: TUTORÍA
D21: 14 | E21: ADMINISTRACIÓN Y DESARROLLO DE PROYECTOS | G21: Proceso Académico | H21: Administración y desarrollo de proyectos
D22: 15 | E22: ASESORIA ACADEMICA | G22: Proceso Académico | H22: ASESORIA ACADEMICA
D23: 16 | E23: PRESENTACIÓN DE PREDOCTORAL | G23: Proceso Académico | H23: Presentación de predoctoral
D24: 17 | E24: CAMBIO DE DIRECTOR DE TESIS | G24: Proceso Académico | H24: Cambio de Director de Tesis
B25: 4 | C25: Proceso de Vinculación | D25: 18 | E25: SERVICIO SOCIAL | G25: Proceso de Vinculación | H25: SERVICIO SOCIAL
D26: 19 | E26: SEGUIMIENTO DE EGRESADOS | G26: Proceso de Vinculación | H26: Seguimiento de Egresados
B27: 5 | C27: Proceso Académico/Vinculación | D27: 20 | E27: RESIDENCIA PROFESIONAL | G27: Proceso Académico/Vinculación | H27: RESIDENCIA PROFESIONAL
D28: 21 | E28: MOVILIDAD DE POSGRADO | G28: Proceso Académico/Vinculación | H28: Movilidad de posgrado
B29: 6 | C29: Proceso de Certificación Académica y Titulación | D29: 22 | E29: VALIDACIÓN SEGUNDA LENGUA | G29: Proceso de Certificación Académica y Titulación | H29: VALIDACIÓN SEGUNDA LENGUA
D30: 23 | E30: GENERAR CERTIFICADO | G30: Proceso de Certificación Académica y Titulación | H30: GENERAR CERTIFICADO
D31: 24 | E31: ACTO DE RECEPCIÓN | G31: Proceso de Certificación Académica y Titulación | H31: ACTO DE RECEPCIÓN
D32: 25 | E32: GESTIÓN DE TÍTULO | G32: Proceso de Certificación Académica y Titulación | H32: GESTIÓN DE TÍTULO
D33: 26 | E33: PROGRAMACIÓN ACTO RECEPCIONAL Y OBTENCIÓN DE GRADO | G33: Proceso de Certificación Académica y Titulación | H33: Programación acto recepcional y obtención de grado
B34: 7 | C34: Proceso de Calidad | D34: 27 | E34: PROCEDIMIENTO PARA LA ELABORACIÓN DE PROCEDIMIENTOS | G34: Proceso de Calidad | H34: PROCEDIMIENTO PARA LA ELABORACIÓN DE PROCEDIMIENTOS
D35: 28 | E35: ENCUESTA DE SATISFACCIÓN | G35: Proceso de Calidad | H35: ENCUESTA DE SATISFACCIÓN
